BEGIN:VCALENDAR
VERSION:2.0
PRODID:-//Flemington DIY - ECPv6.15.20//NONSGML v1.0//EN
CALSCALE:GREGORIAN
METHOD:PUBLISH
X-ORIGINAL-URL:https://www.flemingtondiy.org
X-WR-CALDESC:Events for Flemington DIY
REFRESH-INTERVAL;VALUE=DURATION:PT1H
X-Robots-Tag:noindex
X-PUBLISHED-TTL:PT1H
BEGIN:VTIMEZONE
TZID:America/New_York
BEGIN:DAYLIGHT
TZOFFSETFROM:-0500
TZOFFSETTO:-0400
TZNAME:EDT
DTSTART:20250309T070000
END:DAYLIGHT
BEGIN:STANDARD
TZOFFSETFROM:-0400
TZOFFSETTO:-0500
TZNAME:EST
DTSTART:20251102T060000
END:STANDARD
BEGIN:DAYLIGHT
TZOFFSETFROM:-0500
TZOFFSETTO:-0400
TZNAME:EDT
DTSTART:20260308T070000
END:DAYLIGHT
BEGIN:STANDARD
TZOFFSETFROM:-0400
TZOFFSETTO:-0500
TZNAME:EST
DTSTART:20261101T060000
END:STANDARD
BEGIN:DAYLIGHT
TZOFFSETFROM:-0500
TZOFFSETTO:-0400
TZNAME:EDT
DTSTART:20270314T070000
END:DAYLIGHT
BEGIN:STANDARD
TZOFFSETFROM:-0400
TZOFFSETTO:-0500
TZNAME:EST
DTSTART:20271107T060000
END:STANDARD
END:VTIMEZONE
BEGIN:VEVENT
DTSTART;VALUE=DATE:20260601
DTEND;VALUE=DATE:20260701
DTSTAMP:20260423T212851
CREATED:20250417T233547Z
LAST-MODIFIED:20260423T234919Z
UID:10003148-1780272000-1782863999@www.flemingtondiy.org
SUMMARY:Art Show - Bethany Altschwager
DESCRIPTION:
URL:https://www.flemingtondiy.org/event/art-show-bethany-altschwager/
END:VEVENT
BEGIN:VEVENT
DTSTART;TZID=America/New_York:20260612T183000
DTEND;TZID=America/New_York:20260612T220000
DTSTAMP:20260423T212851
CREATED:20260414T234256Z
LAST-MODIFIED:20260423T234918Z
UID:10004171-1781289000-1781301600@www.flemingtondiy.org
SUMMARY:Live Music - Hardcore
DESCRIPTION:Red Brick (hardcore/sludge)Teddy Grump (hardcore)Midheaven (rock/metal)SKIVES (crust punk) \n$10Doors @ 6:30All agesNo drugs/no alcohol \n100% of $$ goes to AFSPhttps://www.gofundme.com/f/safer-pride-initiative?attribution_id=sl:581238e2-1f9a-416f-adcb-c83a86969c26&lang=en_US&ts=1773922716&utm_campaign=man_sharesheet_dash&utm_content=amp17_te-amp20_control&utm_medium=customer&utm_source=copy_link
URL:https://www.flemingtondiy.org/event/live-music-hardcore-3/
END:VEVENT
END:VCALENDAR