BEGIN:VCALENDAR
VERSION:2.0
PRODID:-//Flemington DIY - ECPv6.15.20//NONSGML v1.0//EN
CALSCALE:GREGORIAN
METHOD:PUBLISH
X-ORIGINAL-URL:https://www.flemingtondiy.org
X-WR-CALDESC:Events for Flemington DIY
REFRESH-INTERVAL;VALUE=DURATION:PT1H
X-Robots-Tag:noindex
X-PUBLISHED-TTL:PT1H
BEGIN:VTIMEZONE
TZID:America/New_York
BEGIN:DAYLIGHT
TZOFFSETFROM:-0500
TZOFFSETTO:-0400
TZNAME:EDT
DTSTART:20250309T070000
END:DAYLIGHT
BEGIN:STANDARD
TZOFFSETFROM:-0400
TZOFFSETTO:-0500
TZNAME:EST
DTSTART:20251102T060000
END:STANDARD
BEGIN:DAYLIGHT
TZOFFSETFROM:-0500
TZOFFSETTO:-0400
TZNAME:EDT
DTSTART:20260308T070000
END:DAYLIGHT
BEGIN:STANDARD
TZOFFSETFROM:-0400
TZOFFSETTO:-0500
TZNAME:EST
DTSTART:20261101T060000
END:STANDARD
BEGIN:DAYLIGHT
TZOFFSETFROM:-0500
TZOFFSETTO:-0400
TZNAME:EDT
DTSTART:20270314T070000
END:DAYLIGHT
BEGIN:STANDARD
TZOFFSETFROM:-0400
TZOFFSETTO:-0500
TZNAME:EST
DTSTART:20271107T060000
END:STANDARD
END:VTIMEZONE
BEGIN:VEVENT
DTSTART;VALUE=DATE:20260601
DTEND;VALUE=DATE:20260701
DTSTAMP:20260423T205816
CREATED:20250417T233547Z
LAST-MODIFIED:20260423T234919Z
UID:10003148-1780272000-1782863999@www.flemingtondiy.org
SUMMARY:Art Show - Bethany Altschwager
DESCRIPTION:
URL:https://www.flemingtondiy.org/event/art-show-bethany-altschwager/
END:VEVENT
BEGIN:VEVENT
DTSTART;TZID=America/New_York:20260607T100000
DTEND;TZID=America/New_York:20260607T120000
DTSTAMP:20260423T205816
CREATED:20260406T130927Z
LAST-MODIFIED:20260423T234917Z
UID:10003964-1780826400-1780833600@www.flemingtondiy.org
SUMMARY:Magic of Fermentation Workshop
DESCRIPTION:Vegetables + Salt – Oxygen + Time = MagicLearn how to work with the invisible world of the beneficial Lactobacillus bacteria. A life-giving\, ancient method of food preservation that supports our gut microbiome and vitality\, and tastes delicious!  \nChef Gabby Aron of Autumn Olive Food Works will be sharing a wealth of information\, recipes\, and methods on how to “pickle” almost any ingredient\, along with the many health and culinary benefits. \nThis is a 1.5 hour workshop that includes all materials and ingredients.  \nWorkshop consists of a presentation and demonstration from the instructor\, with the opportunity for students to prepare various ferments (chopping and salting vegetables\, packing into jars)  \nInstructor would provide:Spring water\, sea salt\, chefs knives\, cutting boards\, gloves and towels\, produce\, learning materials for students\, vegetables\, jars\, cloths\, and rubber bands.  \n$30 per person. Register: www.flemingtondiy.org/ferment
URL:https://www.flemingtondiy.org/event/magic-of-fermentation-workshop/
END:VEVENT
BEGIN:VEVENT
DTSTART;TZID=America/New_York:20260607T130000
DTEND;TZID=America/New_York:20260607T170000
DTSTAMP:20260423T205816
CREATED:20251010T233511Z
LAST-MODIFIED:20260423T234917Z
UID:10003469-1780837200-1780851600@www.flemingtondiy.org
SUMMARY:Open Jazz Jams
DESCRIPTION:Open Jazz Jams are held he first Sunday of every month. \nThe sessions will provide an opportunity for musicians to play with an experienced band. From 1-2 PM the hosting musicians for the week will play. Other musicians will be invited to sit in and play between 2-5 PM (typically a minimum of 2 songs each\, circumstances permitting). With the exception of drum kit and piano\, all musicians should bring their own equipment (instruments\, amps\, drum sticks\, microphones\, etc.). The sessions will focus primarily on jazz standards and other jazz tunes contained in Hal Leonard Real Books volumes 1 through 3. Newcomers will be coached through the process.  \nA $3 to $5 donation to Flemington DIY will be required from each musician that plays at the session. Visitors that just want to listen to the music are also welcome to attend for all or any part of the 1-5 PM sessions free of charge.  \nFor questions about the sessions\, or to be added to the monthly text notification list for last minute cancellations or reschedules\, please email njjazzjam@gmail.com
URL:https://www.flemingtondiy.org/event/open-jazz-jams-38/
END:VEVENT
END:VCALENDAR