BEGIN:VCALENDAR
VERSION:2.0
PRODID:-//Flemington DIY - ECPv6.15.20//NONSGML v1.0//EN
CALSCALE:GREGORIAN
METHOD:PUBLISH
X-ORIGINAL-URL:https://www.flemingtondiy.org
X-WR-CALDESC:Events for Flemington DIY
REFRESH-INTERVAL;VALUE=DURATION:PT1H
X-Robots-Tag:noindex
X-PUBLISHED-TTL:PT1H
BEGIN:VTIMEZONE
TZID:America/New_York
BEGIN:DAYLIGHT
TZOFFSETFROM:-0500
TZOFFSETTO:-0400
TZNAME:EDT
DTSTART:20250309T070000
END:DAYLIGHT
BEGIN:STANDARD
TZOFFSETFROM:-0400
TZOFFSETTO:-0500
TZNAME:EST
DTSTART:20251102T060000
END:STANDARD
BEGIN:DAYLIGHT
TZOFFSETFROM:-0500
TZOFFSETTO:-0400
TZNAME:EDT
DTSTART:20260308T070000
END:DAYLIGHT
BEGIN:STANDARD
TZOFFSETFROM:-0400
TZOFFSETTO:-0500
TZNAME:EST
DTSTART:20261101T060000
END:STANDARD
BEGIN:DAYLIGHT
TZOFFSETFROM:-0500
TZOFFSETTO:-0400
TZNAME:EDT
DTSTART:20270314T070000
END:DAYLIGHT
BEGIN:STANDARD
TZOFFSETFROM:-0400
TZOFFSETTO:-0500
TZNAME:EST
DTSTART:20271107T060000
END:STANDARD
END:VTIMEZONE
BEGIN:VEVENT
DTSTART;VALUE=DATE:20260501
DTEND;VALUE=DATE:20260530
DTSTAMP:20260423T184526
CREATED:20250918T233530Z
LAST-MODIFIED:20260422T234300Z
UID:10003433-1777593600-1780099199@www.flemingtondiy.org
SUMMARY:Art  Academy of Hunterdon Art Show
DESCRIPTION:
URL:https://www.flemingtondiy.org/event/volunteer-member-art-show/
END:VEVENT
BEGIN:VEVENT
DTSTART;TZID=America/New_York:20260509T120000
DTEND;TZID=America/New_York:20260509T140000
DTSTAMP:20260423T184526
CREATED:20260208T234228Z
LAST-MODIFIED:20260422T234259Z
UID:10003889-1778328000-1778335200@www.flemingtondiy.org
SUMMARY:Gallery Open Hours
DESCRIPTION:
URL:https://www.flemingtondiy.org/event/gallery-open-hours-24/
END:VEVENT
BEGIN:VEVENT
DTSTART;TZID=America/New_York:20260509T183000
DTEND;TZID=America/New_York:20260509T220000
DTSTAMP:20260423T184526
CREATED:20260406T130925Z
LAST-MODIFIED:20260422T234259Z
UID:10003960-1778351400-1778364000@www.flemingtondiy.org
SUMMARY:Live Music - 12 Year Anniversary Show
DESCRIPTION:SUMMONING HARD ROCKERS & HEAVY HITTERS! Come celebrate 12 years of shows\, art\, and community at Flemington DIY!! \nPUMPKIN WITCH (horror synth\, witch house)CORPSE FARMER (metal/scuzz)KEEFCHAMBER (black metal/punk)STRESS SPELLS (post hardcore/screamo) \n$12 ADV / $15 DOOR6:30 doors 7pm music  \nTickets on sale now! Let’s rock 🎸 https://pci.jotform.com/form/260774395783169?fbclid=PAY2xjawQxDX9leHRuA2FlbQIxMABzcnRjBmFwcF9pZA81NjcwNjczNDMzNTI0MjcAAacBmfUlViNCAWjLGoyACWUlaTaMssysgytcakcSzC_G6wenagUF8Ex6a-SkaA_aem_7yTL1G1bY4OcxBZZLahObQ
URL:https://www.flemingtondiy.org/event/live-music-12-year-anniversary-show/
END:VEVENT
END:VCALENDAR