BEGIN:VCALENDAR
VERSION:2.0
PRODID:-//Flemington DIY - ECPv6.15.20//NONSGML v1.0//EN
CALSCALE:GREGORIAN
METHOD:PUBLISH
X-ORIGINAL-URL:https://www.flemingtondiy.org
X-WR-CALDESC:Events for Flemington DIY
REFRESH-INTERVAL;VALUE=DURATION:PT1H
X-Robots-Tag:noindex
X-PUBLISHED-TTL:PT1H
BEGIN:VTIMEZONE
TZID:America/New_York
BEGIN:DAYLIGHT
TZOFFSETFROM:-0500
TZOFFSETTO:-0400
TZNAME:EDT
DTSTART:20250309T070000
END:DAYLIGHT
BEGIN:STANDARD
TZOFFSETFROM:-0400
TZOFFSETTO:-0500
TZNAME:EST
DTSTART:20251102T060000
END:STANDARD
BEGIN:DAYLIGHT
TZOFFSETFROM:-0500
TZOFFSETTO:-0400
TZNAME:EDT
DTSTART:20260308T070000
END:DAYLIGHT
BEGIN:STANDARD
TZOFFSETFROM:-0400
TZOFFSETTO:-0500
TZNAME:EST
DTSTART:20261101T060000
END:STANDARD
BEGIN:DAYLIGHT
TZOFFSETFROM:-0500
TZOFFSETTO:-0400
TZNAME:EDT
DTSTART:20270314T070000
END:DAYLIGHT
BEGIN:STANDARD
TZOFFSETFROM:-0400
TZOFFSETTO:-0500
TZNAME:EST
DTSTART:20271107T060000
END:STANDARD
END:VTIMEZONE
BEGIN:VEVENT
DTSTART;VALUE=DATE:20260403
DTEND;VALUE=DATE:20260427
DTSTAMP:20260423T170021
CREATED:20260206T235735Z
LAST-MODIFIED:20260422T234258Z
UID:10003887-1775174400-1777247999@www.flemingtondiy.org
SUMMARY:Set in Stone - Printer in Residence Art Show
DESCRIPTION:Set in Stone\, Mariah McLaughlin’s culmination of a yearlong Printer-in-Residence\, brings together a body of work that combines ceramics and screenprinting to expand the limits of traditional printmaking. By moving printed imagery onto clay and treating ceramic surfaces as sites for layering\, repetition\, and variation\, the work expands screenprinting beyond a t-shirt or paper. Find out more here  \nhttps://www.nevermoreartworks.com  \nhttps://www.flemingtondiy.org/programs/printclub/
URL:https://www.flemingtondiy.org/event/mariah-mclaughlin-printer-in-residence-art-show/
END:VEVENT
BEGIN:VEVENT
DTSTART;TZID=America/New_York:20260425T090000
DTEND;TZID=America/New_York:20260425T120000
DTSTAMP:20260423T170021
CREATED:20260211T234235Z
LAST-MODIFIED:20260422T234258Z
UID:10003904-1777107600-1777118400@www.flemingtondiy.org
SUMMARY:Pedals for Progress Bike & Sewing Machine Collection Drive
DESCRIPTION:Pedals for Progress will be collecting adult & kids’ bikes and sewing machines to send to Togo\,Rwanda\, Tanzania\, Belize and Guatemala. Help us put unused bikes and sewing machines to good use in the developing world. \nAll material and monetary donations are tax deductible and a receipt will be provided on site.Bikes should be rust free. No children’s trikes\, but bikes with flat tires in need of some repairare accepted. Portable sewing machines should be in working condition. \nRAIN OR SHINE!  \nFor more info contact Alan: alan@p4p.org \nTo read more about our cause visit: P4P.org
URL:https://www.flemingtondiy.org/event/pedals-for-progress-bike-sewing-machine-collection-drive-2/
END:VEVENT
BEGIN:VEVENT
DTSTART;TZID=America/New_York:20260425T133000
DTEND;TZID=America/New_York:20260425T220000
DTSTAMP:20260423T170021
CREATED:20260216T234236Z
LAST-MODIFIED:20260422T234258Z
UID:10003916-1777123800-1777154400@www.flemingtondiy.org
SUMMARY:Live Music - Modular Synth Fest
DESCRIPTION:Nick Mellis Presents: New Jersey Modular Synth Fest \nQuasi ChaosBad ElectricRitual AudioStep RecorderMike.govAdvance Corpse MaterialsFloyd the Semiconductor  \n$15Doors @ 1:30\, Music @ 2:00All agesNo drugs / no alcohol
URL:https://www.flemingtondiy.org/event/live-music-synth-fest/
END:VEVENT
END:VCALENDAR