BEGIN:VCALENDAR
VERSION:2.0
PRODID:-//Flemington DIY - ECPv6.15.20//NONSGML v1.0//EN
CALSCALE:GREGORIAN
METHOD:PUBLISH
X-WR-CALNAME:Flemington DIY
X-ORIGINAL-URL:https://www.flemingtondiy.org
X-WR-CALDESC:Events for Flemington DIY
REFRESH-INTERVAL;VALUE=DURATION:PT1H
X-Robots-Tag:noindex
X-PUBLISHED-TTL:PT1H
BEGIN:VTIMEZONE
TZID:America/New_York
BEGIN:DAYLIGHT
TZOFFSETFROM:-0500
TZOFFSETTO:-0400
TZNAME:EDT
DTSTART:20250309T070000
END:DAYLIGHT
BEGIN:STANDARD
TZOFFSETFROM:-0400
TZOFFSETTO:-0500
TZNAME:EST
DTSTART:20251102T060000
END:STANDARD
BEGIN:DAYLIGHT
TZOFFSETFROM:-0500
TZOFFSETTO:-0400
TZNAME:EDT
DTSTART:20260308T070000
END:DAYLIGHT
BEGIN:STANDARD
TZOFFSETFROM:-0400
TZOFFSETTO:-0500
TZNAME:EST
DTSTART:20261101T060000
END:STANDARD
BEGIN:DAYLIGHT
TZOFFSETFROM:-0500
TZOFFSETTO:-0400
TZNAME:EDT
DTSTART:20270314T070000
END:DAYLIGHT
BEGIN:STANDARD
TZOFFSETFROM:-0400
TZOFFSETTO:-0500
TZNAME:EST
DTSTART:20271107T060000
END:STANDARD
END:VTIMEZONE
BEGIN:VEVENT
DTSTART;VALUE=DATE:20260403
DTEND;VALUE=DATE:20260427
DTSTAMP:20260423T165903
CREATED:20260206T235735Z
LAST-MODIFIED:20260422T234258Z
UID:10003887-1775174400-1777247999@www.flemingtondiy.org
SUMMARY:Set in Stone - Printer in Residence Art Show
DESCRIPTION:Set in Stone\, Mariah McLaughlin’s culmination of a yearlong Printer-in-Residence\, brings together a body of work that combines ceramics and screenprinting to expand the limits of traditional printmaking. By moving printed imagery onto clay and treating ceramic surfaces as sites for layering\, repetition\, and variation\, the work expands screenprinting beyond a t-shirt or paper. Find out more here  \nhttps://www.nevermoreartworks.com  \nhttps://www.flemingtondiy.org/programs/printclub/
URL:https://www.flemingtondiy.org/event/mariah-mclaughlin-printer-in-residence-art-show/
END:VEVENT
BEGIN:VEVENT
DTSTART;TZID=America/New_York:20260419T090000
DTEND;TZID=America/New_York:20260419T113000
DTSTAMP:20260423T165903
CREATED:20260213T234240Z
LAST-MODIFIED:20260418T235727Z
UID:10003909-1776589200-1776598200@www.flemingtondiy.org
SUMMARY:Open Hours - Garden State Art Weekend
DESCRIPTION:POP-UP : Mill to Mill Peace Flag Project with Art Circle \nCasual Gathering to work on your Peace Flag for the Mill to Mill Peace Flag Project\, a public art display of handmade peace flags that will be displayed as a shared expression of hope\, unity and goodwill. Community members are asked to create peace flags that will be displayed together outside The Red Mill Museum Village and the Hunterdon Art Museum.  Inspired by traditional prayer flags\, community members are invited to participate in creating a piece reflects the maker’s personal interpretation of the question: \n“What does peace look like to you?” \nThrough symbols\, colors\, words\, images or textures\, every flag becomes a message of peace carried outward into the world. \nThe Mill to Mill Peace Flag Project is part of Handwork 2026\, Craft in America’s nationwide semiquincentennial collaboration showcasing the importance of the handmade and celebrating the diversity of craft that defines America. \nHow to Make a Peace Flag \n\n\nEach flag begins with a 9-inch square of natural fabric—materials like cotton muslin\, linen or wool are ideal. To prepare your fabric: \n\n\nCut your fabric to 9” wide x 10.25” tall. \n\n\nFold down the top 1.25” to create a 1” channel. \n\n\nSew the fold in place. This channel will allow the flags to be strung together like bunting. \n\n\n*Important: Because the flags will hang outdoors and may eventually release fibers into the environment\, only natural materials should be used. Please avoid glues (including hot glue)\, staples\, plastics\, synthetics and chemical inks. Use natural threads and non-toxic\, water-based dyes and paints whenever possible. Flags may not contain symbols of hate or divisiveness. This is a curated exhibit; submission does not guarantee inclusion. \nWhen complete participant can submit their flag  \nhttps://docs.google.com/forms/d/e/1FAIpQLSe51MZaAfzl0BGRNBzDX76gCBZ_5GHve9H5ZdK3LV_ghk3H2A/viewform
URL:https://www.flemingtondiy.org/event/open-hours-garden-state-art-weekend-2/
END:VEVENT
BEGIN:VEVENT
DTSTART;TZID=America/New_York:20260419T130000
DTEND;TZID=America/New_York:20260419T170000
DTSTAMP:20260423T165903
CREATED:20251010T233510Z
LAST-MODIFIED:20260418T235727Z
UID:10003463-1776603600-1776618000@www.flemingtondiy.org
SUMMARY:Open Jazz Jams (Easter make up date)
DESCRIPTION:Open Jazz Jams are held he first Sunday of every month. \nThe sessions will provide an opportunity for musicians to play with an experienced band. From 1-2 PM the hosting musicians for the week will play. Other musicians will be invited to sit in and play between 2-5 PM (typically a minimum of 2 songs each\, circumstances permitting). With the exception of drum kit and piano\, all musicians should bring their own equipment (instruments\, amps\, drum sticks\, microphones\, etc.). The sessions will focus primarily on jazz standards and other jazz tunes contained in Hal Leonard Real Books volumes 1 through 3. Newcomers will be coached through the process.  \nA $3 to $5 donation to Flemington DIY will be required from each musician that plays at the session. Visitors that just want to listen to the music are also welcome to attend for all or any part of the 1-5 PM sessions free of charge.  \nFor questions about the sessions\, or to be added to the monthly text notification list for last minute cancellations or reschedules\, please email njjazzjam@gmail.com
URL:https://www.flemingtondiy.org/event/open-jazz-jams-36/
END:VEVENT
BEGIN:VEVENT
DTSTART;TZID=America/New_York:20260419T190000
DTEND;TZID=America/New_York:20260419T220000
DTSTAMP:20260423T165903
CREATED:20260406T130924Z
LAST-MODIFIED:20260419T235811Z
UID:10003954-1776625200-1776636000@www.flemingtondiy.org
SUMMARY:Live show - prog/art rock
DESCRIPTION:BOYSCOUTMARIE (prog/art rock) \nPsychtooth (melancholy junk rock) \nNo Bones (chamber-pop) \nSammy Mellman (singer-songwriter/trombone) \n$10Doors @ 6:30pmAll agesNo drugs / no alcohol
URL:https://www.flemingtondiy.org/event/live-show-prog-art-rock/
END:VEVENT
END:VCALENDAR