BEGIN:VCALENDAR
VERSION:2.0
PRODID:-//Flemington DIY - ECPv6.15.20//NONSGML v1.0//EN
CALSCALE:GREGORIAN
METHOD:PUBLISH
X-WR-CALNAME:Flemington DIY
X-ORIGINAL-URL:https://www.flemingtondiy.org
X-WR-CALDESC:Events for Flemington DIY
REFRESH-INTERVAL;VALUE=DURATION:PT1H
X-Robots-Tag:noindex
X-PUBLISHED-TTL:PT1H
BEGIN:VTIMEZONE
TZID:America/New_York
BEGIN:DAYLIGHT
TZOFFSETFROM:-0500
TZOFFSETTO:-0400
TZNAME:EDT
DTSTART:20250309T070000
END:DAYLIGHT
BEGIN:STANDARD
TZOFFSETFROM:-0400
TZOFFSETTO:-0500
TZNAME:EST
DTSTART:20251102T060000
END:STANDARD
BEGIN:DAYLIGHT
TZOFFSETFROM:-0500
TZOFFSETTO:-0400
TZNAME:EDT
DTSTART:20260308T070000
END:DAYLIGHT
BEGIN:STANDARD
TZOFFSETFROM:-0400
TZOFFSETTO:-0500
TZNAME:EST
DTSTART:20261101T060000
END:STANDARD
BEGIN:DAYLIGHT
TZOFFSETFROM:-0500
TZOFFSETTO:-0400
TZNAME:EDT
DTSTART:20270314T070000
END:DAYLIGHT
BEGIN:STANDARD
TZOFFSETFROM:-0400
TZOFFSETTO:-0500
TZNAME:EST
DTSTART:20271107T060000
END:STANDARD
END:VTIMEZONE
BEGIN:VEVENT
DTSTART;VALUE=DATE:20260403
DTEND;VALUE=DATE:20260427
DTSTAMP:20260423T165806
CREATED:20260206T235735Z
LAST-MODIFIED:20260422T234258Z
UID:10003887-1775174400-1777247999@www.flemingtondiy.org
SUMMARY:Set in Stone - Printer in Residence Art Show
DESCRIPTION:Set in Stone\, Mariah McLaughlin’s culmination of a yearlong Printer-in-Residence\, brings together a body of work that combines ceramics and screenprinting to expand the limits of traditional printmaking. By moving printed imagery onto clay and treating ceramic surfaces as sites for layering\, repetition\, and variation\, the work expands screenprinting beyond a t-shirt or paper. Find out more here  \nhttps://www.nevermoreartworks.com  \nhttps://www.flemingtondiy.org/programs/printclub/
URL:https://www.flemingtondiy.org/event/mariah-mclaughlin-printer-in-residence-art-show/
END:VEVENT
BEGIN:VEVENT
DTSTART;TZID=America/New_York:20260417T090000
DTEND;TZID=America/New_York:20260417T140000
DTSTAMP:20260423T165806
CREATED:20260213T234240Z
LAST-MODIFIED:20260416T234226Z
UID:10003908-1776416400-1776434400@www.flemingtondiy.org
SUMMARY:Open Hours - Garden State Art Weekend
DESCRIPTION:Bilateral Drawing Exercise with Aidan Mirowsky of Little Fire Studios \nBilateral drawing is a drawing exercise intended to reset your nervous system.  By holding a drawing implement in each hand; the person tries to make marks that mirror each other along an invisible vertical line on the page. This meditative process that asks your body and mind to slow down; reconnecting with the moment as you concentrate on the paper and focusing on the process more what the image is.   \n \nThis activity is inspired by a workshop at the Newark Art Museum as part of the 2025 Creating Healthy Communities convening and is intended to create an opportunity to try this reset for yourself.  Utilizing simple supplies; reclaimed colored pencils and crayons with 18”  x  24”  pages lining tables that are marked with vertical lines.  Participants will engage in Bilateral drawing on a large piece of paper for one\, after the minute is up\, participants will switch to the paper to their right and repeat as many times as they want to participate. No one person will create all the lines in the final drawing. The experience is theirs but the drawing is not theirs alone.  As people leave\, others are welcome to fill in. As the pages fill with lines they will be replaced with new blank pages. The blank pages will be tacked on a table lined with stripes.  \n \nAll drawings will be saved for a future video art piece. The video is intended to create a visual of the pulse that tie us all together like a heartbeat of a Mother with child; but in this case it’s Mother Earth and all the participants are the children revealing the pulse our creativity creates as a community and the invisible line that art making creates as we center ourselves with through art. 
URL:https://www.flemingtondiy.org/event/open-hours-garden-state-art-weekend/
END:VEVENT
BEGIN:VEVENT
DTSTART;TZID=America/New_York:20260417T190000
DTEND;TZID=America/New_York:20260417T220000
DTSTAMP:20260423T165806
CREATED:20251111T235220Z
LAST-MODIFIED:20260417T234225Z
UID:10003656-1776452400-1776463200@www.flemingtondiy.org
SUMMARY:Third Friday Board Games
DESCRIPTION:Third Friday Board Game Night All ages | Bring your own game or play with one of ours | Meet new people\, have fun\, casual! No RSVP required\, just show up. Free to attend\, donations to Flemington DIY welcomed.
URL:https://www.flemingtondiy.org/event/third-friday-board-games-3/
END:VEVENT
END:VCALENDAR