BEGIN:VCALENDAR
VERSION:2.0
PRODID:-//Flemington DIY - ECPv6.15.20//NONSGML v1.0//EN
CALSCALE:GREGORIAN
METHOD:PUBLISH
X-WR-CALNAME:Flemington DIY
X-ORIGINAL-URL:https://www.flemingtondiy.org
X-WR-CALDESC:Events for Flemington DIY
REFRESH-INTERVAL;VALUE=DURATION:PT1H
X-Robots-Tag:noindex
X-PUBLISHED-TTL:PT1H
BEGIN:VTIMEZONE
TZID:America/New_York
BEGIN:DAYLIGHT
TZOFFSETFROM:-0500
TZOFFSETTO:-0400
TZNAME:EDT
DTSTART:20250309T070000
END:DAYLIGHT
BEGIN:STANDARD
TZOFFSETFROM:-0400
TZOFFSETTO:-0500
TZNAME:EST
DTSTART:20251102T060000
END:STANDARD
BEGIN:DAYLIGHT
TZOFFSETFROM:-0500
TZOFFSETTO:-0400
TZNAME:EDT
DTSTART:20260308T070000
END:DAYLIGHT
BEGIN:STANDARD
TZOFFSETFROM:-0400
TZOFFSETTO:-0500
TZNAME:EST
DTSTART:20261101T060000
END:STANDARD
BEGIN:DAYLIGHT
TZOFFSETFROM:-0500
TZOFFSETTO:-0400
TZNAME:EDT
DTSTART:20270314T070000
END:DAYLIGHT
BEGIN:STANDARD
TZOFFSETFROM:-0400
TZOFFSETTO:-0500
TZNAME:EST
DTSTART:20271107T060000
END:STANDARD
END:VTIMEZONE
BEGIN:VEVENT
DTSTART;VALUE=DATE:20260403
DTEND;VALUE=DATE:20260427
DTSTAMP:20260423T165857
CREATED:20260206T235735Z
LAST-MODIFIED:20260422T234258Z
UID:10003887-1775174400-1777247999@www.flemingtondiy.org
SUMMARY:Set in Stone - Printer in Residence Art Show
DESCRIPTION:Set in Stone\, Mariah McLaughlin’s culmination of a yearlong Printer-in-Residence\, brings together a body of work that combines ceramics and screenprinting to expand the limits of traditional printmaking. By moving printed imagery onto clay and treating ceramic surfaces as sites for layering\, repetition\, and variation\, the work expands screenprinting beyond a t-shirt or paper. Find out more here  \nhttps://www.nevermoreartworks.com  \nhttps://www.flemingtondiy.org/programs/printclub/
URL:https://www.flemingtondiy.org/event/mariah-mclaughlin-printer-in-residence-art-show/
END:VEVENT
BEGIN:VEVENT
DTSTART;TZID=America/New_York:20260415T190000
DTEND;TZID=America/New_York:20260415T210000
DTSTAMP:20260423T165857
CREATED:20260201T234230Z
LAST-MODIFIED:20260415T234227Z
UID:10003871-1776279600-1776286800@www.flemingtondiy.org
SUMMARY:Keeping Our Community Safe: Monthly Information & Action Meeting
DESCRIPTION:Third Wednesdays | 7–9PM | Flemington DIY \nA monthly gathering of local residents committed to protecting and supporting our immigrant community members. \nTogether\, we will: \n\n\nShare accurate\, up-to-date Know Your Rights information related to ICE presence and immigration enforcement \n\n\nReview protocols for spotting\, documenting\, and responding to ICE activity \n\n\nCoordinate community-based mutual aid efforts \n\n\nCreate and distribute educational materials for neighbors and local businesses \n\n\nStrengthen communication networks that prioritize safety\, dignity\, and collective care \n\n\nThis is a space for informed conversation\, practical preparedness\, coordinated action\, sharing resources\, and strengthening local support networks. All community members who value safety\, solidarity\, and constitutional rights are welcome. \nHosted by concerned community members.
URL:https://www.flemingtondiy.org/event/keeping-our-community-safe-monthly-information-action-meeting-3/
END:VEVENT
END:VCALENDAR