BEGIN:VCALENDAR
VERSION:2.0
PRODID:-//Flemington DIY - ECPv6.15.20//NONSGML v1.0//EN
CALSCALE:GREGORIAN
METHOD:PUBLISH
X-WR-CALNAME:Flemington DIY
X-ORIGINAL-URL:https://www.flemingtondiy.org
X-WR-CALDESC:Events for Flemington DIY
REFRESH-INTERVAL;VALUE=DURATION:PT1H
X-Robots-Tag:noindex
X-PUBLISHED-TTL:PT1H
BEGIN:VTIMEZONE
TZID:America/New_York
BEGIN:DAYLIGHT
TZOFFSETFROM:-0500
TZOFFSETTO:-0400
TZNAME:EDT
DTSTART:20250309T070000
END:DAYLIGHT
BEGIN:STANDARD
TZOFFSETFROM:-0400
TZOFFSETTO:-0500
TZNAME:EST
DTSTART:20251102T060000
END:STANDARD
BEGIN:DAYLIGHT
TZOFFSETFROM:-0500
TZOFFSETTO:-0400
TZNAME:EDT
DTSTART:20260308T070000
END:DAYLIGHT
BEGIN:STANDARD
TZOFFSETFROM:-0400
TZOFFSETTO:-0500
TZNAME:EST
DTSTART:20261101T060000
END:STANDARD
BEGIN:DAYLIGHT
TZOFFSETFROM:-0500
TZOFFSETTO:-0400
TZNAME:EDT
DTSTART:20270314T070000
END:DAYLIGHT
BEGIN:STANDARD
TZOFFSETFROM:-0400
TZOFFSETTO:-0500
TZNAME:EST
DTSTART:20271107T060000
END:STANDARD
END:VTIMEZONE
BEGIN:VEVENT
DTSTART;VALUE=DATE:20260403
DTEND;VALUE=DATE:20260427
DTSTAMP:20260423T165903
CREATED:20260206T235735Z
LAST-MODIFIED:20260422T234258Z
UID:10003887-1775174400-1777247999@www.flemingtondiy.org
SUMMARY:Set in Stone - Printer in Residence Art Show
DESCRIPTION:Set in Stone\, Mariah McLaughlin’s culmination of a yearlong Printer-in-Residence\, brings together a body of work that combines ceramics and screenprinting to expand the limits of traditional printmaking. By moving printed imagery onto clay and treating ceramic surfaces as sites for layering\, repetition\, and variation\, the work expands screenprinting beyond a t-shirt or paper. Find out more here  \nhttps://www.nevermoreartworks.com  \nhttps://www.flemingtondiy.org/programs/printclub/
URL:https://www.flemingtondiy.org/event/mariah-mclaughlin-printer-in-residence-art-show/
END:VEVENT
BEGIN:VEVENT
DTSTART;TZID=America/New_York:20260411T120000
DTEND;TZID=America/New_York:20260411T150000
DTSTAMP:20260423T165903
CREATED:20260203T235741Z
LAST-MODIFIED:20260410T235747Z
UID:10003882-1775908800-1775919600@www.flemingtondiy.org
SUMMARY:Art Gallery Open Hours
DESCRIPTION:
URL:https://www.flemingtondiy.org/event/art-gallery-open-hours-5/
END:VEVENT
BEGIN:VEVENT
DTSTART;TZID=America/New_York:20260411T150000
DTEND;TZID=America/New_York:20260411T173000
DTSTAMP:20260423T165903
CREATED:20260109T235743Z
LAST-MODIFIED:20260410T235747Z
UID:10003809-1775919600-1775928600@www.flemingtondiy.org
SUMMARY:A Creative Exploration: The Arts + Civic Engagement
DESCRIPTION:A Creative Exploration: The Arts + Civic Engagement  \nJoin us for one or all events. This programming is open to the public while also supporting a cohort of creatives collaborating on a year long arts project.  \n\nApril 11: Collective Action\nMay 23: Collective Care + Mutual Aid 
URL:https://www.flemingtondiy.org/event/a-creative-exploration-the-arts-civic-engagement/
END:VEVENT
BEGIN:VEVENT
DTSTART;TZID=America/New_York:20260411T183000
DTEND;TZID=America/New_York:20260411T220000
DTSTAMP:20260423T165903
CREATED:20260406T130923Z
LAST-MODIFIED:20260411T235736Z
UID:10003952-1775932200-1775944800@www.flemingtondiy.org
SUMMARY:Live Music - Alt/Pop
DESCRIPTION:Cussing (noise pop)Shark Earrings (alt/emo)The Band Palm (alt rock)Lupe Dragon (singer-songwriter/pop) \n$10Doors @ 6:30 Music @ 7:00All agesNo drugs/no alcohol
URL:https://www.flemingtondiy.org/event/live-music-alt-pop/
END:VEVENT
END:VCALENDAR