BEGIN:VCALENDAR
VERSION:2.0
PRODID:-//Flemington DIY - ECPv6.15.20//NONSGML v1.0//EN
CALSCALE:GREGORIAN
METHOD:PUBLISH
X-ORIGINAL-URL:https://www.flemingtondiy.org
X-WR-CALDESC:Events for Flemington DIY
REFRESH-INTERVAL;VALUE=DURATION:PT1H
X-Robots-Tag:noindex
X-PUBLISHED-TTL:PT1H
BEGIN:VTIMEZONE
TZID:America/New_York
BEGIN:DAYLIGHT
TZOFFSETFROM:-0500
TZOFFSETTO:-0400
TZNAME:EDT
DTSTART:20250309T070000
END:DAYLIGHT
BEGIN:STANDARD
TZOFFSETFROM:-0400
TZOFFSETTO:-0500
TZNAME:EST
DTSTART:20251102T060000
END:STANDARD
BEGIN:DAYLIGHT
TZOFFSETFROM:-0500
TZOFFSETTO:-0400
TZNAME:EDT
DTSTART:20260308T070000
END:DAYLIGHT
BEGIN:STANDARD
TZOFFSETFROM:-0400
TZOFFSETTO:-0500
TZNAME:EST
DTSTART:20261101T060000
END:STANDARD
BEGIN:DAYLIGHT
TZOFFSETFROM:-0500
TZOFFSETTO:-0400
TZNAME:EDT
DTSTART:20270314T070000
END:DAYLIGHT
BEGIN:STANDARD
TZOFFSETFROM:-0400
TZOFFSETTO:-0500
TZNAME:EST
DTSTART:20271107T060000
END:STANDARD
END:VTIMEZONE
BEGIN:VEVENT
DTSTART;VALUE=DATE:20260403
DTEND;VALUE=DATE:20260427
DTSTAMP:20260423T170103
CREATED:20260206T235735Z
LAST-MODIFIED:20260422T234258Z
UID:10003887-1775174400-1777247999@www.flemingtondiy.org
SUMMARY:Set in Stone - Printer in Residence Art Show
DESCRIPTION:Set in Stone\, Mariah McLaughlin’s culmination of a yearlong Printer-in-Residence\, brings together a body of work that combines ceramics and screenprinting to expand the limits of traditional printmaking. By moving printed imagery onto clay and treating ceramic surfaces as sites for layering\, repetition\, and variation\, the work expands screenprinting beyond a t-shirt or paper. Find out more here  \nhttps://www.nevermoreartworks.com  \nhttps://www.flemingtondiy.org/programs/printclub/
URL:https://www.flemingtondiy.org/event/mariah-mclaughlin-printer-in-residence-art-show/
END:VEVENT
BEGIN:VEVENT
DTSTART;TZID=America/New_York:20260409T113000
DTEND;TZID=America/New_York:20260409T180000
DTSTAMP:20260423T170103
CREATED:20251107T233721Z
LAST-MODIFIED:20260408T234255Z
UID:10003547-1775734200-1775757600@www.flemingtondiy.org
SUMMARY:Open Hours
DESCRIPTION:
URL:https://www.flemingtondiy.org/event/open-hours-361/
END:VEVENT
BEGIN:VEVENT
DTSTART;TZID=America/New_York:20260409T180000
DTEND;TZID=America/New_York:20260409T200000
DTSTAMP:20260423T170103
CREATED:20260101T233722Z
LAST-MODIFIED:20260409T234245Z
UID:10003785-1775757600-1775764800@www.flemingtondiy.org
SUMMARY:ASL Chat
DESCRIPTION:American Sign Language (ASL) is the predominant sign language of deaf and hard of hearing people in the United States. If you know or are learning ASL\, come sign with us in a casual and supportive space. Deaf\, hard of hearing\, and hearing people are welcome. Come socialize and make new friends in a voice-off environment!  \nFlemington DIY ASL Chats are in person and free to attend. There is no registration required. Please note that everyone is expected to use ASL to communicate during the events.
URL:https://www.flemingtondiy.org/event/asl-chat-8/
END:VEVENT
END:VCALENDAR