BEGIN:VCALENDAR
VERSION:2.0
PRODID:-//Flemington DIY - ECPv6.15.20//NONSGML v1.0//EN
CALSCALE:GREGORIAN
METHOD:PUBLISH
X-ORIGINAL-URL:https://www.flemingtondiy.org
X-WR-CALDESC:Events for Flemington DIY
REFRESH-INTERVAL;VALUE=DURATION:PT1H
X-Robots-Tag:noindex
X-PUBLISHED-TTL:PT1H
BEGIN:VTIMEZONE
TZID:America/New_York
BEGIN:DAYLIGHT
TZOFFSETFROM:-0500
TZOFFSETTO:-0400
TZNAME:EDT
DTSTART:20250309T070000
END:DAYLIGHT
BEGIN:STANDARD
TZOFFSETFROM:-0400
TZOFFSETTO:-0500
TZNAME:EST
DTSTART:20251102T060000
END:STANDARD
BEGIN:DAYLIGHT
TZOFFSETFROM:-0500
TZOFFSETTO:-0400
TZNAME:EDT
DTSTART:20260308T070000
END:DAYLIGHT
BEGIN:STANDARD
TZOFFSETFROM:-0400
TZOFFSETTO:-0500
TZNAME:EST
DTSTART:20261101T060000
END:STANDARD
BEGIN:DAYLIGHT
TZOFFSETFROM:-0500
TZOFFSETTO:-0400
TZNAME:EDT
DTSTART:20270314T070000
END:DAYLIGHT
BEGIN:STANDARD
TZOFFSETFROM:-0400
TZOFFSETTO:-0500
TZNAME:EST
DTSTART:20271107T060000
END:STANDARD
END:VTIMEZONE
BEGIN:VEVENT
DTSTART;TZID=America/New_York:20260331T113000
DTEND;TZID=America/New_York:20260331T180000
DTSTAMP:20260423T170103
CREATED:20250602T233548Z
LAST-MODIFIED:20260319T234225Z
UID:10003254-1774956600-1774980000@www.flemingtondiy.org
SUMMARY:Open Hours
DESCRIPTION:Visit the space\, see our current art shows\, hang out\, and learn how to get involved!
URL:https://www.flemingtondiy.org/event/open-hours-265/
END:VEVENT
BEGIN:VEVENT
DTSTART;TZID=America/New_York:20260331T180000
DTEND;TZID=America/New_York:20260331T210000
DTSTAMP:20260423T170103
CREATED:20260309T174130Z
LAST-MODIFIED:20260319T234225Z
UID:10003929-1774980000-1774990800@www.flemingtondiy.org
SUMMARY:Flemington QTs' 4th Annual Transgender Day of Visibility Celebration
DESCRIPTION:Flemington QTs’ 4th Annual Transgender Day of Visibility CelebrationWe Are Not Alone \nSuggested donation of $10 for mutual aid fund – No one will be turned away for lack of funds \nDoors open 6PM with a performance by the trans punk/emo band How I Became Invisible. \nPanel will begin at 6:45PM. \nAttendees will also have the opportunity to have their portraits taken by local QT photographer\, Chris Ebel (she/they/he)\, or screenprint our TDOV design on a t-shirt or poster with DIY’s Print Club. Please bring your own t-shirt or other item to print on. \nAll welcome to attend as long as mutual understanding is your goal.
URL:https://www.flemingtondiy.org/event/flemington-qts-4th-annual-transgender-day-of-visibility-celebration/
END:VEVENT
END:VCALENDAR