BEGIN:VCALENDAR
VERSION:2.0
PRODID:-//Flemington DIY - ECPv6.15.20//NONSGML v1.0//EN
CALSCALE:GREGORIAN
METHOD:PUBLISH
X-WR-CALNAME:Flemington DIY
X-ORIGINAL-URL:https://www.flemingtondiy.org
X-WR-CALDESC:Events for Flemington DIY
REFRESH-INTERVAL;VALUE=DURATION:PT1H
X-Robots-Tag:noindex
X-PUBLISHED-TTL:PT1H
BEGIN:VTIMEZONE
TZID:America/New_York
BEGIN:DAYLIGHT
TZOFFSETFROM:-0500
TZOFFSETTO:-0400
TZNAME:EDT
DTSTART:20250309T070000
END:DAYLIGHT
BEGIN:STANDARD
TZOFFSETFROM:-0400
TZOFFSETTO:-0500
TZNAME:EST
DTSTART:20251102T060000
END:STANDARD
BEGIN:DAYLIGHT
TZOFFSETFROM:-0500
TZOFFSETTO:-0400
TZNAME:EDT
DTSTART:20260308T070000
END:DAYLIGHT
BEGIN:STANDARD
TZOFFSETFROM:-0400
TZOFFSETTO:-0500
TZNAME:EST
DTSTART:20261101T060000
END:STANDARD
BEGIN:DAYLIGHT
TZOFFSETFROM:-0500
TZOFFSETTO:-0400
TZNAME:EDT
DTSTART:20270314T070000
END:DAYLIGHT
BEGIN:STANDARD
TZOFFSETFROM:-0400
TZOFFSETTO:-0500
TZNAME:EST
DTSTART:20271107T060000
END:STANDARD
END:VTIMEZONE
BEGIN:VEVENT
DTSTART;TZID=America/New_York:20260329T080000
DTEND;TZID=America/New_York:20260329T100000
DTSTAMP:20260423T165857
CREATED:20260317T234224Z
LAST-MODIFIED:20260319T234225Z
UID:10003947-1774771200-1774778400@www.flemingtondiy.org
SUMMARY:Community Bird Outing
DESCRIPTION:Join us for a community bird walk! Bring your binoculars and meet new friends (both feathered and not!) \nWhere: Hoffman Park in Hampton NJ (Main entrance is 26 Baptist Church Road\, Hampton 08827) \nWhen: Sunday\, March 29th\, 2026 from 8am to 10am. \nWho: This outing is hosted by Myllicent Felder from Sidney Ridge Nature Playschool\, through Flemington DIY\, a volunteer-run arts space in Flemington\, NJ.   \nAt 8am\, we will meet at the parking lot close to the main entrance\, and travel together as a group. There is no parking fee. There is a mix of paved and gravel paths\, and a decline/incline. (From the brochure\, “From the parking area\, Hairpin Lane winds down a steep hill towards Manny’s Pond. Once down the hill from Hairpin Lane\, Hoffman Park’s trails meander through woods and past ponds. Most of these trails are old gravel or paved roads that are flat and easy”) There are no restrooms available at this location.Please bring your binoculars if you have!Running late? No problem. We will leave the meeting spot around 8:10am\, and we move as fast as the slowest person\, so we shouldn’t be too far!If the weather is forecasted to be dangerous\, Myllicent will reach out via email by 10am to confirm or cancel the outing.  \nhttps://www.flemingtondiy.org/bird/
URL:https://www.flemingtondiy.org/event/community-bird-outing/
END:VEVENT
BEGIN:VEVENT
DTSTART;TZID=America/New_York:20260329T170000
DTEND;TZID=America/New_York:20260329T220000
DTSTAMP:20260423T165857
CREATED:20260309T174130Z
LAST-MODIFIED:20260319T234225Z
UID:10003928-1774803600-1774821600@www.flemingtondiy.org
SUMMARY:Live Music - Punk
DESCRIPTION:Cleo Becc (singer/songwriter/folk punk)A Girl and A Clown (noise rock/skrams/sludge)Teddy Grump (sludge hardcore)Hyphen (emo)SKIVES (crust punk)Indigo Fields (ambient r&b/bedroom pop) \n$10Doors @ 5\, Music @ 5:30All agesNo drugs/no alcohol
URL:https://www.flemingtondiy.org/event/live-music-punk-5/
END:VEVENT
END:VCALENDAR