BEGIN:VCALENDAR
VERSION:2.0
PRODID:-//Flemington DIY - ECPv6.15.20//NONSGML v1.0//EN
CALSCALE:GREGORIAN
METHOD:PUBLISH
X-WR-CALNAME:Flemington DIY
X-ORIGINAL-URL:https://www.flemingtondiy.org
X-WR-CALDESC:Events for Flemington DIY
REFRESH-INTERVAL;VALUE=DURATION:PT1H
X-Robots-Tag:noindex
X-PUBLISHED-TTL:PT1H
BEGIN:VTIMEZONE
TZID:America/New_York
BEGIN:DAYLIGHT
TZOFFSETFROM:-0500
TZOFFSETTO:-0400
TZNAME:EDT
DTSTART:20250309T070000
END:DAYLIGHT
BEGIN:STANDARD
TZOFFSETFROM:-0400
TZOFFSETTO:-0500
TZNAME:EST
DTSTART:20251102T060000
END:STANDARD
BEGIN:DAYLIGHT
TZOFFSETFROM:-0500
TZOFFSETTO:-0400
TZNAME:EDT
DTSTART:20260308T070000
END:DAYLIGHT
BEGIN:STANDARD
TZOFFSETFROM:-0400
TZOFFSETTO:-0500
TZNAME:EST
DTSTART:20261101T060000
END:STANDARD
BEGIN:DAYLIGHT
TZOFFSETFROM:-0500
TZOFFSETTO:-0400
TZNAME:EDT
DTSTART:20270314T070000
END:DAYLIGHT
BEGIN:STANDARD
TZOFFSETFROM:-0400
TZOFFSETTO:-0500
TZNAME:EST
DTSTART:20271107T060000
END:STANDARD
END:VTIMEZONE
BEGIN:VEVENT
DTSTART;VALUE=DATE:20260307
DTEND;VALUE=DATE:20260329
DTSTAMP:20260423T191356
CREATED:20260111T234231Z
LAST-MODIFIED:20260319T234225Z
UID:10003811-1772841600-1774742399@www.flemingtondiy.org
SUMMARY:Glimmers Through the Lens - Photography Show on Display
DESCRIPTION:https://www.flemingtondiy.org/glimmers/
URL:https://www.flemingtondiy.org/event/photography-art-show/
END:VEVENT
BEGIN:VEVENT
DTSTART;TZID=America/New_York:20260321T100000
DTEND;TZID=America/New_York:20260321T123000
DTSTAMP:20260423T191356
CREATED:20260216T234234Z
LAST-MODIFIED:20260319T234225Z
UID:10003913-1774087200-1774096200@www.flemingtondiy.org
SUMMARY:Pysanky Ukrainian Egg Decorating Class
DESCRIPTION:Morning class. $50 per person + $10 material fee due in cash at time of class Recommended for 18+ \nCome celebrate the spring with this unique opportunity to learn a skill and folk tradition that is traditionally passed down by the Matriarch of the family. Pysanky is an ancient art of creating beautiful designs on eggs. Patterns are drawn on the egg with hot beeswax\, which protects selected areas so new colors can be applied\, allowing the design to be built up layer by layer. By repeating this process with different colors of dye\, a multi-colored pattern is built up. In the final step\, the wax is melted away in a moment of anticipation\, revealing the complete design and its vibrant\, hidden colors in a rewarding and often surprising reveal. \nhttps://www.flemingtondiy.org/programs/pysanky/
URL:https://www.flemingtondiy.org/event/pysanky-ukrainian-egg-decorating-class/
END:VEVENT
BEGIN:VEVENT
DTSTART;TZID=America/New_York:20260321T130000
DTEND;TZID=America/New_York:20260321T153000
DTSTAMP:20260423T191356
CREATED:20260216T234234Z
LAST-MODIFIED:20260319T234225Z
UID:10003914-1774098000-1774107000@www.flemingtondiy.org
SUMMARY:Pysanky Ukrainian Egg Decorating Class
DESCRIPTION:Afternoon class. $50 per person + $10 material fee due in cash at time of class Recommended for 18+ \nCome celebrate the spring with this unique opportunity to learn a skill and folk tradition that is traditionally passed down by the Matriarch of the family. Pysanky is an ancient art of creating beautiful designs on eggs. Patterns are drawn on the egg with hot beeswax\, which protects selected areas so new colors can be applied\, allowing the design to be built up layer by layer. By repeating this process with different colors of dye\, a multi-colored pattern is built up. In the final step\, the wax is melted away in a moment of anticipation\, revealing the complete design and its vibrant\, hidden colors in a rewarding and often surprising reveal. \nhttps://www.flemingtondiy.org/programs/pysanky/
URL:https://www.flemingtondiy.org/event/pysanky-ukrainian-egg-decorating-class-2/
END:VEVENT
BEGIN:VEVENT
DTSTART;TZID=America/New_York:20260321T193000
DTEND;TZID=America/New_York:20260321T220000
DTSTAMP:20260423T191356
CREATED:20260106T235229Z
LAST-MODIFIED:20260319T234225Z
UID:10003794-1774121400-1774130400@www.flemingtondiy.org
SUMMARY:Live Jazz: Marel Hidalgo Trio
DESCRIPTION:Featuring Leonieke Scheuble on Organ \nDoors 7:30pm / Music 8pmTickets: $18 adv / $22 door15% off for members!flemingtondiy.org/jazz
URL:https://www.flemingtondiy.org/event/live-jazz-marel-hidalgo-trio/
END:VEVENT
END:VCALENDAR