BEGIN:VCALENDAR
VERSION:2.0
PRODID:-//Flemington DIY - ECPv6.15.20//NONSGML v1.0//EN
CALSCALE:GREGORIAN
METHOD:PUBLISH
X-WR-CALNAME:Flemington DIY
X-ORIGINAL-URL:https://www.flemingtondiy.org
X-WR-CALDESC:Events for Flemington DIY
REFRESH-INTERVAL;VALUE=DURATION:PT1H
X-Robots-Tag:noindex
X-PUBLISHED-TTL:PT1H
BEGIN:VTIMEZONE
TZID:America/New_York
BEGIN:DAYLIGHT
TZOFFSETFROM:-0500
TZOFFSETTO:-0400
TZNAME:EDT
DTSTART:20250309T070000
END:DAYLIGHT
BEGIN:STANDARD
TZOFFSETFROM:-0400
TZOFFSETTO:-0500
TZNAME:EST
DTSTART:20251102T060000
END:STANDARD
BEGIN:DAYLIGHT
TZOFFSETFROM:-0500
TZOFFSETTO:-0400
TZNAME:EDT
DTSTART:20260308T070000
END:DAYLIGHT
BEGIN:STANDARD
TZOFFSETFROM:-0400
TZOFFSETTO:-0500
TZNAME:EST
DTSTART:20261101T060000
END:STANDARD
BEGIN:DAYLIGHT
TZOFFSETFROM:-0500
TZOFFSETTO:-0400
TZNAME:EDT
DTSTART:20270314T070000
END:DAYLIGHT
BEGIN:STANDARD
TZOFFSETFROM:-0400
TZOFFSETTO:-0500
TZNAME:EST
DTSTART:20271107T060000
END:STANDARD
END:VTIMEZONE
BEGIN:VEVENT
DTSTART;VALUE=DATE:20260307
DTEND;VALUE=DATE:20260329
DTSTAMP:20260423T184241
CREATED:20260111T234231Z
LAST-MODIFIED:20260319T234225Z
UID:10003811-1772841600-1774742399@www.flemingtondiy.org
SUMMARY:Glimmers Through the Lens - Photography Show on Display
DESCRIPTION:https://www.flemingtondiy.org/glimmers/
URL:https://www.flemingtondiy.org/event/photography-art-show/
END:VEVENT
BEGIN:VEVENT
DTSTART;TZID=America/New_York:20260314T120000
DTEND;TZID=America/New_York:20260314T170000
DTSTAMP:20260423T184241
CREATED:20260107T235213Z
LAST-MODIFIED:20260313T234223Z
UID:10003801-1773489600-1773507600@www.flemingtondiy.org
SUMMARY:Flemington Zine Fest
DESCRIPTION:Celebrate DIY publishing and zines of all genres\, styles\, and mediums at the first annual Flemington Zine Fest at Flemington DIY!
URL:https://www.flemingtondiy.org/event/flemington-zine-fest/
END:VEVENT
BEGIN:VEVENT
DTSTART;TZID=America/New_York:20260314T193000
DTEND;TZID=America/New_York:20260314T220000
DTSTAMP:20260423T184241
CREATED:20260218T234245Z
LAST-MODIFIED:20260314T234223Z
UID:10003919-1773516600-1773525600@www.flemingtondiy.org
SUMMARY:Live Music - Indie
DESCRIPTION:Madska (indie/pop/alt)Gazee (indie/shoegaze)Pocketgum (dreampunk) \n$10Doors at 7:00\, Music at 7:30All agesNo drugs/no alcohol
URL:https://www.flemingtondiy.org/event/live-music-indie/
END:VEVENT
END:VCALENDAR