BEGIN:VCALENDAR
VERSION:2.0
PRODID:-//Flemington DIY - ECPv6.15.20//NONSGML v1.0//EN
CALSCALE:GREGORIAN
METHOD:PUBLISH
X-WR-CALNAME:Flemington DIY
X-ORIGINAL-URL:https://www.flemingtondiy.org
X-WR-CALDESC:Events for Flemington DIY
REFRESH-INTERVAL;VALUE=DURATION:PT1H
X-Robots-Tag:noindex
X-PUBLISHED-TTL:PT1H
BEGIN:VTIMEZONE
TZID:America/New_York
BEGIN:DAYLIGHT
TZOFFSETFROM:-0500
TZOFFSETTO:-0400
TZNAME:EDT
DTSTART:20250309T070000
END:DAYLIGHT
BEGIN:STANDARD
TZOFFSETFROM:-0400
TZOFFSETTO:-0500
TZNAME:EST
DTSTART:20251102T060000
END:STANDARD
BEGIN:DAYLIGHT
TZOFFSETFROM:-0500
TZOFFSETTO:-0400
TZNAME:EDT
DTSTART:20260308T070000
END:DAYLIGHT
BEGIN:STANDARD
TZOFFSETFROM:-0400
TZOFFSETTO:-0500
TZNAME:EST
DTSTART:20261101T060000
END:STANDARD
BEGIN:DAYLIGHT
TZOFFSETFROM:-0500
TZOFFSETTO:-0400
TZNAME:EDT
DTSTART:20270314T070000
END:DAYLIGHT
BEGIN:STANDARD
TZOFFSETFROM:-0400
TZOFFSETTO:-0500
TZNAME:EST
DTSTART:20271107T060000
END:STANDARD
END:VTIMEZONE
BEGIN:VEVENT
DTSTART;VALUE=DATE:20260307
DTEND;VALUE=DATE:20260329
DTSTAMP:20260423T184240
CREATED:20260111T234231Z
LAST-MODIFIED:20260319T234225Z
UID:10003811-1772841600-1774742399@www.flemingtondiy.org
SUMMARY:Glimmers Through the Lens - Photography Show on Display
DESCRIPTION:https://www.flemingtondiy.org/glimmers/
URL:https://www.flemingtondiy.org/event/photography-art-show/
END:VEVENT
BEGIN:VEVENT
DTSTART;TZID=America/New_York:20260313T120000
DTEND;TZID=America/New_York:20260313T140000
DTSTAMP:20260423T184240
CREATED:20260130T234230Z
LAST-MODIFIED:20260310T234222Z
UID:10003866-1773403200-1773410400@www.flemingtondiy.org
SUMMARY:Youth Print Club
DESCRIPTION:Youth Screen Printing Club – open to all $15-30 sliding scale to attendMust Preregister! REGISTERATION coming soonBring a black and white image to print or upload during registrationEmail arts@flemingtondiy.org with questionsFind more info on flemingtondiy.org
URL:https://www.flemingtondiy.org/event/youth-print-club-2/
END:VEVENT
BEGIN:VEVENT
DTSTART;TZID=America/New_York:20260313T193000
DTEND;TZID=America/New_York:20260313T220000
DTSTAMP:20260423T184240
CREATED:20260210T234243Z
LAST-MODIFIED:20260313T234223Z
UID:10003901-1773430200-1773439200@www.flemingtondiy.org
SUMMARY:Songwriter Showcase
DESCRIPTION:Songwriter ShowcaseMusic begins at 7:30 PM $10 at the door  \nDid you know Flemington DIY has a monthly Songwriter Circle the 2nd Tuesday of every month? We play each other the songs we’ve been working on\, and the group shares suggestions as to how to make them even better. We thought it might be a nice opportunity to share some of what we’ve been working on with an actual audience….you!  \nThe folks performing this evening include:  \nJohn Hone started out on the drums but added guitar as you can’t sing your kids to sleep with the drums. He stills performs on drums but loves composing and performing original songs and instrumentals on guitar.  \nSarah Wedeking (she/they) is a hobbyist songwriter who has always failed to write a happy song. You can find them jamming on a ukulele or the occasional guitar\, drawing her influences from artists like Lizzy McAlpine to Joni Mitchell to obscure musical theatre.  \nRoia Rafieyan (she/her) is a guitarist and songwriter. Her songs are attempts at working out things she’s thinking about\, conversations she probably should be having\, and sometimes written to get something out of her system.  \nAfter a long hiatus from songwriting\, Matt Haden bumped into an ad somewhere about the Flemington DIY Songwriter Circle.  He still doesn’t know what exactly inspired him to open up his guitar case\, but he’s glad he did\, because the vibe and accountability of the circle is exactly what he needed to get his hands and brain moving once again in a musical way.  A year or so and 10 or 12 songs later (thank you songwriting circle random word generator) he looks forward to presenting some of his works for the first time in many years. \nTracy Mistichelli is an amateur musician who plays drums\, guitar\, and piano. She loves bouncing between rhythm and melody and figuring out how songs are built from the inside out. She is always learning\, always playing. \nJay DiMartino is a Flemington local returning to music after a long hiatus. He has been writing and playing music in some fashion for over 30 years. Influences include Neil Young\, Pearl Jam and the Dave Matthew’s band. 
URL:https://www.flemingtondiy.org/event/songwriter-showcase/
END:VEVENT
END:VCALENDAR