BEGIN:VCALENDAR
VERSION:2.0
PRODID:-//Flemington DIY - ECPv6.15.20//NONSGML v1.0//EN
CALSCALE:GREGORIAN
METHOD:PUBLISH
X-ORIGINAL-URL:https://www.flemingtondiy.org
X-WR-CALDESC:Events for Flemington DIY
REFRESH-INTERVAL;VALUE=DURATION:PT1H
X-Robots-Tag:noindex
X-PUBLISHED-TTL:PT1H
BEGIN:VTIMEZONE
TZID:America/New_York
BEGIN:DAYLIGHT
TZOFFSETFROM:-0500
TZOFFSETTO:-0400
TZNAME:EDT
DTSTART:20250309T070000
END:DAYLIGHT
BEGIN:STANDARD
TZOFFSETFROM:-0400
TZOFFSETTO:-0500
TZNAME:EST
DTSTART:20251102T060000
END:STANDARD
BEGIN:DAYLIGHT
TZOFFSETFROM:-0500
TZOFFSETTO:-0400
TZNAME:EDT
DTSTART:20260308T070000
END:DAYLIGHT
BEGIN:STANDARD
TZOFFSETFROM:-0400
TZOFFSETTO:-0500
TZNAME:EST
DTSTART:20261101T060000
END:STANDARD
BEGIN:DAYLIGHT
TZOFFSETFROM:-0500
TZOFFSETTO:-0400
TZNAME:EDT
DTSTART:20270314T070000
END:DAYLIGHT
BEGIN:STANDARD
TZOFFSETFROM:-0400
TZOFFSETTO:-0500
TZNAME:EST
DTSTART:20271107T060000
END:STANDARD
END:VTIMEZONE
BEGIN:VEVENT
DTSTART;TZID=America/New_York:20260226T113000
DTEND;TZID=America/New_York:20260226T180000
DTSTAMP:20260423T202437
CREATED:20251107T233720Z
LAST-MODIFIED:20260225T234230Z
UID:10003540-1772105400-1772128800@www.flemingtondiy.org
SUMMARY:Open Hours
DESCRIPTION:
URL:https://www.flemingtondiy.org/event/open-hours-355/
END:VEVENT
BEGIN:VEVENT
DTSTART;TZID=America/New_York:20260226T180000
DTEND;TZID=America/New_York:20260226T200000
DTSTAMP:20260423T202437
CREATED:20251103T235219Z
LAST-MODIFIED:20260225T234230Z
UID:10003529-1772128800-1772136000@www.flemingtondiy.org
SUMMARY:Pop Art Pet Portraits Class
DESCRIPTION:Looking for a fun and creative way to celebrate your furry friend? Join us for a 2-hour Pop Art Pet Portrait class\, where you’ll be guided step-by-step in transforming your pet into a bold\, colorful masterpiece. No prior art skills are required— you’ll learn simple techniques that make it easy for anyone to succeed\, whether you’re a beginner or already love painting. \nFor only $149.00\, everything you need is included—canvas\, paints\, brushes\, and plenty of encouragement. By the end of class\, you’ll walk away with a vibrant\, one-of-a-kind portrait that captures your pet’s personality in pop art style. \nA perfect activity for animal lovers\, a unique gift idea\, or just a fun way to spend an evening! \nwww.flemingtondiy.org/pet
URL:https://www.flemingtondiy.org/event/pop-art-pet-portraits-class/
END:VEVENT
END:VCALENDAR