BEGIN:VCALENDAR
VERSION:2.0
PRODID:-//Flemington DIY - ECPv6.15.20//NONSGML v1.0//EN
CALSCALE:GREGORIAN
METHOD:PUBLISH
X-ORIGINAL-URL:https://www.flemingtondiy.org
X-WR-CALDESC:Events for Flemington DIY
REFRESH-INTERVAL;VALUE=DURATION:PT1H
X-Robots-Tag:noindex
X-PUBLISHED-TTL:PT1H
BEGIN:VTIMEZONE
TZID:America/New_York
BEGIN:DAYLIGHT
TZOFFSETFROM:-0500
TZOFFSETTO:-0400
TZNAME:EDT
DTSTART:20250309T070000
END:DAYLIGHT
BEGIN:STANDARD
TZOFFSETFROM:-0400
TZOFFSETTO:-0500
TZNAME:EST
DTSTART:20251102T060000
END:STANDARD
BEGIN:DAYLIGHT
TZOFFSETFROM:-0500
TZOFFSETTO:-0400
TZNAME:EDT
DTSTART:20260308T070000
END:DAYLIGHT
BEGIN:STANDARD
TZOFFSETFROM:-0400
TZOFFSETTO:-0500
TZNAME:EST
DTSTART:20261101T060000
END:STANDARD
BEGIN:DAYLIGHT
TZOFFSETFROM:-0500
TZOFFSETTO:-0400
TZNAME:EDT
DTSTART:20270314T070000
END:DAYLIGHT
BEGIN:STANDARD
TZOFFSETFROM:-0400
TZOFFSETTO:-0500
TZNAME:EST
DTSTART:20271107T060000
END:STANDARD
END:VTIMEZONE
BEGIN:VEVENT
DTSTART;VALUE=DATE:20260115
DTEND;VALUE=DATE:20260222
DTSTAMP:20260423T221930
CREATED:20251113T233719Z
LAST-MODIFIED:20260221T234245Z
UID:10003676-1768435200-1771718399@www.flemingtondiy.org
SUMMARY:Youth Art Show
DESCRIPTION:JANUARY 17 – FEBRUARY 21\, 2026\nOPENING RECEPTION : Saturday\, January 17\, 2026 10am – 12pm\n \nFlemington DIY is starting off the New Year with a Youth Art Show!  We put out the call for young artist (ages 12 and younger) to be apart of an art show.  Seven brave local artists (ages 8-12) answered that call.  \nAll ages are welcome to come see what they’ve made and be inspired to create something yourself.  \n 
URL:https://www.flemingtondiy.org/event/youth-art-show/
END:VEVENT
BEGIN:VEVENT
DTSTART;TZID=America/New_York:20260131T130000
DTEND;TZID=America/New_York:20260131T150000
DTSTAMP:20260423T221930
CREATED:20260105T235232Z
LAST-MODIFIED:20260130T234228Z
UID:10003791-1769864400-1769871600@www.flemingtondiy.org
SUMMARY:Rising Stars Kids Talent Showcase
DESCRIPTION:Registration is now open for any performers (musicians\, vocalist\, dancers\, storytellers\, etc.)\, ages 5 – 18\, who would like to join us for our January 31st show at 1:00PM. \n  \nWe welcome all levels\, from beginners to seasoned performers\, to our judgement free space! Here’s how to join us: \n–       All performers must register ahead of time. Sorry\, no walk ins. \n–       Send a brief sample video of your talent to talentshowdiy@gmail.com \nanytime between before the submission deadline of Sun.\, January 25th. \n(No submission needed if you have performed with us at least once before.) \n–       Performances can be solo or in small groups. (Friends and relatives are welcome!) \n–       Your submission is not an audition\, but rather helps us diversify the program.  \n–       Microphones and a piano are available on site for those who will need it. \n  \nAdmission: \n$10 – adults/$5 – kids \nFree for ages 5 and younger \nNo charge\, of course\, for our performers😊 \n*Tickets will be available @ www.flemingtondiy.org starting January 24th or at the door.* \n  \nCookies and milk will be available throughout the show via your donations with 100% going towards future programming at DIY. Invite your family\, friends and neighbors to what promises to be yet another dynamic showcase!
URL:https://www.flemingtondiy.org/event/rising-stars-kids-talent-showcase/
END:VEVENT
BEGIN:VEVENT
DTSTART;TZID=America/New_York:20260131T190000
DTEND;TZID=America/New_York:20260131T220000
DTSTAMP:20260423T221930
CREATED:20251207T233718Z
LAST-MODIFIED:20260131T234233Z
UID:10003751-1769886000-1769896800@www.flemingtondiy.org
SUMMARY:Live Music - Dungeon Synth
DESCRIPTION:DARKEST DUNGEONS (Dungeon Wave)Streaming Woodlands (Dungeon Synth)izolat (NYC Dark Dungeon Synth)Ruined Castle Wall (Dungeon Noise) \n$10Doors at 6:30All AgesNo Drugs/No Alcohol
URL:https://www.flemingtondiy.org/event/live-music-dungeon-synth/
END:VEVENT
END:VCALENDAR