BEGIN:VCALENDAR
VERSION:2.0
PRODID:-//Flemington DIY - ECPv6.15.20//NONSGML v1.0//EN
CALSCALE:GREGORIAN
METHOD:PUBLISH
X-WR-CALNAME:Flemington DIY
X-ORIGINAL-URL:https://www.flemingtondiy.org
X-WR-CALDESC:Events for Flemington DIY
REFRESH-INTERVAL;VALUE=DURATION:PT1H
X-Robots-Tag:noindex
X-PUBLISHED-TTL:PT1H
BEGIN:VTIMEZONE
TZID:America/New_York
BEGIN:DAYLIGHT
TZOFFSETFROM:-0500
TZOFFSETTO:-0400
TZNAME:EDT
DTSTART:20250309T070000
END:DAYLIGHT
BEGIN:STANDARD
TZOFFSETFROM:-0400
TZOFFSETTO:-0500
TZNAME:EST
DTSTART:20251102T060000
END:STANDARD
BEGIN:DAYLIGHT
TZOFFSETFROM:-0500
TZOFFSETTO:-0400
TZNAME:EDT
DTSTART:20260308T070000
END:DAYLIGHT
BEGIN:STANDARD
TZOFFSETFROM:-0400
TZOFFSETTO:-0500
TZNAME:EST
DTSTART:20261101T060000
END:STANDARD
BEGIN:DAYLIGHT
TZOFFSETFROM:-0500
TZOFFSETTO:-0400
TZNAME:EDT
DTSTART:20270314T070000
END:DAYLIGHT
BEGIN:STANDARD
TZOFFSETFROM:-0400
TZOFFSETTO:-0500
TZNAME:EST
DTSTART:20271107T060000
END:STANDARD
END:VTIMEZONE
BEGIN:VEVENT
DTSTART;VALUE=DATE:20260115
DTEND;VALUE=DATE:20260222
DTSTAMP:20260423T220118
CREATED:20251113T233719Z
LAST-MODIFIED:20260221T234245Z
UID:10003676-1768435200-1771718399@www.flemingtondiy.org
SUMMARY:Youth Art Show
DESCRIPTION:JANUARY 17 – FEBRUARY 21\, 2026\nOPENING RECEPTION : Saturday\, January 17\, 2026 10am – 12pm\n \nFlemington DIY is starting off the New Year with a Youth Art Show!  We put out the call for young artist (ages 12 and younger) to be apart of an art show.  Seven brave local artists (ages 8-12) answered that call.  \nAll ages are welcome to come see what they’ve made and be inspired to create something yourself.  \n 
URL:https://www.flemingtondiy.org/event/youth-art-show/
END:VEVENT
BEGIN:VEVENT
DTSTART;TZID=America/New_York:20260129T113000
DTEND;TZID=America/New_York:20260129T180000
DTSTAMP:20260423T220118
CREATED:20251107T233719Z
LAST-MODIFIED:20260128T234223Z
UID:10003535-1769686200-1769709600@www.flemingtondiy.org
SUMMARY:Open Hours
DESCRIPTION:
URL:https://www.flemingtondiy.org/event/open-hours-351/
END:VEVENT
BEGIN:VEVENT
DTSTART;TZID=America/New_York:20260129T190000
DTEND;TZID=America/New_York:20260129T210000
DTSTAMP:20260423T220118
CREATED:20260112T234240Z
LAST-MODIFIED:20260129T234224Z
UID:10003817-1769713200-1769720400@www.flemingtondiy.org
SUMMARY:Keep ICE out of our Community - Whistle & Informational Zine Packet Making
DESCRIPTION:Whistle & Informational Zine Packet MakingThursday\, 1/29 | 7-9PMFlemington DIY\, 26 Stangl Road \nHelp put together free packets to help inform our community about their rights and what to do if they see ICE. We’ll be putting together informational zines about how to spot and report ICE\, what rights individuals and businesses have\, and what you can do to support our immigrant community members. We will also have alert whistles so that community members can alert others in the area of ICE’s presence. Join the conversation to learn more about how you can get involved in keeping our communities safe. \nHosted by concerned community members like you!Never doubt that a small group of thoughtful\, committed citizens can change the world. Indeed\, it is the only thing that ever has. – Margaret MeadQuestions? Contact Jae at flemingtonqts@gmail.com
URL:https://www.flemingtondiy.org/event/keep-ice-out-of-our-community-whistle-informational-zine-packet-making/
END:VEVENT
END:VCALENDAR