BEGIN:VCALENDAR
VERSION:2.0
PRODID:-//Flemington DIY - ECPv6.15.20//NONSGML v1.0//EN
CALSCALE:GREGORIAN
METHOD:PUBLISH
X-WR-CALNAME:Flemington DIY
X-ORIGINAL-URL:https://www.flemingtondiy.org
X-WR-CALDESC:Events for Flemington DIY
REFRESH-INTERVAL;VALUE=DURATION:PT1H
X-Robots-Tag:noindex
X-PUBLISHED-TTL:PT1H
BEGIN:VTIMEZONE
TZID:America/New_York
BEGIN:DAYLIGHT
TZOFFSETFROM:-0500
TZOFFSETTO:-0400
TZNAME:EDT
DTSTART:20240310T070000
END:DAYLIGHT
BEGIN:STANDARD
TZOFFSETFROM:-0400
TZOFFSETTO:-0500
TZNAME:EST
DTSTART:20241103T060000
END:STANDARD
BEGIN:DAYLIGHT
TZOFFSETFROM:-0500
TZOFFSETTO:-0400
TZNAME:EDT
DTSTART:20250309T070000
END:DAYLIGHT
BEGIN:STANDARD
TZOFFSETFROM:-0400
TZOFFSETTO:-0500
TZNAME:EST
DTSTART:20251102T060000
END:STANDARD
BEGIN:DAYLIGHT
TZOFFSETFROM:-0500
TZOFFSETTO:-0400
TZNAME:EDT
DTSTART:20260308T070000
END:DAYLIGHT
BEGIN:STANDARD
TZOFFSETFROM:-0400
TZOFFSETTO:-0500
TZNAME:EST
DTSTART:20261101T060000
END:STANDARD
END:VTIMEZONE
BEGIN:VEVENT
DTSTART;TZID=America/New_York:20251113T113000
DTEND;TZID=America/New_York:20251113T180000
DTSTAMP:20260424T012910
CREATED:20241221T233550Z
LAST-MODIFIED:20251111T235235Z
UID:10002901-1763033400-1763056800@www.flemingtondiy.org
SUMMARY:Open Hours
DESCRIPTION:Visit the space\, see our current art shows\, hang out\, and learn how to get involved!
URL:https://www.flemingtondiy.org/event/open-hours-236/
END:VEVENT
BEGIN:VEVENT
DTSTART;TZID=America/New_York:20251113T180000
DTEND;TZID=America/New_York:20251113T200000
DTSTAMP:20260424T012910
CREATED:20250106T235054Z
LAST-MODIFIED:20251113T233731Z
UID:10002933-1763056800-1763064000@www.flemingtondiy.org
SUMMARY:ASL Chat
DESCRIPTION:American Sign Language (ASL) is the predominant sign language of deaf and hard of hearing people in the United States. If you know or are learning ASL\, come sign with us in a casual and supportive space. Deaf\, hard of hearing\, and hearing people are welcome. Come socialize and make new friends in a voice-off environment!  \nFlemington DIY ASL Chats are in person and free to attend. There is no registration required. Please note that everyone is expected to use ASL to communicate during the events.
URL:https://www.flemingtondiy.org/event/asl-chat-5/
END:VEVENT
END:VCALENDAR