BEGIN:VCALENDAR
VERSION:2.0
PRODID:-//Flemington DIY - ECPv6.15.20//NONSGML v1.0//EN
CALSCALE:GREGORIAN
METHOD:PUBLISH
X-ORIGINAL-URL:https://www.flemingtondiy.org
X-WR-CALDESC:Events for Flemington DIY
REFRESH-INTERVAL;VALUE=DURATION:PT1H
X-Robots-Tag:noindex
X-PUBLISHED-TTL:PT1H
BEGIN:VTIMEZONE
TZID:America/New_York
BEGIN:DAYLIGHT
TZOFFSETFROM:-0500
TZOFFSETTO:-0400
TZNAME:EDT
DTSTART:20240310T070000
END:DAYLIGHT
BEGIN:STANDARD
TZOFFSETFROM:-0400
TZOFFSETTO:-0500
TZNAME:EST
DTSTART:20241103T060000
END:STANDARD
BEGIN:DAYLIGHT
TZOFFSETFROM:-0500
TZOFFSETTO:-0400
TZNAME:EDT
DTSTART:20250309T070000
END:DAYLIGHT
BEGIN:STANDARD
TZOFFSETFROM:-0400
TZOFFSETTO:-0500
TZNAME:EST
DTSTART:20251102T060000
END:STANDARD
BEGIN:DAYLIGHT
TZOFFSETFROM:-0500
TZOFFSETTO:-0400
TZNAME:EDT
DTSTART:20260308T070000
END:DAYLIGHT
BEGIN:STANDARD
TZOFFSETFROM:-0400
TZOFFSETTO:-0500
TZNAME:EST
DTSTART:20261101T060000
END:STANDARD
END:VTIMEZONE
BEGIN:VEVENT
DTSTART;TZID=America/New_York:20251108T090000
DTEND;TZID=America/New_York:20251108T143000
DTSTAMP:20260424T012908
CREATED:20251028T235222Z
LAST-MODIFIED:20251107T233739Z
UID:10003517-1762592400-1762612200@www.flemingtondiy.org
SUMMARY:Open Gallery & Tea Ceremony
DESCRIPTION:Tea Ceremony – a free-form tea ceremony\, Simon Keller            10:00 am – 12:00 pm\, RSVP\, max. 5 participants\, recommended donation: $10.
URL:https://www.flemingtondiy.org/event/open-gallery-tea-ceremony/
END:VEVENT
BEGIN:VEVENT
DTSTART;TZID=America/New_York:20251108T150000
DTEND;TZID=America/New_York:20251108T170000
DTSTAMP:20260424T012908
CREATED:20250910T233514Z
LAST-MODIFIED:20251107T233740Z
UID:10003416-1762614000-1762621200@www.flemingtondiy.org
SUMMARY:Ear Seeds Community Workshop w/Nicole
DESCRIPTION:Join Jersey Community Acupuncture’s Nicole Maniez as she leads a  workshop sharing Ear Seeds and their application in stress relief\, pain relief and community care. Sliding scale donation to Flemington DIY of $15-40 includes ear seeds and kit. Registration required by Nov 1st – REGISTER HERE
URL:https://www.flemingtondiy.org/event/ear-seeds-community-workshop-w-nicole/
END:VEVENT
BEGIN:VEVENT
DTSTART;TZID=America/New_York:20251108T190000
DTEND;TZID=America/New_York:20251108T220000
DTSTAMP:20260424T012908
CREATED:20250917T233536Z
LAST-MODIFIED:20251108T233734Z
UID:10003428-1762628400-1762639200@www.flemingtondiy.org
SUMMARY:Live Music: Good Luck w/Sweet Harm & Dark Surfers
DESCRIPTION:Originally formed in Bloomington\, Indiana in the late aughts\, Good Luck plays joyful\, intricate\, unique punk-ish music with a DIY spirit. They always delicately straddled the border lines between interwoven scenes\, trying on Midwest emo\, jangly singer-songwriter\, anthemic rock\, and twinkle guitar before settling somewhere in no man’s land with their own sound and a “we’re a punk band” shrug.  \nAfter a decade-or-so hiatus\, Ginger\, Matt\, and Mike got together again in 2024. With rejuvenated energy and a concerted “not a reunion band” effort\, they’re playing some select dates in support of their soon-to-be-released first album in 14 years. They’ve got big dreams\, mister. \nGood Luck will be joined by Sweet Harm (punk) and Dark Surfers (indie dream pop)  \nAll ages. Doors 7pm Show 8pm$15 adv $18 door \nGet Tickets: https://www.flemingtondiy.org/good-luck
URL:https://www.flemingtondiy.org/event/live-music-good-luck-w-sweet-harm/
END:VEVENT
END:VCALENDAR