BEGIN:VCALENDAR
VERSION:2.0
PRODID:-//Flemington DIY - ECPv6.15.20//NONSGML v1.0//EN
CALSCALE:GREGORIAN
METHOD:PUBLISH
X-WR-CALNAME:Flemington DIY
X-ORIGINAL-URL:https://www.flemingtondiy.org
X-WR-CALDESC:Events for Flemington DIY
REFRESH-INTERVAL;VALUE=DURATION:PT1H
X-Robots-Tag:noindex
X-PUBLISHED-TTL:PT1H
BEGIN:VTIMEZONE
TZID:America/New_York
BEGIN:DAYLIGHT
TZOFFSETFROM:-0500
TZOFFSETTO:-0400
TZNAME:EDT
DTSTART:20240310T070000
END:DAYLIGHT
BEGIN:STANDARD
TZOFFSETFROM:-0400
TZOFFSETTO:-0500
TZNAME:EST
DTSTART:20241103T060000
END:STANDARD
BEGIN:DAYLIGHT
TZOFFSETFROM:-0500
TZOFFSETTO:-0400
TZNAME:EDT
DTSTART:20250309T070000
END:DAYLIGHT
BEGIN:STANDARD
TZOFFSETFROM:-0400
TZOFFSETTO:-0500
TZNAME:EST
DTSTART:20251102T060000
END:STANDARD
BEGIN:DAYLIGHT
TZOFFSETFROM:-0500
TZOFFSETTO:-0400
TZNAME:EDT
DTSTART:20260308T070000
END:DAYLIGHT
BEGIN:STANDARD
TZOFFSETFROM:-0400
TZOFFSETTO:-0500
TZNAME:EST
DTSTART:20261101T060000
END:STANDARD
END:VTIMEZONE
BEGIN:VEVENT
DTSTART;TZID=America/New_York:20251101T100000
DTEND;TZID=America/New_York:20251101T130000
DTSTAMP:20260424T012856
CREATED:20250916T233516Z
LAST-MODIFIED:20251031T235227Z
UID:10003422-1761991200-1762002000@www.flemingtondiy.org
SUMMARY:Photo Capture Kickoff Event - Photo Marathon
DESCRIPTION:November Photo Capture 24 Hours Photo Marathon – Kickoff Event  \nJoin us for the Photo Capture KICKOFF event – a 24 hour photography marathon! Registered participants will meet at Flemington DIY and have a chance to mingle with other photographers as they await the announcement of four mystery themes. Participants will be challenged to create their images in a twenty four period while considering how to create a visual coherence amongst the themes. Participants are encouraged to begin their photographic adventure at Flemington DIY and continue wherever their creativity takes them. Flemington DIY will be open until 1pm for people to drop in and take a break\, discuss and share ideas. Photos taken during this event can be submitted at the end of the month for the projected show.  \nWhat to bring: Any kind of camera including phone cameras. Film cameras are also welcome!  \nREGISTRATION REQUIRED: https://form.jotform.com/252577171465160
URL:https://www.flemingtondiy.org/event/photo-capture-kickoff-event-photo-marathon/
END:VEVENT
BEGIN:VEVENT
DTSTART;TZID=America/New_York:20251101T170000
DTEND;TZID=America/New_York:20251101T203000
DTSTAMP:20260424T012856
CREATED:20250930T235022Z
LAST-MODIFIED:20251101T235224Z
UID:10003445-1762016400-1762029000@www.flemingtondiy.org
SUMMARY:lessISmore Art Opening Reception
DESCRIPTION:Our work showcases art that is born out of the lesser\, the bare necessities. Rather than relying on a false abundance of materials\, agents and devices\, we focus on the essentials and simplicity\, back to the roots\, embracing the non-processed and untamed.   \nFeatured artists:Nolan Yamashiro – photographySimon Keller – mixed-media\, performance artBenjamin Heidersberger\, soundscapeFrank May – performance artEric Spencer – ceramics & letter cuttingBenjamin Vogler – ceramicsMarek Benczevski\, ink drawings
URL:https://www.flemingtondiy.org/event/simon-keller-group-show-opening/
END:VEVENT
END:VCALENDAR