BEGIN:VCALENDAR
VERSION:2.0
PRODID:-//Flemington DIY - ECPv6.15.20//NONSGML v1.0//EN
CALSCALE:GREGORIAN
METHOD:PUBLISH
X-ORIGINAL-URL:https://www.flemingtondiy.org
X-WR-CALDESC:Events for Flemington DIY
REFRESH-INTERVAL;VALUE=DURATION:PT1H
X-Robots-Tag:noindex
X-PUBLISHED-TTL:PT1H
BEGIN:VTIMEZONE
TZID:America/New_York
BEGIN:DAYLIGHT
TZOFFSETFROM:-0500
TZOFFSETTO:-0400
TZNAME:EDT
DTSTART:20240310T070000
END:DAYLIGHT
BEGIN:STANDARD
TZOFFSETFROM:-0400
TZOFFSETTO:-0500
TZNAME:EST
DTSTART:20241103T060000
END:STANDARD
BEGIN:DAYLIGHT
TZOFFSETFROM:-0500
TZOFFSETTO:-0400
TZNAME:EDT
DTSTART:20250309T070000
END:DAYLIGHT
BEGIN:STANDARD
TZOFFSETFROM:-0400
TZOFFSETTO:-0500
TZNAME:EST
DTSTART:20251102T060000
END:STANDARD
BEGIN:DAYLIGHT
TZOFFSETFROM:-0500
TZOFFSETTO:-0400
TZNAME:EDT
DTSTART:20260308T070000
END:DAYLIGHT
BEGIN:STANDARD
TZOFFSETFROM:-0400
TZOFFSETTO:-0500
TZNAME:EST
DTSTART:20261101T060000
END:STANDARD
END:VTIMEZONE
BEGIN:VEVENT
DTSTART;VALUE=DATE:20251001
DTEND;VALUE=DATE:20251101
DTSTAMP:20260424T031446
CREATED:20250918T233511Z
LAST-MODIFIED:20251031T235227Z
UID:10003429-1759276800-1761955199@www.flemingtondiy.org
SUMMARY:What is  American? Art Show
DESCRIPTION:
URL:https://www.flemingtondiy.org/event/bipoc-american-revolution-art-show/
END:VEVENT
BEGIN:VEVENT
DTSTART;TZID=America/New_York:20251019T100000
DTEND;TZID=America/New_York:20251019T130000
DTSTAMP:20260424T031446
CREATED:20250917T233528Z
LAST-MODIFIED:20251018T235234Z
UID:10003427-1760868000-1760878800@www.flemingtondiy.org
SUMMARY:Self-Care Sunday with HC Mamas
DESCRIPTION:You Deserve This\, Mama ✨💆🏽‍♀️Join us for Self-Care Sunday \nMotherhood is beautiful — but let’s be real\, it’s also exhausting. That’s why we’re creating a space just for you. No littles running around. No distractions or requests from your tiny humans. No guilt. Just three hours of rest\, renewal\, and real human connection \nAt Self-Care Sunday\, you’ll enjoy: 🌿 Mini self-care treatments 🛍️ Wellness product samples + mama-friendly local wellness vendors ☕ Sips\, snacks\, and soul-filling conversations 🤝 A chance to connect with other moms who get it ✨ A gentle reset before the week begins \nThis isn’t just a wellness event — it’s a reminder: You are allowed to take care of yourself\, too 💕 \nReserve your spot now & invite a fellow mama who needs this! ** To apply as a vendor please DM @katiecooperwellness
URL:https://www.flemingtondiy.org/event/self-care-sunday-with-hc-mamas/
END:VEVENT
BEGIN:VEVENT
DTSTART;TZID=America/New_York:20251019T183000
DTEND;TZID=America/New_York:20251019T220000
DTSTAMP:20260424T031446
CREATED:20250915T233517Z
LAST-MODIFIED:20251019T235238Z
UID:10003420-1760898600-1760911200@www.flemingtondiy.org
SUMMARY:Live Music - Hardcore
DESCRIPTION:Yet It Moves (post-hardcore)Stential (emotional hardcore)Our Wits (emotional catharsis)Adrienne’s Thread (chaoticore)DedEx (math rock) \n$106pm doors\, 6:30 musicNo drugs/no alcohol All ages
URL:https://www.flemingtondiy.org/event/live-music-hardcore/
END:VEVENT
END:VCALENDAR