BEGIN:VCALENDAR
VERSION:2.0
PRODID:-//Flemington DIY - ECPv6.15.20//NONSGML v1.0//EN
CALSCALE:GREGORIAN
METHOD:PUBLISH
X-ORIGINAL-URL:https://www.flemingtondiy.org
X-WR-CALDESC:Events for Flemington DIY
REFRESH-INTERVAL;VALUE=DURATION:PT1H
X-Robots-Tag:noindex
X-PUBLISHED-TTL:PT1H
BEGIN:VTIMEZONE
TZID:America/New_York
BEGIN:DAYLIGHT
TZOFFSETFROM:-0500
TZOFFSETTO:-0400
TZNAME:EDT
DTSTART:20240310T070000
END:DAYLIGHT
BEGIN:STANDARD
TZOFFSETFROM:-0400
TZOFFSETTO:-0500
TZNAME:EST
DTSTART:20241103T060000
END:STANDARD
BEGIN:DAYLIGHT
TZOFFSETFROM:-0500
TZOFFSETTO:-0400
TZNAME:EDT
DTSTART:20250309T070000
END:DAYLIGHT
BEGIN:STANDARD
TZOFFSETFROM:-0400
TZOFFSETTO:-0500
TZNAME:EST
DTSTART:20251102T060000
END:STANDARD
BEGIN:DAYLIGHT
TZOFFSETFROM:-0500
TZOFFSETTO:-0400
TZNAME:EDT
DTSTART:20260308T070000
END:DAYLIGHT
BEGIN:STANDARD
TZOFFSETFROM:-0400
TZOFFSETTO:-0500
TZNAME:EST
DTSTART:20261101T060000
END:STANDARD
END:VTIMEZONE
BEGIN:VEVENT
DTSTART;VALUE=DATE:20251001
DTEND;VALUE=DATE:20251101
DTSTAMP:20260424T031444
CREATED:20250918T233511Z
LAST-MODIFIED:20251031T235227Z
UID:10003429-1759276800-1761955199@www.flemingtondiy.org
SUMMARY:What is  American? Art Show
DESCRIPTION:
URL:https://www.flemingtondiy.org/event/bipoc-american-revolution-art-show/
END:VEVENT
BEGIN:VEVENT
DTSTART;TZID=America/New_York:20251013T180000
DTEND;TZID=America/New_York:20251013T200000
DTSTAMP:20260424T031444
CREATED:20250904T235035Z
LAST-MODIFIED:20251013T235022Z
UID:10003411-1760378400-1760385600@www.flemingtondiy.org
SUMMARY:Hunterdon Fiber Artists
DESCRIPTION:Looking to meet other fiber artists in the Hunterdon county area?  Think about coming to Hunterdon Fiber Artists meet up to socialize and connect with others doing the fiber art craft that they love. \nAll are welcome.  Just bring your craft be it knitting\, crocheting\, spinning\, etc.\, and be prepared to meet lots of fun and interesting people!  We even have mini educational talks on requested topics! \nOur FB group is Hunterdon Fiber Artists https://www.facebook.com/groups/1101970274078722 \nOur Ravelry group is https://www.ravelry.com/groups/hunterdon-fiber-artists?s=tab \nEvery other Monday at DIY; $3-5 suggested donation.
URL:https://www.flemingtondiy.org/event/hunterdon-fiber-artists-3/
END:VEVENT
BEGIN:VEVENT
DTSTART;TZID=America/New_York:20251013T180000
DTEND;TZID=America/New_York:20251013T210000
DTSTAMP:20260424T031444
CREATED:20231107T010620Z
LAST-MODIFIED:20251013T235022Z
UID:10001892-1760378400-1760389200@www.flemingtondiy.org
SUMMARY:Print Club
DESCRIPTION:Flemington DIY Print Club is a weekly open studio held from 6-9PM every Monday\, $15-30 per printer. It provides an opportunity for local artists and community members new to arts processes to utilize shared printmaking facilities. Print Club provides a platform for artists to network\, build community\, and work collaboratively. \nNo experience? No problem! Our vounteers will guide you through the process from start to finish! \nLearn more: https://www.flemingtondiy.org/printclub/
URL:https://www.flemingtondiy.org/event/print-club-254/
END:VEVENT
END:VCALENDAR