BEGIN:VCALENDAR
VERSION:2.0
PRODID:-//Flemington DIY - ECPv6.15.20//NONSGML v1.0//EN
CALSCALE:GREGORIAN
METHOD:PUBLISH
X-WR-CALNAME:Flemington DIY
X-ORIGINAL-URL:https://www.flemingtondiy.org
X-WR-CALDESC:Events for Flemington DIY
REFRESH-INTERVAL;VALUE=DURATION:PT1H
X-Robots-Tag:noindex
X-PUBLISHED-TTL:PT1H
BEGIN:VTIMEZONE
TZID:America/New_York
BEGIN:DAYLIGHT
TZOFFSETFROM:-0500
TZOFFSETTO:-0400
TZNAME:EDT
DTSTART:20240310T070000
END:DAYLIGHT
BEGIN:STANDARD
TZOFFSETFROM:-0400
TZOFFSETTO:-0500
TZNAME:EST
DTSTART:20241103T060000
END:STANDARD
BEGIN:DAYLIGHT
TZOFFSETFROM:-0500
TZOFFSETTO:-0400
TZNAME:EDT
DTSTART:20250309T070000
END:DAYLIGHT
BEGIN:STANDARD
TZOFFSETFROM:-0400
TZOFFSETTO:-0500
TZNAME:EST
DTSTART:20251102T060000
END:STANDARD
BEGIN:DAYLIGHT
TZOFFSETFROM:-0500
TZOFFSETTO:-0400
TZNAME:EDT
DTSTART:20260308T070000
END:DAYLIGHT
BEGIN:STANDARD
TZOFFSETFROM:-0400
TZOFFSETTO:-0500
TZNAME:EST
DTSTART:20261101T060000
END:STANDARD
END:VTIMEZONE
BEGIN:VEVENT
DTSTART;VALUE=DATE:20251001
DTEND;VALUE=DATE:20251101
DTSTAMP:20260424T040605
CREATED:20250918T233511Z
LAST-MODIFIED:20251031T235227Z
UID:10003429-1759276800-1761955199@www.flemingtondiy.org
SUMMARY:What is  American? Art Show
DESCRIPTION:
URL:https://www.flemingtondiy.org/event/bipoc-american-revolution-art-show/
END:VEVENT
BEGIN:VEVENT
DTSTART;TZID=America/New_York:20251012T143000
DTEND;TZID=America/New_York:20251012T170000
DTSTAMP:20260424T040605
CREATED:20250304T233542Z
LAST-MODIFIED:20251011T233507Z
UID:10003100-1760279400-1760288400@www.flemingtondiy.org
SUMMARY:Women's Comedy Open Mic
DESCRIPTION:Ever wanted to share a joke with your friends? Have a friend who you think is hilarious but don’t know how to let other ladies know about her talent? Here’s an opportunity to give it a try. Enjoy a safe space to share laughs – and if you fail – it’s ok to get up and try again!
URL:https://www.flemingtondiy.org/event/womens-comedy-open-mic-34/
END:VEVENT
BEGIN:VEVENT
DTSTART;TZID=America/New_York:20251012T190000
DTEND;TZID=America/New_York:20251012T220000
DTSTAMP:20260424T040605
CREATED:20250928T233520Z
LAST-MODIFIED:20251012T233513Z
UID:10003440-1760295600-1760306400@www.flemingtondiy.org
SUMMARY:Live Music - Rock
DESCRIPTION:Lying Season (shoegaze)Shirthole (punk rock)Afterneath (shoegaze/alt rock)Ookazi (noise rock/shoegaze/jam band) \n$10Doors @ 6:30\, Music @ 7:00All agesNo drugs / No alcohol
URL:https://www.flemingtondiy.org/event/live-music-rock-3/
END:VEVENT
END:VCALENDAR