BEGIN:VCALENDAR
VERSION:2.0
PRODID:-//Flemington DIY - ECPv6.15.20//NONSGML v1.0//EN
CALSCALE:GREGORIAN
METHOD:PUBLISH
X-ORIGINAL-URL:https://www.flemingtondiy.org
X-WR-CALDESC:Events for Flemington DIY
REFRESH-INTERVAL;VALUE=DURATION:PT1H
X-Robots-Tag:noindex
X-PUBLISHED-TTL:PT1H
BEGIN:VTIMEZONE
TZID:America/New_York
BEGIN:DAYLIGHT
TZOFFSETFROM:-0500
TZOFFSETTO:-0400
TZNAME:EDT
DTSTART:20240310T070000
END:DAYLIGHT
BEGIN:STANDARD
TZOFFSETFROM:-0400
TZOFFSETTO:-0500
TZNAME:EST
DTSTART:20241103T060000
END:STANDARD
BEGIN:DAYLIGHT
TZOFFSETFROM:-0500
TZOFFSETTO:-0400
TZNAME:EDT
DTSTART:20250309T070000
END:DAYLIGHT
BEGIN:STANDARD
TZOFFSETFROM:-0400
TZOFFSETTO:-0500
TZNAME:EST
DTSTART:20251102T060000
END:STANDARD
BEGIN:DAYLIGHT
TZOFFSETFROM:-0500
TZOFFSETTO:-0400
TZNAME:EDT
DTSTART:20260308T070000
END:DAYLIGHT
BEGIN:STANDARD
TZOFFSETFROM:-0400
TZOFFSETTO:-0500
TZNAME:EST
DTSTART:20261101T060000
END:STANDARD
END:VTIMEZONE
BEGIN:VEVENT
DTSTART;VALUE=DATE:20251001
DTEND;VALUE=DATE:20251101
DTSTAMP:20260424T040604
CREATED:20250918T233511Z
LAST-MODIFIED:20251031T235227Z
UID:10003429-1759276800-1761955199@www.flemingtondiy.org
SUMMARY:What is  American? Art Show
DESCRIPTION:
URL:https://www.flemingtondiy.org/event/bipoc-american-revolution-art-show/
END:VEVENT
BEGIN:VEVENT
DTSTART;TZID=America/New_York:20251011T100000
DTEND;TZID=America/New_York:20251011T130000
DTSTAMP:20260424T040604
CREATED:20250819T233524Z
LAST-MODIFIED:20251010T233516Z
UID:10003402-1760176800-1760187600@www.flemingtondiy.org
SUMMARY:HC Mama's Clothing & Toy Swap
DESCRIPTION:Swaps are good for your wallet AND the environment. Let’s do our part in taking care of the planet for our kids and the future generations 🌏♻️ \nBring gently loved clothes and toys (no rips\, stains\, obvious signs of wear) and trade them in for something new to you 🛍️ \n*If you can organize and drop off your contributions beforehand\, please reach out to HC Mamas for drop off availability. It’s much appreciated!! \nAll are welcome! \n*Suggested $20 donation that will go towards future programming and use of the space
URL:https://www.flemingtondiy.org/event/hc-mamas-clothing-toy-swap-2/
END:VEVENT
BEGIN:VEVENT
DTSTART;TZID=America/New_York:20251011T200000
DTEND;TZID=America/New_York:20251011T220000
DTSTAMP:20260424T040604
CREATED:20250805T233518Z
LAST-MODIFIED:20251011T233507Z
UID:10003390-1760212800-1760220000@www.flemingtondiy.org
SUMMARY:Live Music - Jazz - Dan Wilkins Trio
DESCRIPTION:Dan Wilkins returns to Flemington DIY with his trio\, featuring bassist Joe Michaels and drummer Hugh Kline\, with Wilkins playing both saxophone and piano.  In May 2025\, the trio released their first album together titled ‘Oceans Beyond the Sky’ featuring new colorful compositions by Wilkins conceived for piano trio/quartet\, inspired by dreams and landscapes.  In celebration of their release\, the trio has performed at regional venues such as the Deer Head Inn\, Musikfest\, and Vic’s Jazz Loft.  Wilkins has been busy in 2025 performing with his groups at Smalls Jazz Club\, Miller Symphony Hall\, and the Lafayette Bar.  The trio looks forward to present brand new music at Flemington DIY as well as reimagined interpretations of jazz favorites.  \nDan Wilkins – saxophone and pianoJoe Michaels – bassHugh Kline – drums \nDoors open at 7:30 PM\, Music begins at 8:00 PM \nTickets $18 advance/$22 door (Tickets available at www.flemingtondiy.org/jazz)
URL:https://www.flemingtondiy.org/event/live-music-jazz-dan-wilkins-trio/
END:VEVENT
END:VCALENDAR