BEGIN:VCALENDAR
VERSION:2.0
PRODID:-//Flemington DIY - ECPv6.15.20//NONSGML v1.0//EN
CALSCALE:GREGORIAN
METHOD:PUBLISH
X-WR-CALNAME:Flemington DIY
X-ORIGINAL-URL:https://www.flemingtondiy.org
X-WR-CALDESC:Events for Flemington DIY
REFRESH-INTERVAL;VALUE=DURATION:PT1H
X-Robots-Tag:noindex
X-PUBLISHED-TTL:PT1H
BEGIN:VTIMEZONE
TZID:America/New_York
BEGIN:DAYLIGHT
TZOFFSETFROM:-0500
TZOFFSETTO:-0400
TZNAME:EDT
DTSTART:20240310T070000
END:DAYLIGHT
BEGIN:STANDARD
TZOFFSETFROM:-0400
TZOFFSETTO:-0500
TZNAME:EST
DTSTART:20241103T060000
END:STANDARD
BEGIN:DAYLIGHT
TZOFFSETFROM:-0500
TZOFFSETTO:-0400
TZNAME:EDT
DTSTART:20250309T070000
END:DAYLIGHT
BEGIN:STANDARD
TZOFFSETFROM:-0400
TZOFFSETTO:-0500
TZNAME:EST
DTSTART:20251102T060000
END:STANDARD
BEGIN:DAYLIGHT
TZOFFSETFROM:-0500
TZOFFSETTO:-0400
TZNAME:EDT
DTSTART:20260308T070000
END:DAYLIGHT
BEGIN:STANDARD
TZOFFSETFROM:-0400
TZOFFSETTO:-0500
TZNAME:EST
DTSTART:20261101T060000
END:STANDARD
END:VTIMEZONE
BEGIN:VEVENT
DTSTART;TZID=America/New_York:20250920T193000
DTEND;TZID=America/New_York:20250920T223000
DTSTAMP:20260424T045952
CREATED:20250708T233535Z
LAST-MODIFIED:20250920T233546Z
UID:10003345-1758396600-1758407400@www.flemingtondiy.org
SUMMARY:Live Music - Jazz - Joe Rizzolo Quartet
DESCRIPTION:Joe Rizzolo Quartet   \nTim Hegarty-Tenor sax \nNat Janoff Guitar \nJohn Lenis Bass \nJoe Rizzolo Drums \nMore information and advance tickets link coming soon!  \nBecome a Cool Cat Jazz Card holder and get a deep discount on jazz show tickets!  Purchase one here:  https://form.jotform.com/243404827150148 \nMembers save even more! Become a member now: https://www.flemingtondiy.org/member/
URL:https://www.flemingtondiy.org/event/live-music-jazz-joe-rizzolo-quartet/
END:VEVENT
END:VCALENDAR