BEGIN:VCALENDAR
VERSION:2.0
PRODID:-//Flemington DIY - ECPv6.15.20//NONSGML v1.0//EN
CALSCALE:GREGORIAN
METHOD:PUBLISH
X-ORIGINAL-URL:https://www.flemingtondiy.org
X-WR-CALDESC:Events for Flemington DIY
REFRESH-INTERVAL;VALUE=DURATION:PT1H
X-Robots-Tag:noindex
X-PUBLISHED-TTL:PT1H
BEGIN:VTIMEZONE
TZID:America/New_York
BEGIN:DAYLIGHT
TZOFFSETFROM:-0500
TZOFFSETTO:-0400
TZNAME:EDT
DTSTART:20240310T070000
END:DAYLIGHT
BEGIN:STANDARD
TZOFFSETFROM:-0400
TZOFFSETTO:-0500
TZNAME:EST
DTSTART:20241103T060000
END:STANDARD
BEGIN:DAYLIGHT
TZOFFSETFROM:-0500
TZOFFSETTO:-0400
TZNAME:EDT
DTSTART:20250309T070000
END:DAYLIGHT
BEGIN:STANDARD
TZOFFSETFROM:-0400
TZOFFSETTO:-0500
TZNAME:EST
DTSTART:20251102T060000
END:STANDARD
BEGIN:DAYLIGHT
TZOFFSETFROM:-0500
TZOFFSETTO:-0400
TZNAME:EDT
DTSTART:20260308T070000
END:DAYLIGHT
BEGIN:STANDARD
TZOFFSETFROM:-0400
TZOFFSETTO:-0500
TZNAME:EST
DTSTART:20261101T060000
END:STANDARD
END:VTIMEZONE
BEGIN:VEVENT
DTSTART;TZID=America/New_York:20250913T090000
DTEND;TZID=America/New_York:20250913T143000
DTSTAMP:20260424T050426
CREATED:20250805T233513Z
LAST-MODIFIED:20250912T233508Z
UID:10003389-1757754000-1757773800@www.flemingtondiy.org
SUMMARY:Chess Tournament
DESCRIPTION:Come and show off your skills Saturday\, September 13 from 10:15am to 2:30pm. Chess sets and chess clocks are provided so that all you have to do is sit and play! NOTE the tournament is capped at 48 entries so try to enter early if possible. Hope to see you there! REGISTER \nWhat is the format of the tournament? It ran in what is known as a chess quad. All of the players that enter will be broken up into groups of 4 based on their ratings and will play everyone in their group once. Players who obtain the most points in their group win the prize (win=1 point\, draw=0.5 point\, loss=0 points). It is done in this format so that the games stay relatively competitive and are not completely lopsided. \nThis tournament does require a USCF (United States Chess Federation) membership to join. Pricing and joining methods can be found via link (https://new.uschess.org/join-us-chess). If this is your USCF rated chess event your rating will begin as “unrated” for the tournament. \nCan these chess games go on forever?No. All games are timed at Game 30 delay 5. This means\, for each game\, both players will have 30 minutes to make all of their moves for the game. Delay 5 means that your time will not start counting down until 5 seconds have passed on your turn. There are three methods of winning a chess game. Checkmating the opponent’s king\, your opponent resigns\, or your opponent runs out of time. \nAny question be sure to contact the tournament director at moledomiguel@gmail.com
URL:https://www.flemingtondiy.org/event/chess-tournament-2/
END:VEVENT
BEGIN:VEVENT
DTSTART;TZID=America/New_York:20250913T160000
DTEND;TZID=America/New_York:20250913T180000
DTSTAMP:20260424T050426
CREATED:20241112T233624Z
LAST-MODIFIED:20250912T233508Z
UID:10002688-1757779200-1757786400@www.flemingtondiy.org
SUMMARY:Collective Liberation Fiber Arts Opening Reception
DESCRIPTION:
URL:https://www.flemingtondiy.org/event/fiber-arts-opening/
END:VEVENT
END:VCALENDAR