BEGIN:VCALENDAR
VERSION:2.0
PRODID:-//Flemington DIY - ECPv6.15.20//NONSGML v1.0//EN
CALSCALE:GREGORIAN
METHOD:PUBLISH
X-ORIGINAL-URL:https://www.flemingtondiy.org
X-WR-CALDESC:Events for Flemington DIY
REFRESH-INTERVAL;VALUE=DURATION:PT1H
X-Robots-Tag:noindex
X-PUBLISHED-TTL:PT1H
BEGIN:VTIMEZONE
TZID:America/New_York
BEGIN:DAYLIGHT
TZOFFSETFROM:-0500
TZOFFSETTO:-0400
TZNAME:EDT
DTSTART:20240310T070000
END:DAYLIGHT
BEGIN:STANDARD
TZOFFSETFROM:-0400
TZOFFSETTO:-0500
TZNAME:EST
DTSTART:20241103T060000
END:STANDARD
BEGIN:DAYLIGHT
TZOFFSETFROM:-0500
TZOFFSETTO:-0400
TZNAME:EDT
DTSTART:20250309T070000
END:DAYLIGHT
BEGIN:STANDARD
TZOFFSETFROM:-0400
TZOFFSETTO:-0500
TZNAME:EST
DTSTART:20251102T060000
END:STANDARD
BEGIN:DAYLIGHT
TZOFFSETFROM:-0500
TZOFFSETTO:-0400
TZNAME:EDT
DTSTART:20260308T070000
END:DAYLIGHT
BEGIN:STANDARD
TZOFFSETFROM:-0400
TZOFFSETTO:-0500
TZNAME:EST
DTSTART:20261101T060000
END:STANDARD
END:VTIMEZONE
BEGIN:VEVENT
DTSTART;TZID=America/New_York:20250831T080000
DTEND;TZID=America/New_York:20250831T100000
DTSTAMP:20260424T050428
CREATED:20250519T235027Z
LAST-MODIFIED:20250830T233557Z
UID:10003192-1756627200-1756634400@www.flemingtondiy.org
SUMMARY:Community Bird Sit
DESCRIPTION:Last Sunday of the month. 8am-10am. Location will change monthly and be sent to registrants \nJoin us on recurring community bird sits to meet some friends and see some birds! Witness migration from the comfort of a chair or blanket! Come have your morning coffee with us and watch some birds!  \nPlease bring binoculars if you’ve got ’em. \nRegistration required: https://www.flemingtondiy.org/bird/Suggested donation will benefit Flemington DIY and the Raptor Trust.
URL:https://www.flemingtondiy.org/event/community-bird-sit-4/
END:VEVENT
END:VCALENDAR