BEGIN:VCALENDAR
VERSION:2.0
PRODID:-//Flemington DIY - ECPv6.15.20//NONSGML v1.0//EN
CALSCALE:GREGORIAN
METHOD:PUBLISH
X-ORIGINAL-URL:https://www.flemingtondiy.org
X-WR-CALDESC:Events for Flemington DIY
REFRESH-INTERVAL;VALUE=DURATION:PT1H
X-Robots-Tag:noindex
X-PUBLISHED-TTL:PT1H
BEGIN:VTIMEZONE
TZID:America/New_York
BEGIN:DAYLIGHT
TZOFFSETFROM:-0500
TZOFFSETTO:-0400
TZNAME:EDT
DTSTART:20240310T070000
END:DAYLIGHT
BEGIN:STANDARD
TZOFFSETFROM:-0400
TZOFFSETTO:-0500
TZNAME:EST
DTSTART:20241103T060000
END:STANDARD
BEGIN:DAYLIGHT
TZOFFSETFROM:-0500
TZOFFSETTO:-0400
TZNAME:EDT
DTSTART:20250309T070000
END:DAYLIGHT
BEGIN:STANDARD
TZOFFSETFROM:-0400
TZOFFSETTO:-0500
TZNAME:EST
DTSTART:20251102T060000
END:STANDARD
BEGIN:DAYLIGHT
TZOFFSETFROM:-0500
TZOFFSETTO:-0400
TZNAME:EDT
DTSTART:20260308T070000
END:DAYLIGHT
BEGIN:STANDARD
TZOFFSETFROM:-0400
TZOFFSETTO:-0500
TZNAME:EST
DTSTART:20261101T060000
END:STANDARD
END:VTIMEZONE
BEGIN:VEVENT
DTSTART;TZID=America/New_York:20250809T150000
DTEND;TZID=America/New_York:20250809T170000
DTSTAMP:20260424T064042
CREATED:20250110T233556Z
LAST-MODIFIED:20250808T235331Z
UID:10002968-1754751600-1754758800@www.flemingtondiy.org
SUMMARY:Community Quilt Project
DESCRIPTION:
URL:https://www.flemingtondiy.org/event/community-quilt-project-4/
END:VEVENT
BEGIN:VEVENT
DTSTART;TZID=America/New_York:20250809T190000
DTEND;TZID=America/New_York:20250809T220000
DTSTAMP:20260424T064042
CREATED:20250708T233526Z
LAST-MODIFIED:20250808T235332Z
UID:10003343-1754766000-1754776800@www.flemingtondiy.org
SUMMARY:Live Music - Punk!
DESCRIPTION:Weird Goo (hardcore/punk)Neuroviolent(death thrash punk rock n roll from Brooklyn)Civic Mimic(garage rock/punk)Toads (sludge punk/noise rock) \n$10 at the doorDoors @ 7 / Music @ 8All agesNo drugs / no alcohol
URL:https://www.flemingtondiy.org/event/live-music-punk/
END:VEVENT
END:VCALENDAR