BEGIN:VCALENDAR
VERSION:2.0
PRODID:-//Flemington DIY - ECPv6.15.20//NONSGML v1.0//EN
CALSCALE:GREGORIAN
METHOD:PUBLISH
X-ORIGINAL-URL:https://www.flemingtondiy.org
X-WR-CALDESC:Events for Flemington DIY
REFRESH-INTERVAL;VALUE=DURATION:PT1H
X-Robots-Tag:noindex
X-PUBLISHED-TTL:PT1H
BEGIN:VTIMEZONE
TZID:America/New_York
BEGIN:DAYLIGHT
TZOFFSETFROM:-0500
TZOFFSETTO:-0400
TZNAME:EDT
DTSTART:20240310T070000
END:DAYLIGHT
BEGIN:STANDARD
TZOFFSETFROM:-0400
TZOFFSETTO:-0500
TZNAME:EST
DTSTART:20241103T060000
END:STANDARD
BEGIN:DAYLIGHT
TZOFFSETFROM:-0500
TZOFFSETTO:-0400
TZNAME:EDT
DTSTART:20250309T070000
END:DAYLIGHT
BEGIN:STANDARD
TZOFFSETFROM:-0400
TZOFFSETTO:-0500
TZNAME:EST
DTSTART:20251102T060000
END:STANDARD
BEGIN:DAYLIGHT
TZOFFSETFROM:-0500
TZOFFSETTO:-0400
TZNAME:EDT
DTSTART:20260308T070000
END:DAYLIGHT
BEGIN:STANDARD
TZOFFSETFROM:-0400
TZOFFSETTO:-0500
TZNAME:EST
DTSTART:20261101T060000
END:STANDARD
END:VTIMEZONE
BEGIN:VEVENT
DTSTART;TZID=America/New_York:20250719T110000
DTEND;TZID=America/New_York:20250719T123000
DTSTAMP:20260424T082317
CREATED:20250623T235015Z
LAST-MODIFIED:20250718T233636Z
UID:10003326-1752922800-1752928200@www.flemingtondiy.org
SUMMARY:For the Girls: Relationship Workshop
DESCRIPTION:You’re invited to For The Girls\, a supportive and empowering workshop hosted by Erika Bellomo\, LAMFT\, designed to help women better understand gaslighting\, identify narcissistic behavior\, and build healthy relationship dynamics. This event isn’t just informative—it’s a full experience. Enjoy “girl dinner”-style snacks\, pretty mocktails\, and a warm\, welcoming vibe where healing and sisterhood come together. Think cozy conversation\, self-reflection\, and supportive\, like-minded women. \nRegister at www.flemingtondiy.org/FortheGirls
URL:https://www.flemingtondiy.org/event/for-the-girls-relationship-workshop-2/
END:VEVENT
BEGIN:VEVENT
DTSTART;TZID=America/New_York:20250719T130000
DTEND;TZID=America/New_York:20250719T150000
DTSTAMP:20260424T082317
CREATED:20250627T233515Z
LAST-MODIFIED:20250718T233636Z
UID:10003333-1752930000-1752937200@www.flemingtondiy.org
SUMMARY:Open Gallery Hours
DESCRIPTION:
URL:https://www.flemingtondiy.org/event/open-gallery-hours-8/
END:VEVENT
BEGIN:VEVENT
DTSTART;TZID=America/New_York:20250719T190000
DTEND;TZID=America/New_York:20250719T220000
DTSTAMP:20260424T082317
CREATED:20250627T233515Z
LAST-MODIFIED:20250719T233553Z
UID:10003334-1752951600-1752962400@www.flemingtondiy.org
SUMMARY:Live Music - Synth/Noise
DESCRIPTION:Karl Fury https://m.youtube.com/watch?v=6ne8z3TcfOQAmbient Improvised Soundscapes \nBent Noise https://bentnoise.bandcamp.com/Glitchy Circuit-Bent Walls of Sound \nBad Electrichttps://m.youtube.com/watch?si=nO-D9Pa5p4ez1CEE&v=Ze89kzA9ZvA&feature=youtu.beDowntempo Grooves and Field Recordings  \n$107pm All agesNo Drugs / No Alcohol
URL:https://www.flemingtondiy.org/event/live-music-synth-noise/
END:VEVENT
END:VCALENDAR