BEGIN:VCALENDAR
VERSION:2.0
PRODID:-//Flemington DIY - ECPv6.15.20//NONSGML v1.0//EN
CALSCALE:GREGORIAN
METHOD:PUBLISH
X-ORIGINAL-URL:https://www.flemingtondiy.org
X-WR-CALDESC:Events for Flemington DIY
REFRESH-INTERVAL;VALUE=DURATION:PT1H
X-Robots-Tag:noindex
X-PUBLISHED-TTL:PT1H
BEGIN:VTIMEZONE
TZID:America/New_York
BEGIN:DAYLIGHT
TZOFFSETFROM:-0500
TZOFFSETTO:-0400
TZNAME:EDT
DTSTART:20240310T070000
END:DAYLIGHT
BEGIN:STANDARD
TZOFFSETFROM:-0400
TZOFFSETTO:-0500
TZNAME:EST
DTSTART:20241103T060000
END:STANDARD
BEGIN:DAYLIGHT
TZOFFSETFROM:-0500
TZOFFSETTO:-0400
TZNAME:EDT
DTSTART:20250309T070000
END:DAYLIGHT
BEGIN:STANDARD
TZOFFSETFROM:-0400
TZOFFSETTO:-0500
TZNAME:EST
DTSTART:20251102T060000
END:STANDARD
BEGIN:DAYLIGHT
TZOFFSETFROM:-0500
TZOFFSETTO:-0400
TZNAME:EDT
DTSTART:20260308T070000
END:DAYLIGHT
BEGIN:STANDARD
TZOFFSETFROM:-0400
TZOFFSETTO:-0500
TZNAME:EST
DTSTART:20261101T060000
END:STANDARD
END:VTIMEZONE
BEGIN:VEVENT
DTSTART;TZID=America/New_York:20250622T080000
DTEND;TZID=America/New_York:20250622T100000
DTSTAMP:20260424T101250
CREATED:20250519T235020Z
LAST-MODIFIED:20250620T235106Z
UID:10003188-1750579200-1750586400@www.flemingtondiy.org
SUMMARY:Community Bird Sit
DESCRIPTION:Last Sunday of the month. 8am-10am. Location will change monthly and be sent to registrants \nJoin us on recurring community bird sits to meet some friends and see some birds! Witness migration from the comfort of a chair or blanket! Come have your morning coffee with us and watch some birds!  \nPlease bring binoculars if you’ve got ’em. \nRegistration required: https://www.flemingtondiy.org/bird/Suggested donation will benefit Flemington DIY and the Raptor Trust.
URL:https://www.flemingtondiy.org/event/community-bird-sit-2/
END:VEVENT
BEGIN:VEVENT
DTSTART;TZID=America/New_York:20250622T140000
DTEND;TZID=America/New_York:20250622T160000
DTSTAMP:20260424T101250
CREATED:20250417T233528Z
LAST-MODIFIED:20250620T235106Z
UID:10003143-1750600800-1750608000@www.flemingtondiy.org
SUMMARY:Live Music
DESCRIPTION:Larry Friends & Family with LakePoint Duo \nDoors at 1:30 PMMusic at 2:00 PM \n$10 at the door \nAll AgesNo drugs or alcohol allowed in the spaceLarry Friends and Family (LF&F) was founded in 1970 as a folk-rock act showcasing original material and unique covers as an acoustic guitar and bass trio (originally named simply “Larry”). Powerful multipart vocals became a signature for the band as it grew audiences by bringing together classical\, jazz\, rock and folk elements\, creating something altogether new. As the music drew numerous fans\, “Larry” became “Larry Friends and Family”. Addition of personnel bringing piano\, keyboards and the power of up to six voices weaving together in complex multipart harmonies became the hallmark of the band. LF&F is Dave Baughn\, Rosemary Eads\, MaryAnn Neblock\, Don Neblock\, Ed Warner and Mike Wolf. Now\, in 2025\, LF&F is currently scheduling select 55th anniversary reunion concerts\, celebrating 55years of the band\, the Cycles album\, and their lifetime of love and friendship. \nLakePoint Duo is the husband and wife musical performance team of MaryAnn and Donald Neblock. LakePoint Duo performs unique covers of classic rock and folk songs along with newer\, more eclectic pieces from lesser-known artists. Performing live with guitar and digital keyboard while singing beautiful vocal harmonies together\, LakePoint Duo produces an exceptionally rich\, full sound that delights audiences.
URL:https://www.flemingtondiy.org/event/live-music-100/
END:VEVENT
BEGIN:VEVENT
DTSTART;TZID=America/New_York:20250622T180000
DTEND;TZID=America/New_York:20250622T220000
DTSTAMP:20260424T101250
CREATED:20250530T235020Z
LAST-MODIFIED:20250622T233532Z
UID:10003209-1750615200-1750629600@www.flemingtondiy.org
SUMMARY:Live Show - Hardcore Punk
DESCRIPTION:All Hardcore Punk show \nDuel – NJLMI – PALesser Minds – NJTar – NJ \n$10Doors @ 6\, Show @ 6:30All agesNo Drugs / No Alcohol
URL:https://www.flemingtondiy.org/event/live-show-hardcore-punk/
END:VEVENT
END:VCALENDAR