BEGIN:VCALENDAR
VERSION:2.0
PRODID:-//Flemington DIY - ECPv6.15.20//NONSGML v1.0//EN
CALSCALE:GREGORIAN
METHOD:PUBLISH
X-ORIGINAL-URL:https://www.flemingtondiy.org
X-WR-CALDESC:Events for Flemington DIY
REFRESH-INTERVAL;VALUE=DURATION:PT1H
X-Robots-Tag:noindex
X-PUBLISHED-TTL:PT1H
BEGIN:VTIMEZONE
TZID:America/New_York
BEGIN:DAYLIGHT
TZOFFSETFROM:-0500
TZOFFSETTO:-0400
TZNAME:EDT
DTSTART:20240310T070000
END:DAYLIGHT
BEGIN:STANDARD
TZOFFSETFROM:-0400
TZOFFSETTO:-0500
TZNAME:EST
DTSTART:20241103T060000
END:STANDARD
BEGIN:DAYLIGHT
TZOFFSETFROM:-0500
TZOFFSETTO:-0400
TZNAME:EDT
DTSTART:20250309T070000
END:DAYLIGHT
BEGIN:STANDARD
TZOFFSETFROM:-0400
TZOFFSETTO:-0500
TZNAME:EST
DTSTART:20251102T060000
END:STANDARD
BEGIN:DAYLIGHT
TZOFFSETFROM:-0500
TZOFFSETTO:-0400
TZNAME:EDT
DTSTART:20260308T070000
END:DAYLIGHT
BEGIN:STANDARD
TZOFFSETFROM:-0400
TZOFFSETTO:-0500
TZNAME:EST
DTSTART:20261101T060000
END:STANDARD
END:VTIMEZONE
BEGIN:VEVENT
DTSTART;TZID=America/New_York:20250601T080000
DTEND;TZID=America/New_York:20250601T100000
DTSTAMP:20260424T101205
CREATED:20250519T235014Z
LAST-MODIFIED:20250530T235050Z
UID:10003185-1748764800-1748772000@www.flemingtondiy.org
SUMMARY:Community Bird Walk
DESCRIPTION:It’s spring migration! Join us on a community bird walk to meet some friends and see some birds!  \nPlease bring binoculars if you’ve got ’em.Registration required: https://forms.gle/FKueAyN256whVP297Meeting location to be sent ahead of event. \nSuggested donation will benefit Flemington DIY and the Raptor Trust.
URL:https://www.flemingtondiy.org/event/community-bird-walk-2/
END:VEVENT
BEGIN:VEVENT
DTSTART;TZID=America/New_York:20250601T090000
DTEND;TZID=America/New_York:20250601T140000
DTSTAMP:20260424T101205
CREATED:20250519T235015Z
LAST-MODIFIED:20250530T235050Z
UID:10003186-1748768400-1748786400@www.flemingtondiy.org
SUMMARY:2nd Annual Stangl Karmafest
DESCRIPTION:🌸 Stangl Karma Fest 2025 🌸Date: Sunday\, June 1st\, 2025Time: 9:00 AM – 3:00 PMLocation: Stangl Road\, Flemington\, NJWebsite: wildfloweryogacollective.com/karmafest \nJoin us for the 2nd Annual Karma Fest — a vibrant\, family-friendly celebration of community\, creativity\, healing\, and movement! Stretch\, dance\, explore\, and connect with offerings for all ages. \n✨ Highlights Include:• Free Yoga Classes (Gentle\, TRX\, Mixed Level)• Workshops (Art\, Mindfulness\, Essential Oils\, Tea Leaf Reading & more)• Live Music & Open Jazz Jams• Kids Yoga Zone\, Hula Hooping\, and Family Activities• Drum Circle with Alex Gonzalez• D.J. Zone with Andrew Ho• Tarot\, Birth Chart & Reiki Readings (fee)• Aura Photography (fee)• Food Trucks\, Artisan Vendors\, and more! \n🌀 Presented by Wildflower Yoga Collective \n💜 Follow updates on Facebook @StanglKarmaFest
URL:https://www.flemingtondiy.org/event/2nd-annual-stangl-karmafest-2/
END:VEVENT
BEGIN:VEVENT
DTSTART;TZID=America/New_York:20250601T090000
DTEND;TZID=America/New_York:20250601T150000
DTSTAMP:20260424T101205
CREATED:20250404T235057Z
LAST-MODIFIED:20250530T235050Z
UID:10003129-1748768400-1748790000@www.flemingtondiy.org
SUMMARY:2nd Annual Stangl Karmafest
DESCRIPTION:●      6/1/25: Sunday\, 10 am – 3 pm: 2nd Annual  – on Stangl  \nJoin with Google Meet: https://meet.google.com/typ-qkor-ohmOr dial: (US) +1 347-773-4211 PIN: 145615648#More phone numbers: https://tel.meet/typ-qkor-ohm?pin=5996387571785&hs=7 \nLearn more about Meet at: https://support.google.com/a/users/answer/9282720
URL:https://www.flemingtondiy.org/event/2nd-annual-stangl-karmafest/
ORGANIZER;CN="director@flemingtoncommunitypartnership.org":MAILTO:director@flemingtoncommunitypartnership.org
END:VEVENT
BEGIN:VEVENT
DTSTART;TZID=America/New_York:20250601T100000
DTEND;TZID=America/New_York:20250601T123000
DTSTAMP:20260424T101205
CREATED:20250114T233532Z
LAST-MODIFIED:20250530T235050Z
UID:10002975-1748772000-1748781000@www.flemingtondiy.org
SUMMARY:Fiber Series: Block printing
DESCRIPTION:Printing techniques can bring unique forms to your fabrics. Learn basic block printing and how to transfer your images onto fabric for lasting\, distinctive designs. You will create\, carve and print your design. All supplies included. You will leave with two 10.5in x 10.5in cotton squares. $35 per person – Limited to 15 participants. REGISTER 
URL:https://www.flemingtondiy.org/event/fiber-series-block-printing/
END:VEVENT
BEGIN:VEVENT
DTSTART;TZID=America/New_York:20250601T130000
DTEND;TZID=America/New_York:20250601T170000
DTSTAMP:20260424T101205
CREATED:20240928T233705Z
LAST-MODIFIED:20250530T235051Z
UID:10002597-1748782800-1748797200@www.flemingtondiy.org
SUMMARY:Open Jazz Jams
DESCRIPTION:Open Jazz Jams are held he first Sunday of every month. \nThe sessions will provide an opportunity for musicians to play with an experienced band. From 1-2 PM the hosting musicians for the week will play. Other musicians will be invited to sit in and play between 2-5 PM (typically a minimum of 2 songs each\, circumstances permitting). With the exception of drum kit and piano\, all musicians should bring their own equipment (instruments\, amps\, drum sticks\, microphones\, etc.). The sessions will focus primarily on jazz standards and other jazz tunes contained in Hal Leonard Real Books volumes 1 through 3. Newcomers will be coached through the process.  \nA $3 to $5 donation to Flemington DIY will be required from each musician that plays at the session. Visitors that just want to listen to the music are also welcome to attend for all or any part of the 1-5 PM sessions free of charge.  \nFor questions about the sessions\, or to be added to the monthly text notification list for last minute cancellations or reschedules\, please email njjazzjam@gmail.com
URL:https://www.flemingtondiy.org/event/open-jazz-jams-27/
END:VEVENT
END:VCALENDAR