BEGIN:VCALENDAR
VERSION:2.0
PRODID:-//Flemington DIY - ECPv6.15.20//NONSGML v1.0//EN
CALSCALE:GREGORIAN
METHOD:PUBLISH
X-ORIGINAL-URL:https://www.flemingtondiy.org
X-WR-CALDESC:Events for Flemington DIY
REFRESH-INTERVAL;VALUE=DURATION:PT1H
X-Robots-Tag:noindex
X-PUBLISHED-TTL:PT1H
BEGIN:VTIMEZONE
TZID:America/New_York
BEGIN:DAYLIGHT
TZOFFSETFROM:-0500
TZOFFSETTO:-0400
TZNAME:EDT
DTSTART:20240310T070000
END:DAYLIGHT
BEGIN:STANDARD
TZOFFSETFROM:-0400
TZOFFSETTO:-0500
TZNAME:EST
DTSTART:20241103T060000
END:STANDARD
BEGIN:DAYLIGHT
TZOFFSETFROM:-0500
TZOFFSETTO:-0400
TZNAME:EDT
DTSTART:20250309T070000
END:DAYLIGHT
BEGIN:STANDARD
TZOFFSETFROM:-0400
TZOFFSETTO:-0500
TZNAME:EST
DTSTART:20251102T060000
END:STANDARD
BEGIN:DAYLIGHT
TZOFFSETFROM:-0500
TZOFFSETTO:-0400
TZNAME:EDT
DTSTART:20260308T070000
END:DAYLIGHT
BEGIN:STANDARD
TZOFFSETFROM:-0400
TZOFFSETTO:-0500
TZNAME:EST
DTSTART:20261101T060000
END:STANDARD
END:VTIMEZONE
BEGIN:VEVENT
DTSTART;TZID=America/New_York:20250303T093000
DTEND;TZID=America/New_York:20250303T113000
DTSTAMP:20260424T151109
CREATED:20250107T235048Z
LAST-MODIFIED:20250302T235050Z
UID:10002959-1740994200-1741001400@www.flemingtondiy.org
SUMMARY:Music Together Winter Classes
DESCRIPTION:
URL:https://www.flemingtondiy.org/event/music-together-winter-classes-67/
END:VEVENT
BEGIN:VEVENT
DTSTART;TZID=America/New_York:20250303T180000
DTEND;TZID=America/New_York:20250303T203000
DTSTAMP:20260424T151109
CREATED:20241220T233613Z
LAST-MODIFIED:20250302T235050Z
UID:10002781-1741024800-1741033800@www.flemingtondiy.org
SUMMARY:Art Circle Hang: Book Binding
DESCRIPTION:In this introduction to bookbinding class\, we will be exploring the single page Coptic stitch binding\, which is perfect for artwork since the pages lie flat once bound. It’s also great for postcards and other memorabilia. If time permits\, we can also learn the pamphlet stitch\, a simple stitch that can be used for journals\, scrapbooks and more! \nwww.flemingtondiy.org/art-circle
URL:https://www.flemingtondiy.org/event/art-circle-hang-book-binding/
END:VEVENT
BEGIN:VEVENT
DTSTART;TZID=America/New_York:20250303T180000
DTEND;TZID=America/New_York:20250303T210000
DTSTAMP:20260424T151109
CREATED:20231107T010608Z
LAST-MODIFIED:20250302T235050Z
UID:10001860-1741024800-1741035600@www.flemingtondiy.org
SUMMARY:Print Club
DESCRIPTION:Flemington DIY Print Club is a weekly open studio held from 6-9PM every Monday\, $15-30 per printer. It provides an opportunity for local artists and community members new to arts processes to utilize shared printmaking facilities. Print Club provides a platform for artists to network\, build community\, and work collaboratively. \nNo experience? No problem! Our vounteers will guide you through the process from start to finish! \nLearn more: https://www.flemingtondiy.org/printclub/
URL:https://www.flemingtondiy.org/event/print-club-222/
END:VEVENT
END:VCALENDAR