BEGIN:VCALENDAR
VERSION:2.0
PRODID:-//Flemington DIY - ECPv6.15.20//NONSGML v1.0//EN
CALSCALE:GREGORIAN
METHOD:PUBLISH
X-WR-CALNAME:Flemington DIY
X-ORIGINAL-URL:https://www.flemingtondiy.org
X-WR-CALDESC:Events for Flemington DIY
REFRESH-INTERVAL;VALUE=DURATION:PT1H
X-Robots-Tag:noindex
X-PUBLISHED-TTL:PT1H
BEGIN:VTIMEZONE
TZID:America/New_York
BEGIN:DAYLIGHT
TZOFFSETFROM:-0500
TZOFFSETTO:-0400
TZNAME:EDT
DTSTART:20240310T070000
END:DAYLIGHT
BEGIN:STANDARD
TZOFFSETFROM:-0400
TZOFFSETTO:-0500
TZNAME:EST
DTSTART:20241103T060000
END:STANDARD
BEGIN:DAYLIGHT
TZOFFSETFROM:-0500
TZOFFSETTO:-0400
TZNAME:EDT
DTSTART:20250309T070000
END:DAYLIGHT
BEGIN:STANDARD
TZOFFSETFROM:-0400
TZOFFSETTO:-0500
TZNAME:EST
DTSTART:20251102T060000
END:STANDARD
BEGIN:DAYLIGHT
TZOFFSETFROM:-0500
TZOFFSETTO:-0400
TZNAME:EDT
DTSTART:20260308T070000
END:DAYLIGHT
BEGIN:STANDARD
TZOFFSETFROM:-0400
TZOFFSETTO:-0500
TZNAME:EST
DTSTART:20261101T060000
END:STANDARD
END:VTIMEZONE
BEGIN:VEVENT
DTSTART;TZID=America/New_York:20250221T090000
DTEND;TZID=America/New_York:20250221T143000
DTSTAMP:20260424T164752
CREATED:20250115T233541Z
LAST-MODIFIED:20250220T235008Z
UID:10002985-1740128400-1740148200@www.flemingtondiy.org
SUMMARY:Gallery Open Hours
DESCRIPTION:
URL:https://www.flemingtondiy.org/event/gallery-open-hours-13/
END:VEVENT
BEGIN:VEVENT
DTSTART;TZID=America/New_York:20250221T093000
DTEND;TZID=America/New_York:20250221T113000
DTSTAMP:20260424T164752
CREATED:20250107T235047Z
LAST-MODIFIED:20250220T235009Z
UID:10002955-1740130200-1740137400@www.flemingtondiy.org
SUMMARY:Music Together Winter Classes
DESCRIPTION:
URL:https://www.flemingtondiy.org/event/music-together-winter-classes-63/
END:VEVENT
BEGIN:VEVENT
DTSTART;TZID=America/New_York:20250221T170000
DTEND;TZID=America/New_York:20250221T200000
DTSTAMP:20260424T164752
CREATED:20250128T175545Z
LAST-MODIFIED:20250221T235048Z
UID:10002999-1740157200-1740168000@www.flemingtondiy.org
SUMMARY:Clothing Giveaway with Flemington QTs (COLLECTION DAY)
DESCRIPTION:Have clothing you no longer wear cluttering up your closet?  Come on over to Flemington DIY on Friday\, 2/21 and Saturday\, 2/22 for our third Clothing Collection and Giveaway. On Friday evening from 5-8PM\, we will be accepting donations of gently used clothing\, accessories\, and shoes. Come back the next day from 12-3:30PM to browse through all of the donations and pick out some new-to-you items! Please bring your own bags. \nAny leftover clothing will be donated to local organizations\, including PossAbilities Thrift. \nPlease no stained\, ripped\, or heavily worn items. We request that you wash clothing before donating. \nQuestions? Contact Jae and Elliott at flemingtonqts@gmail.com.
URL:https://www.flemingtondiy.org/event/clothing-giveaway-with-flemington-qts-collection-day/
END:VEVENT
END:VCALENDAR