BEGIN:VCALENDAR
VERSION:2.0
PRODID:-//Flemington DIY - ECPv6.15.20//NONSGML v1.0//EN
CALSCALE:GREGORIAN
METHOD:PUBLISH
X-WR-CALNAME:Flemington DIY
X-ORIGINAL-URL:https://www.flemingtondiy.org
X-WR-CALDESC:Events for Flemington DIY
REFRESH-INTERVAL;VALUE=DURATION:PT1H
X-Robots-Tag:noindex
X-PUBLISHED-TTL:PT1H
BEGIN:VTIMEZONE
TZID:America/New_York
BEGIN:DAYLIGHT
TZOFFSETFROM:-0500
TZOFFSETTO:-0400
TZNAME:EDT
DTSTART:20240310T070000
END:DAYLIGHT
BEGIN:STANDARD
TZOFFSETFROM:-0400
TZOFFSETTO:-0500
TZNAME:EST
DTSTART:20241103T060000
END:STANDARD
BEGIN:DAYLIGHT
TZOFFSETFROM:-0500
TZOFFSETTO:-0400
TZNAME:EDT
DTSTART:20250309T070000
END:DAYLIGHT
BEGIN:STANDARD
TZOFFSETFROM:-0400
TZOFFSETTO:-0500
TZNAME:EST
DTSTART:20251102T060000
END:STANDARD
BEGIN:DAYLIGHT
TZOFFSETFROM:-0500
TZOFFSETTO:-0400
TZNAME:EDT
DTSTART:20260308T070000
END:DAYLIGHT
BEGIN:STANDARD
TZOFFSETFROM:-0400
TZOFFSETTO:-0500
TZNAME:EST
DTSTART:20261101T060000
END:STANDARD
END:VTIMEZONE
BEGIN:VEVENT
DTSTART;TZID=America/New_York:20250207T093000
DTEND;TZID=America/New_York:20250207T113000
DTSTAMP:20260424T183641
CREATED:20250107T235043Z
LAST-MODIFIED:20250205T235208Z
UID:10002949-1738920600-1738927800@www.flemingtondiy.org
SUMMARY:Music Together Winter Classes
DESCRIPTION:
URL:https://www.flemingtondiy.org/event/music-together-winter-classes-57/
END:VEVENT
BEGIN:VEVENT
DTSTART;TZID=America/New_York:20250207T120000
DTEND;TZID=America/New_York:20250207T140000
DTSTAMP:20260424T183641
CREATED:20240922T233659Z
LAST-MODIFIED:20250205T235208Z
UID:10002566-1738929600-1738936800@www.flemingtondiy.org
SUMMARY:DIYxRLC: First Fridays Screenprinting for Homeschoolers
DESCRIPTION:Calling all homeschoolers!Flemington DIY and Raritan Learning Cooperative are collaborating to offer a monthly print club for kids ages 12-18\, on select first Friday of every month \nBring a design and a t-shirt or anything you want to print on. You’ll get to learn the process of screenprinting\, create your own screen\, and print posters and shirts!  \nIn collaboration with Raritan Learning Cooperative (RLC)MORE INFO: https://www.flemingtondiy.org/first-fridays
URL:https://www.flemingtondiy.org/event/diyxrlc-first-fridays-screenprinting-for-homeschoolers-4/
END:VEVENT
BEGIN:VEVENT
DTSTART;TZID=America/New_York:20250207T180000
DTEND;TZID=America/New_York:20250207T200000
DTSTAMP:20260424T183641
CREATED:20250117T235026Z
LAST-MODIFIED:20250207T233506Z
UID:10002987-1738951200-1738958400@www.flemingtondiy.org
SUMMARY:Mia Art's Heartstravaganza for Teens and Adults
DESCRIPTION:Go Green this Valentine’s Day with Mia Art’s Heartstravaganza at DIY! \nCreate beautiful and unique gifts and cards using upcycled materials and your own personal touch! \n$10 per person pre-registration + material fee at time of class paid directly to instructor \nWALK INS WELCOME
URL:https://www.flemingtondiy.org/event/mia-arts-heartstravaganza-for-teens/
END:VEVENT
END:VCALENDAR