BEGIN:VCALENDAR
VERSION:2.0
PRODID:-//Flemington DIY - ECPv6.15.20//NONSGML v1.0//EN
CALSCALE:GREGORIAN
METHOD:PUBLISH
X-ORIGINAL-URL:https://www.flemingtondiy.org
X-WR-CALDESC:Events for Flemington DIY
REFRESH-INTERVAL;VALUE=DURATION:PT1H
X-Robots-Tag:noindex
X-PUBLISHED-TTL:PT1H
BEGIN:VTIMEZONE
TZID:America/New_York
BEGIN:DAYLIGHT
TZOFFSETFROM:-0500
TZOFFSETTO:-0400
TZNAME:EDT
DTSTART:20240310T070000
END:DAYLIGHT
BEGIN:STANDARD
TZOFFSETFROM:-0400
TZOFFSETTO:-0500
TZNAME:EST
DTSTART:20241103T060000
END:STANDARD
BEGIN:DAYLIGHT
TZOFFSETFROM:-0500
TZOFFSETTO:-0400
TZNAME:EDT
DTSTART:20250309T070000
END:DAYLIGHT
BEGIN:STANDARD
TZOFFSETFROM:-0400
TZOFFSETTO:-0500
TZNAME:EST
DTSTART:20251102T060000
END:STANDARD
BEGIN:DAYLIGHT
TZOFFSETFROM:-0500
TZOFFSETTO:-0400
TZNAME:EDT
DTSTART:20260308T070000
END:DAYLIGHT
BEGIN:STANDARD
TZOFFSETFROM:-0400
TZOFFSETTO:-0500
TZNAME:EST
DTSTART:20261101T060000
END:STANDARD
END:VTIMEZONE
BEGIN:VEVENT
DTSTART;TZID=America/New_York:20250117T093000
DTEND;TZID=America/New_York:20250117T113000
DTSTAMP:20260424T182601
CREATED:20250107T235040Z
LAST-MODIFIED:20250116T233728Z
UID:10002940-1737106200-1737113400@www.flemingtondiy.org
SUMMARY:Music Together Winter Classes
DESCRIPTION:
URL:https://www.flemingtondiy.org/event/music-together-winter-classes-48/
END:VEVENT
BEGIN:VEVENT
DTSTART;TZID=America/New_York:20250117T113000
DTEND;TZID=America/New_York:20250117T143000
DTSTAMP:20260424T182601
CREATED:20250115T233530Z
LAST-MODIFIED:20250116T233728Z
UID:10002976-1737113400-1737124200@www.flemingtondiy.org
SUMMARY:Gallery Open Hours
DESCRIPTION:
URL:https://www.flemingtondiy.org/event/gallery-open-hours-4/
END:VEVENT
BEGIN:VEVENT
DTSTART;TZID=America/New_York:20250117T193000
DTEND;TZID=America/New_York:20250117T220000
DTSTAMP:20260424T182601
CREATED:20241126T233537Z
LAST-MODIFIED:20250117T235059Z
UID:10002732-1737142200-1737151200@www.flemingtondiy.org
SUMMARY:Live Jazz - Nate Tota Quartet
DESCRIPTION:Nate Tota is an up and coming saxophonist and composer from Clinton\, New Jersey. He has appeared across NJ\, NY\, PA\, CT\, and beyond\, playing as a bandleader and as a sideman in a variety of styles from Jazz to Pop and Ska. Nate has appeared Chris’s Jazz Cafe\, Vic’s Jazz Loft\, and is a regular at the Space Lounge in New Brunswick. His style draws from a variety of influences\, both old and new\, including Lester Young\, Phil Woods\, and Braxton Cook. He is currently studying at William Paterson University under Vincent Herring.  \nThe Nate Tota Quartet includes: Nate Tota on saxophone\, Isaac Felix\, guitar\, Killian Winn playing bass\, and Jackson Bernstein on drums. They play a tasteful mix of original music\, jazz standards\, and modern classics.  \nDoors 7:30pm\, Music 8pm. Tickets: $15 advance // $20 door // 15% off for Members!
URL:https://www.flemingtondiy.org/event/live-jazz-nate-tota-quartet/
END:VEVENT
END:VCALENDAR