BEGIN:VCALENDAR
VERSION:2.0
PRODID:-//Flemington DIY - ECPv6.15.20//NONSGML v1.0//EN
CALSCALE:GREGORIAN
METHOD:PUBLISH
X-ORIGINAL-URL:https://www.flemingtondiy.org
X-WR-CALDESC:Events for Flemington DIY
REFRESH-INTERVAL;VALUE=DURATION:PT1H
X-Robots-Tag:noindex
X-PUBLISHED-TTL:PT1H
BEGIN:VTIMEZONE
TZID:America/New_York
BEGIN:DAYLIGHT
TZOFFSETFROM:-0500
TZOFFSETTO:-0400
TZNAME:EDT
DTSTART:20230312T070000
END:DAYLIGHT
BEGIN:STANDARD
TZOFFSETFROM:-0400
TZOFFSETTO:-0500
TZNAME:EST
DTSTART:20231105T060000
END:STANDARD
BEGIN:DAYLIGHT
TZOFFSETFROM:-0500
TZOFFSETTO:-0400
TZNAME:EDT
DTSTART:20240310T070000
END:DAYLIGHT
BEGIN:STANDARD
TZOFFSETFROM:-0400
TZOFFSETTO:-0500
TZNAME:EST
DTSTART:20241103T060000
END:STANDARD
BEGIN:DAYLIGHT
TZOFFSETFROM:-0500
TZOFFSETTO:-0400
TZNAME:EDT
DTSTART:20250309T070000
END:DAYLIGHT
BEGIN:STANDARD
TZOFFSETFROM:-0400
TZOFFSETTO:-0500
TZNAME:EST
DTSTART:20251102T060000
END:STANDARD
END:VTIMEZONE
BEGIN:VEVENT
DTSTART;TZID=America/New_York:20241218T180000
DTEND;TZID=America/New_York:20241218T210000
DTSTAMP:20260424T200711
CREATED:20240926T235108Z
LAST-MODIFIED:20241218T235047Z
UID:10002573-1734544800-1734555600@www.flemingtondiy.org
SUMMARY:Third Annual Geezer Family Christmas
DESCRIPTION:Come to Flemington DIY for the Third Annual Geezer Family Christmas on December 18 at 7 PM\, featuring several members of the Flemington Acoustic Players. We’ll be playing some holiday favorites like “Jingle Bell Rock”\, “Run Rudolph Run”\, and “Please Come Home for Christmas”\, plus maybe a few surprises.\nStick around at the end for a group sing-along and cookies and cider.\nA donation of $5 per person is requested at the door\, with all proceeds going to DIY.
URL:https://www.flemingtondiy.org/event/third-annual-geezer-family-christmas/
END:VEVENT
END:VCALENDAR