BEGIN:VCALENDAR
VERSION:2.0
PRODID:-//Flemington DIY - ECPv6.15.20//NONSGML v1.0//EN
CALSCALE:GREGORIAN
METHOD:PUBLISH
X-WR-CALNAME:Flemington DIY
X-ORIGINAL-URL:https://www.flemingtondiy.org
X-WR-CALDESC:Events for Flemington DIY
REFRESH-INTERVAL;VALUE=DURATION:PT1H
X-Robots-Tag:noindex
X-PUBLISHED-TTL:PT1H
BEGIN:VTIMEZONE
TZID:America/New_York
BEGIN:DAYLIGHT
TZOFFSETFROM:-0500
TZOFFSETTO:-0400
TZNAME:EDT
DTSTART:20230312T070000
END:DAYLIGHT
BEGIN:STANDARD
TZOFFSETFROM:-0400
TZOFFSETTO:-0500
TZNAME:EST
DTSTART:20231105T060000
END:STANDARD
BEGIN:DAYLIGHT
TZOFFSETFROM:-0500
TZOFFSETTO:-0400
TZNAME:EDT
DTSTART:20240310T070000
END:DAYLIGHT
BEGIN:STANDARD
TZOFFSETFROM:-0400
TZOFFSETTO:-0500
TZNAME:EST
DTSTART:20241103T060000
END:STANDARD
BEGIN:DAYLIGHT
TZOFFSETFROM:-0500
TZOFFSETTO:-0400
TZNAME:EDT
DTSTART:20250309T070000
END:DAYLIGHT
BEGIN:STANDARD
TZOFFSETFROM:-0400
TZOFFSETTO:-0500
TZNAME:EST
DTSTART:20251102T060000
END:STANDARD
END:VTIMEZONE
BEGIN:VEVENT
DTSTART;TZID=America/New_York:20241207T094500
DTEND;TZID=America/New_York:20241207T111500
DTSTAMP:20260424T200605
CREATED:20241126T233532Z
LAST-MODIFIED:20241205T235128Z
UID:10002730-1733564700-1733570100@www.flemingtondiy.org
SUMMARY:Music Together Jingle Jams
DESCRIPTION:
URL:https://www.flemingtondiy.org/event/music-together-jingle-jams-4/
END:VEVENT
BEGIN:VEVENT
DTSTART;TZID=America/New_York:20241207T190000
DTEND;TZID=America/New_York:20241207T220000
DTSTAMP:20260424T200605
CREATED:20241104T233528Z
LAST-MODIFIED:20241207T233650Z
UID:10002685-1733598000-1733608800@www.flemingtondiy.org
SUMMARY:Live Music
DESCRIPTION:No Coincidence\n (pop punk/alt rock)\nNew Clarity\n(punk rock)\nAmerican Stereo\n(punk rock/power pop)\nblank effort\n(garage punk)\nDoors @ 6:30\n$10 Donation\nAll Ages\nNo Drugs / No Alcohol
URL:https://www.flemingtondiy.org/event/live-music-89/
END:VEVENT
END:VCALENDAR