BEGIN:VCALENDAR
VERSION:2.0
PRODID:-//Flemington DIY - ECPv6.15.20//NONSGML v1.0//EN
CALSCALE:GREGORIAN
METHOD:PUBLISH
X-WR-CALNAME:Flemington DIY
X-ORIGINAL-URL:https://www.flemingtondiy.org
X-WR-CALDESC:Events for Flemington DIY
REFRESH-INTERVAL;VALUE=DURATION:PT1H
X-Robots-Tag:noindex
X-PUBLISHED-TTL:PT1H
BEGIN:VTIMEZONE
TZID:America/New_York
BEGIN:DAYLIGHT
TZOFFSETFROM:-0500
TZOFFSETTO:-0400
TZNAME:EDT
DTSTART:20230312T070000
END:DAYLIGHT
BEGIN:STANDARD
TZOFFSETFROM:-0400
TZOFFSETTO:-0500
TZNAME:EST
DTSTART:20231105T060000
END:STANDARD
BEGIN:DAYLIGHT
TZOFFSETFROM:-0500
TZOFFSETTO:-0400
TZNAME:EDT
DTSTART:20240310T070000
END:DAYLIGHT
BEGIN:STANDARD
TZOFFSETFROM:-0400
TZOFFSETTO:-0500
TZNAME:EST
DTSTART:20241103T060000
END:STANDARD
BEGIN:DAYLIGHT
TZOFFSETFROM:-0500
TZOFFSETTO:-0400
TZNAME:EDT
DTSTART:20250309T070000
END:DAYLIGHT
BEGIN:STANDARD
TZOFFSETFROM:-0400
TZOFFSETTO:-0500
TZNAME:EST
DTSTART:20251102T060000
END:STANDARD
END:VTIMEZONE
BEGIN:VEVENT
DTSTART;VALUE=DATE:20241116
DTEND;VALUE=DATE:20241201
DTSTAMP:20260424T215146
CREATED:20241026T235023Z
LAST-MODIFIED:20241129T235451Z
UID:10002666-1731715200-1733011199@www.flemingtondiy.org
SUMMARY:24/7 Photo Capture
DESCRIPTION:Now is the time to register for the Hunterdon 24/7 Photo Capture and Show! Select a 24 hour period between November 16 and November 30 to capture images throughout Hunterdon County. The photo capture culminates in a projected art show on Friday\, December 6 at 6pm outside of Flemington DIY. \nThis creative challenge will get you outside\, give you a chance to hone your photographic skills and join in on guided photo walks and workshops with local photographers. \nImages should be uploaded by Nov. 30!  \nLEARN MORE: FLEMINGTONDIY.ORG/PHOTO
URL:https://www.flemingtondiy.org/event/24-7-photo-capture/
END:VEVENT
BEGIN:VEVENT
DTSTART;TZID=America/New_York:20241123T090000
DTEND;TZID=America/New_York:20241123T110000
DTSTAMP:20260424T215146
CREATED:20240905T233726Z
LAST-MODIFIED:20241122T235023Z
UID:10002537-1732352400-1732359600@www.flemingtondiy.org
SUMMARY:Music Together
DESCRIPTION:Every week in our music classes at Music Together Flemington\, babies\, toddlers\, preschoolers\, and the grownups who love them come together for a time of musical play. Little ones love playing along in class\, and caregivers love being a part of their children’s growth into confident music-makers. And everyone loves our songs that’ll have you tapping along in no time \nLearn more and enroll today: https://www.musictogetherflemington.com/
URL:https://www.flemingtondiy.org/event/music-together-302/
END:VEVENT
BEGIN:VEVENT
DTSTART;TZID=America/New_York:20241123T150000
DTEND;TZID=America/New_York:20241123T170000
DTSTAMP:20260424T215146
CREATED:20241102T235116Z
LAST-MODIFIED:20241122T235022Z
UID:10002670-1732374000-1732381200@www.flemingtondiy.org
SUMMARY:Season's Greetings! Holiday Card Printmaking
DESCRIPTION:Spread some handmade holiday cheer this season! Join Flemington DIY on November 23\, 2024 from 3pm-5pm for a Holiday Card Printmaking Workshop!\nParticipants will carve their own unique design using a rubber block. To create an original block design\, participants will utilize a carving tool and a soft rubber block. All materials will be supplied. For more inspiration\, try Googling “block printing” to explore designs and patterns! It will help to come prepared with a design already in mind. \nParticipants will receive 5 blank cards & envelopes for printing – you are welcome to bring additional blank cards if you wish to make more.\nThis is an all ages event / no prior experience necessary (volunteers will help you along the way!). Participants must be 12 and older to carve their own rubber block. All children must be supervised by an adult for the duration of the event.
URL:https://www.flemingtondiy.org/event/seasons-greetings-holiday-card-printmaking/
END:VEVENT
END:VCALENDAR