BEGIN:VCALENDAR
VERSION:2.0
PRODID:-//Flemington DIY - ECPv6.15.20//NONSGML v1.0//EN
CALSCALE:GREGORIAN
METHOD:PUBLISH
X-WR-CALNAME:Flemington DIY
X-ORIGINAL-URL:https://www.flemingtondiy.org
X-WR-CALDESC:Events for Flemington DIY
REFRESH-INTERVAL;VALUE=DURATION:PT1H
X-Robots-Tag:noindex
X-PUBLISHED-TTL:PT1H
BEGIN:VTIMEZONE
TZID:America/New_York
BEGIN:DAYLIGHT
TZOFFSETFROM:-0500
TZOFFSETTO:-0400
TZNAME:EDT
DTSTART:20230312T070000
END:DAYLIGHT
BEGIN:STANDARD
TZOFFSETFROM:-0400
TZOFFSETTO:-0500
TZNAME:EST
DTSTART:20231105T060000
END:STANDARD
BEGIN:DAYLIGHT
TZOFFSETFROM:-0500
TZOFFSETTO:-0400
TZNAME:EDT
DTSTART:20240310T070000
END:DAYLIGHT
BEGIN:STANDARD
TZOFFSETFROM:-0400
TZOFFSETTO:-0500
TZNAME:EST
DTSTART:20241103T060000
END:STANDARD
BEGIN:DAYLIGHT
TZOFFSETFROM:-0500
TZOFFSETTO:-0400
TZNAME:EDT
DTSTART:20250309T070000
END:DAYLIGHT
BEGIN:STANDARD
TZOFFSETFROM:-0400
TZOFFSETTO:-0500
TZNAME:EST
DTSTART:20251102T060000
END:STANDARD
END:VTIMEZONE
BEGIN:VEVENT
DTSTART;VALUE=DATE:20241116
DTEND;VALUE=DATE:20241201
DTSTAMP:20260424T215148
CREATED:20241026T235023Z
LAST-MODIFIED:20241129T235451Z
UID:10002666-1731715200-1733011199@www.flemingtondiy.org
SUMMARY:24/7 Photo Capture
DESCRIPTION:Now is the time to register for the Hunterdon 24/7 Photo Capture and Show! Select a 24 hour period between November 16 and November 30 to capture images throughout Hunterdon County. The photo capture culminates in a projected art show on Friday\, December 6 at 6pm outside of Flemington DIY. \nThis creative challenge will get you outside\, give you a chance to hone your photographic skills and join in on guided photo walks and workshops with local photographers. \nImages should be uploaded by Nov. 30!  \nLEARN MORE: FLEMINGTONDIY.ORG/PHOTO
URL:https://www.flemingtondiy.org/event/24-7-photo-capture/
END:VEVENT
BEGIN:VEVENT
DTSTART;TZID=America/New_York:20241121T110000
DTEND;TZID=America/New_York:20241121T130000
DTSTAMP:20260424T215148
CREATED:20240903T235101Z
LAST-MODIFIED:20241120T233559Z
UID:10002481-1732186800-1732194000@www.flemingtondiy.org
SUMMARY:Embroidery 101
DESCRIPTION:Learn the art of embroidery in this step-by-step workshop. Participants will learn all the basics; from how to transfer a design to a diversity of stitches\, as well as how to split the thread and thread a needle with ease. This workshop is both a great way to start your journey into the world of embroidery in addition to reviewing some basics of the craft form. All skill levels are welcome. \n$35 for the class with a $10 material fee the day ofRegister @ www.flemingtondiy.org/embroidery/
URL:https://www.flemingtondiy.org/event/embroidery-101/
END:VEVENT
BEGIN:VEVENT
DTSTART;TZID=America/New_York:20241121T113000
DTEND;TZID=America/New_York:20241121T180000
DTSTAMP:20260424T215148
CREATED:20240723T235112Z
LAST-MODIFIED:20241120T233559Z
UID:10002439-1732188600-1732212000@www.flemingtondiy.org
SUMMARY:Open Hours
DESCRIPTION:Visit the space\, see our current art shows\, hang out\, and learn how to get involved!
URL:https://www.flemingtondiy.org/event/open-hours-104/
END:VEVENT
BEGIN:VEVENT
DTSTART;TZID=America/New_York:20241121T133000
DTEND;TZID=America/New_York:20241121T153000
DTSTAMP:20260424T215148
CREATED:20240903T235101Z
LAST-MODIFIED:20241120T233559Z
UID:10002482-1732195800-1732203000@www.flemingtondiy.org
SUMMARY:Intermediate Embroidery
DESCRIPTION:If you’re ready to take your embroidery to the next level\, we are going to learn more stitches and skills to apply to our work. Admirers will never believe how easy and fun it was to learn these stitches and create such masterful work. We will learn two fill stitches\, the satin stitch and the brick stitch\, to fill in areas of color. We will also learn how to blend two shades of color together. Prerequisite skills are required. \n$35 for the class with a $10 material fee the day ofRegister @ www.flemingtondiy.org/embroidery/
URL:https://www.flemingtondiy.org/event/intermediate-embroidery/
END:VEVENT
BEGIN:VEVENT
DTSTART;TZID=America/New_York:20241121T160000
DTEND;TZID=America/New_York:20241121T180000
DTSTAMP:20260424T215148
CREATED:20241018T235020Z
LAST-MODIFIED:20241120T233600Z
UID:10002648-1732204800-1732212000@www.flemingtondiy.org
SUMMARY:Aunt Mary’s Expungement Table
DESCRIPTION:Introducing Aunt Mary’s Expungement Table – your one-stop solution for clearing past mistakes and starting fresh. Whether it’s an old conviction or an outdated record holding you back\, Aunt Mary’s expert team is here to guide you through the legal process of expungement with care and efficiency. With personalized support\, easy-to-follow steps\, and a deep understanding of state laws\, Aunt Mary’s Expungement Table helps you reclaim your future. Don’t let your past define you – take the first step towards a clean slate today! Clear your record\, reclaim your life.
URL:https://www.flemingtondiy.org/event/aunt-marys-expungement-table-2/
END:VEVENT
BEGIN:VEVENT
DTSTART;TZID=America/New_York:20241121T180000
DTEND;TZID=America/New_York:20241121T200000
DTSTAMP:20260424T215148
CREATED:20240708T233553Z
LAST-MODIFIED:20241121T233523Z
UID:10002410-1732212000-1732219200@www.flemingtondiy.org
SUMMARY:Mural Battle: Battle of the Walls
DESCRIPTION:Mural Battle: Battle of the Walls This neighborly competition invites two artists to duke it out with pens and markers\, for a two hour art-making extravaganza. Our host\, OurNaturalState\, will choose a theme\, and YOU (the artist)\, will create something\, anything\, you think portrays that theme in your OWN style.  \nWinners get their art placed in a highly trafficked area in Flemington\, as well as a “bio post”\, and other social shout outs to bathe them in their winner’s glory. \nJoin us every 3rd Thursday during Sip and Stroll on Stangl Rd in Flemington from July to December for some art\, community and fun. \nThe first battle begins July 18th 2024 from 6-8 just outside of Flemington DIY. \nFor more info or to get involved please contact:@OurNaturalState on IGORournaturalstateofbeing@gmail.com
URL:https://www.flemingtondiy.org/event/mural-battle-battle-of-the-walls-5/
END:VEVENT
BEGIN:VEVENT
DTSTART;TZID=America/New_York:20241121T190000
DTEND;TZID=America/New_York:20241121T210000
DTSTAMP:20260424T215148
CREATED:20231103T010518Z
LAST-MODIFIED:20241121T233523Z
UID:10001720-1732215600-1732222800@www.flemingtondiy.org
SUMMARY:Monthly Open Bluegrass Jam Session
DESCRIPTION:All players welcome! beginner to pro\nBring your instrument\, a couple of tunes\,\nsome friends and your own refreshments\nFreewill basket to support DIY $5 suggested\nDIY Is open to all ages –strictly no alcohol
URL:https://www.flemingtondiy.org/event/monthly-open-bluegrass-jam-session-20/
END:VEVENT
END:VCALENDAR