BEGIN:VCALENDAR
VERSION:2.0
PRODID:-//Flemington DIY - ECPv6.15.20//NONSGML v1.0//EN
CALSCALE:GREGORIAN
METHOD:PUBLISH
X-ORIGINAL-URL:https://www.flemingtondiy.org
X-WR-CALDESC:Events for Flemington DIY
REFRESH-INTERVAL;VALUE=DURATION:PT1H
X-Robots-Tag:noindex
X-PUBLISHED-TTL:PT1H
BEGIN:VTIMEZONE
TZID:America/New_York
BEGIN:DAYLIGHT
TZOFFSETFROM:-0500
TZOFFSETTO:-0400
TZNAME:EDT
DTSTART:20230312T070000
END:DAYLIGHT
BEGIN:STANDARD
TZOFFSETFROM:-0400
TZOFFSETTO:-0500
TZNAME:EST
DTSTART:20231105T060000
END:STANDARD
BEGIN:DAYLIGHT
TZOFFSETFROM:-0500
TZOFFSETTO:-0400
TZNAME:EDT
DTSTART:20240310T070000
END:DAYLIGHT
BEGIN:STANDARD
TZOFFSETFROM:-0400
TZOFFSETTO:-0500
TZNAME:EST
DTSTART:20241103T060000
END:STANDARD
BEGIN:DAYLIGHT
TZOFFSETFROM:-0500
TZOFFSETTO:-0400
TZNAME:EDT
DTSTART:20250309T070000
END:DAYLIGHT
BEGIN:STANDARD
TZOFFSETFROM:-0400
TZOFFSETTO:-0500
TZNAME:EST
DTSTART:20251102T060000
END:STANDARD
END:VTIMEZONE
BEGIN:VEVENT
DTSTART;VALUE=DATE:20241116
DTEND;VALUE=DATE:20241201
DTSTAMP:20260424T215142
CREATED:20241026T235023Z
LAST-MODIFIED:20241129T235451Z
UID:10002666-1731715200-1733011199@www.flemingtondiy.org
SUMMARY:24/7 Photo Capture
DESCRIPTION:Now is the time to register for the Hunterdon 24/7 Photo Capture and Show! Select a 24 hour period between November 16 and November 30 to capture images throughout Hunterdon County. The photo capture culminates in a projected art show on Friday\, December 6 at 6pm outside of Flemington DIY. \nThis creative challenge will get you outside\, give you a chance to hone your photographic skills and join in on guided photo walks and workshops with local photographers. \nImages should be uploaded by Nov. 30!  \nLEARN MORE: FLEMINGTONDIY.ORG/PHOTO
URL:https://www.flemingtondiy.org/event/24-7-photo-capture/
END:VEVENT
BEGIN:VEVENT
DTSTART;TZID=America/New_York:20241120T094500
DTEND;TZID=America/New_York:20241120T120000
DTSTAMP:20260424T215142
CREATED:20241010T233544Z
LAST-MODIFIED:20241119T233606Z
UID:10002644-1732095900-1732104000@www.flemingtondiy.org
SUMMARY:Music Together
DESCRIPTION:Every week in our music classes at Music Together Flemington\, babies\, toddlers\, preschoolers\, and the grownups who love them come together for a time of musical play. Little ones love playing along in class\, and caregivers love being a part of their children’s growth into confident music-makers. And everyone loves our songs that’ll have you tapping along in no time \nLearn more and enroll today: https://www.musictogetherflemington.com/
URL:https://www.flemingtondiy.org/event/music-together-305/
END:VEVENT
BEGIN:VEVENT
DTSTART;TZID=America/New_York:20241120T193000
DTEND;TZID=America/New_York:20241120T213000
DTSTAMP:20260424T215142
CREATED:20240928T233622Z
LAST-MODIFIED:20241120T233559Z
UID:10002577-1732131000-1732138200@www.flemingtondiy.org
SUMMARY:Poetry Open Mic
DESCRIPTION:show up & sign up\ndonations at the door\nall ages
URL:https://www.flemingtondiy.org/event/poetry-open-mic-15/
END:VEVENT
END:VCALENDAR