BEGIN:VCALENDAR
VERSION:2.0
PRODID:-//Flemington DIY - ECPv6.15.20//NONSGML v1.0//EN
CALSCALE:GREGORIAN
METHOD:PUBLISH
X-WR-CALNAME:Flemington DIY
X-ORIGINAL-URL:https://www.flemingtondiy.org
X-WR-CALDESC:Events for Flemington DIY
REFRESH-INTERVAL;VALUE=DURATION:PT1H
X-Robots-Tag:noindex
X-PUBLISHED-TTL:PT1H
BEGIN:VTIMEZONE
TZID:America/New_York
BEGIN:DAYLIGHT
TZOFFSETFROM:-0500
TZOFFSETTO:-0400
TZNAME:EDT
DTSTART:20230312T070000
END:DAYLIGHT
BEGIN:STANDARD
TZOFFSETFROM:-0400
TZOFFSETTO:-0500
TZNAME:EST
DTSTART:20231105T060000
END:STANDARD
BEGIN:DAYLIGHT
TZOFFSETFROM:-0500
TZOFFSETTO:-0400
TZNAME:EDT
DTSTART:20240310T070000
END:DAYLIGHT
BEGIN:STANDARD
TZOFFSETFROM:-0400
TZOFFSETTO:-0500
TZNAME:EST
DTSTART:20241103T060000
END:STANDARD
BEGIN:DAYLIGHT
TZOFFSETFROM:-0500
TZOFFSETTO:-0400
TZNAME:EDT
DTSTART:20250309T070000
END:DAYLIGHT
BEGIN:STANDARD
TZOFFSETFROM:-0400
TZOFFSETTO:-0500
TZNAME:EST
DTSTART:20251102T060000
END:STANDARD
END:VTIMEZONE
BEGIN:VEVENT
DTSTART;VALUE=DATE:20241116
DTEND;VALUE=DATE:20241201
DTSTAMP:20260424T215146
CREATED:20241026T235023Z
LAST-MODIFIED:20241129T235451Z
UID:10002666-1731715200-1733011199@www.flemingtondiy.org
SUMMARY:24/7 Photo Capture
DESCRIPTION:Now is the time to register for the Hunterdon 24/7 Photo Capture and Show! Select a 24 hour period between November 16 and November 30 to capture images throughout Hunterdon County. The photo capture culminates in a projected art show on Friday\, December 6 at 6pm outside of Flemington DIY. \nThis creative challenge will get you outside\, give you a chance to hone your photographic skills and join in on guided photo walks and workshops with local photographers. \nImages should be uploaded by Nov. 30!  \nLEARN MORE: FLEMINGTONDIY.ORG/PHOTO
URL:https://www.flemingtondiy.org/event/24-7-photo-capture/
END:VEVENT
BEGIN:VEVENT
DTSTART;TZID=America/New_York:20241116T090000
DTEND;TZID=America/New_York:20241116T110000
DTSTAMP:20260424T215146
CREATED:20240905T233722Z
LAST-MODIFIED:20241115T235006Z
UID:10002531-1731747600-1731754800@www.flemingtondiy.org
SUMMARY:Music Together
DESCRIPTION:Every week in our music classes at Music Together Flemington\, babies\, toddlers\, preschoolers\, and the grownups who love them come together for a time of musical play. Little ones love playing along in class\, and caregivers love being a part of their children’s growth into confident music-makers. And everyone loves our songs that’ll have you tapping along in no time \nLearn more and enroll today: https://www.musictogetherflemington.com/
URL:https://www.flemingtondiy.org/event/music-together-297/
END:VEVENT
BEGIN:VEVENT
DTSTART;TZID=America/New_York:20241116T193000
DTEND;TZID=America/New_York:20241116T213000
DTSTAMP:20260424T215146
CREATED:20240928T233618Z
LAST-MODIFIED:20241116T235043Z
UID:10002576-1731785400-1731792600@www.flemingtondiy.org
SUMMARY:Sassy & Classy Women's Comedy Showcase
DESCRIPTION:The ladies of our monthly comedy open mic will be hosting their first showcase! After months of practicing\, it’s time to put those talents to the test. Come join these Sirens of Sass as they share some Classy (but not always clean) comedy!  \nComedy sets by Megan Henninger\, Carolynn Mincin\, Devon Kay\, Kara Morillo\, Charlyn Magat\, Elaine Walsh\, and Sunny Moran \nTickets $15 adv/$18 doorwww.flemingtondiy.org/sassy
URL:https://www.flemingtondiy.org/event/sassy-classy-womens-comedy-showcase/
END:VEVENT
END:VCALENDAR