BEGIN:VCALENDAR
VERSION:2.0
PRODID:-//Flemington DIY - ECPv6.15.20//NONSGML v1.0//EN
CALSCALE:GREGORIAN
METHOD:PUBLISH
X-ORIGINAL-URL:https://www.flemingtondiy.org
X-WR-CALDESC:Events for Flemington DIY
REFRESH-INTERVAL;VALUE=DURATION:PT1H
X-Robots-Tag:noindex
X-PUBLISHED-TTL:PT1H
BEGIN:VTIMEZONE
TZID:America/New_York
BEGIN:DAYLIGHT
TZOFFSETFROM:-0500
TZOFFSETTO:-0400
TZNAME:EDT
DTSTART:20230312T070000
END:DAYLIGHT
BEGIN:STANDARD
TZOFFSETFROM:-0400
TZOFFSETTO:-0500
TZNAME:EST
DTSTART:20231105T060000
END:STANDARD
BEGIN:DAYLIGHT
TZOFFSETFROM:-0500
TZOFFSETTO:-0400
TZNAME:EDT
DTSTART:20240310T070000
END:DAYLIGHT
BEGIN:STANDARD
TZOFFSETFROM:-0400
TZOFFSETTO:-0500
TZNAME:EST
DTSTART:20241103T060000
END:STANDARD
BEGIN:DAYLIGHT
TZOFFSETFROM:-0500
TZOFFSETTO:-0400
TZNAME:EDT
DTSTART:20250309T070000
END:DAYLIGHT
BEGIN:STANDARD
TZOFFSETFROM:-0400
TZOFFSETTO:-0500
TZNAME:EST
DTSTART:20251102T060000
END:STANDARD
END:VTIMEZONE
BEGIN:VEVENT
DTSTART;TZID=America/New_York:20241109T090000
DTEND;TZID=America/New_York:20241109T110000
DTSTAMP:20260424T215224
CREATED:20240905T233718Z
LAST-MODIFIED:20241108T235051Z
UID:10002525-1731142800-1731150000@www.flemingtondiy.org
SUMMARY:Music Together
DESCRIPTION:Every week in our music classes at Music Together Flemington\, babies\, toddlers\, preschoolers\, and the grownups who love them come together for a time of musical play. Little ones love playing along in class\, and caregivers love being a part of their children’s growth into confident music-makers. And everyone loves our songs that’ll have you tapping along in no time \nLearn more and enroll today: https://www.musictogetherflemington.com/
URL:https://www.flemingtondiy.org/event/music-together-292/
END:VEVENT
BEGIN:VEVENT
DTSTART;TZID=America/New_York:20241109T120000
DTEND;TZID=America/New_York:20241109T173000
DTSTAMP:20260424T215224
CREATED:20241008T235019Z
LAST-MODIFIED:20241108T235051Z
UID:10002638-1731153600-1731173400@www.flemingtondiy.org
SUMMARY:The Art of Tea - An Offering in Two Parts
DESCRIPTION:The Art of Tea\nAn offering in two parts with Simon Keller\nNovember 9\, 2024\, 12-5:30pm\, $50pp\nWorkshop includes all materials\, firing\, and delivery to DIY\nParticipate in a tea ceremony and make your own tea bowl to be fired then delivered to DIY for pick up at a later time. Limited to 7 participants! Community members may join as an audience member at no cost.\nInfo and RSVP: www.flemingtondiy.org/tea
URL:https://www.flemingtondiy.org/event/the-art-of-tea-an-offering-in-two-parts/
END:VEVENT
BEGIN:VEVENT
DTSTART;TZID=America/New_York:20241109T193000
DTEND;TZID=America/New_York:20241109T233000
DTSTAMP:20260424T215224
CREATED:20240910T233612Z
LAST-MODIFIED:20241109T235051Z
UID:10002544-1731180600-1731195000@www.flemingtondiy.org
SUMMARY:Live Jazz: Peter Lin Quartet
DESCRIPTION:Peter Lin (trombone)\, Tomoko Ohno (piano)\, Mike Karn (bass)\, Jerome Jennings (drums) \nPeter Lin is a Taiwanese-American trombonist\, producer\, and educator based in New Jersey/New York City. Born in Baton Rouge\, Louisiana and raised in northern New Jersey\, he earned a jazz studies degree at the esteemed music programs of William Paterson University (undergraduate) and Rutgers University (graduate). Since then\, he has become an integral part of the music scene\, performing and sharing the stage with renowned artists including Slide Hampton\, Winard Harper\, Charli Persip\, Valerie Ponomarev\, JD Allen\, Jerry Weldon\, and Radam Schwartz. He has two albums as a leader under his name\, “With Respect’ and “New Age Old Ways”\, which has gained attention across the globe. He has an upcoming album with the AAPI Jazz Collective. \nValuing entrepreneurship\, Peter founded Yardbird Entertainment along with his partner Abel Mireles\, which has become a leading music production company. An advocate for AAPI representation in the arts\, he has produced the AAPI Jazz Fest for three consecutive years\, and manages the AAPI Jazz Collective. \nDoors 7:30pm\, Music 8pm. Tickets: $16 advance // $20 door // 15% off for Members!Tickets and info at www.flemingtondiy.org/jazz
URL:https://www.flemingtondiy.org/event/live-jazz-peter-lin-quartet/
END:VEVENT
END:VCALENDAR