BEGIN:VCALENDAR
VERSION:2.0
PRODID:-//Flemington DIY - ECPv6.15.20//NONSGML v1.0//EN
CALSCALE:GREGORIAN
METHOD:PUBLISH
X-ORIGINAL-URL:https://www.flemingtondiy.org
X-WR-CALDESC:Events for Flemington DIY
REFRESH-INTERVAL;VALUE=DURATION:PT1H
X-Robots-Tag:noindex
X-PUBLISHED-TTL:PT1H
BEGIN:VTIMEZONE
TZID:America/New_York
BEGIN:DAYLIGHT
TZOFFSETFROM:-0500
TZOFFSETTO:-0400
TZNAME:EDT
DTSTART:20230312T070000
END:DAYLIGHT
BEGIN:STANDARD
TZOFFSETFROM:-0400
TZOFFSETTO:-0500
TZNAME:EST
DTSTART:20231105T060000
END:STANDARD
BEGIN:DAYLIGHT
TZOFFSETFROM:-0500
TZOFFSETTO:-0400
TZNAME:EDT
DTSTART:20240310T070000
END:DAYLIGHT
BEGIN:STANDARD
TZOFFSETFROM:-0400
TZOFFSETTO:-0500
TZNAME:EST
DTSTART:20241103T060000
END:STANDARD
BEGIN:DAYLIGHT
TZOFFSETFROM:-0500
TZOFFSETTO:-0400
TZNAME:EDT
DTSTART:20250309T070000
END:DAYLIGHT
BEGIN:STANDARD
TZOFFSETFROM:-0400
TZOFFSETTO:-0500
TZNAME:EST
DTSTART:20251102T060000
END:STANDARD
END:VTIMEZONE
BEGIN:VEVENT
DTSTART;TZID=America/New_York:20241025T091500
DTEND;TZID=America/New_York:20241025T113000
DTSTAMP:20260424T233747
CREATED:20240929T233625Z
LAST-MODIFIED:20241024T233507Z
UID:10002619-1729847700-1729855800@www.flemingtondiy.org
SUMMARY:Music Together
DESCRIPTION:Every week in our music classes at Music Together Flemington\, babies\, toddlers\, preschoolers\, and the grownups who love them come together for a time of musical play. Little ones love playing along in class\, and caregivers love being a part of their children’s growth into confident music-makers. And everyone loves our songs that’ll have you tapping along in no time \nLearn more and enroll today: https://www.musictogetherflemington.com/
URL:https://www.flemingtondiy.org/event/music-together-265/
END:VEVENT
BEGIN:VEVENT
DTSTART;TZID=America/New_York:20241025T190000
DTEND;TZID=America/New_York:20241025T220000
DTSTAMP:20260424T233747
CREATED:20240917T233544Z
LAST-MODIFIED:20241025T233542Z
UID:10002562-1729882800-1729893600@www.flemingtondiy.org
SUMMARY:Live Music: New Orleans Trad Night
DESCRIPTION:Mardis Gras in October? Why not?  If you like “trad” New Orleans style jazz\, don’t miss this cool evening of hot jazz. Started by a Rutgers professor\, Marshalls Band has been entertaining New Jersey audiences for over 40 years. Its current roster includes four members who have played recently in New Orleans.  Marshall’s uses little or no amplification\, and plays on original instruments used 100 years ago. Written music is optional if used at all\, so every tune is a unique creation formed around the other musicians\, the audience and the mood.\n$12 adv / $15 door\nTickets @ flemingtondiy.org/trad
URL:https://www.flemingtondiy.org/event/live-music-new-orleans-trad-night/
END:VEVENT
END:VCALENDAR