BEGIN:VCALENDAR
VERSION:2.0
PRODID:-//Flemington DIY - ECPv6.15.20//NONSGML v1.0//EN
CALSCALE:GREGORIAN
METHOD:PUBLISH
X-WR-CALNAME:Flemington DIY
X-ORIGINAL-URL:https://www.flemingtondiy.org
X-WR-CALDESC:Events for Flemington DIY
REFRESH-INTERVAL;VALUE=DURATION:PT1H
X-Robots-Tag:noindex
X-PUBLISHED-TTL:PT1H
BEGIN:VTIMEZONE
TZID:America/New_York
BEGIN:DAYLIGHT
TZOFFSETFROM:-0500
TZOFFSETTO:-0400
TZNAME:EDT
DTSTART:20230312T070000
END:DAYLIGHT
BEGIN:STANDARD
TZOFFSETFROM:-0400
TZOFFSETTO:-0500
TZNAME:EST
DTSTART:20231105T060000
END:STANDARD
BEGIN:DAYLIGHT
TZOFFSETFROM:-0500
TZOFFSETTO:-0400
TZNAME:EDT
DTSTART:20240310T070000
END:DAYLIGHT
BEGIN:STANDARD
TZOFFSETFROM:-0400
TZOFFSETTO:-0500
TZNAME:EST
DTSTART:20241103T060000
END:STANDARD
BEGIN:DAYLIGHT
TZOFFSETFROM:-0500
TZOFFSETTO:-0400
TZNAME:EDT
DTSTART:20250309T070000
END:DAYLIGHT
BEGIN:STANDARD
TZOFFSETFROM:-0400
TZOFFSETTO:-0500
TZNAME:EST
DTSTART:20251102T060000
END:STANDARD
END:VTIMEZONE
BEGIN:VEVENT
DTSTART;TZID=America/New_York:20241001T091500
DTEND;TZID=America/New_York:20241001T113000
DTSTAMP:20260424T233752
CREATED:20240905T233701Z
LAST-MODIFIED:20240930T235056Z
UID:10002495-1727774100-1727782200@www.flemingtondiy.org
SUMMARY:Music Together
DESCRIPTION:Every week in our music classes at Music Together Flemington\, babies\, toddlers\, preschoolers\, and the grownups who love them come together for a time of musical play. Little ones love playing along in class\, and caregivers love being a part of their children’s growth into confident music-makers. And everyone loves our songs that’ll have you tapping along in no time \nLearn more and enroll today: https://www.musictogetherflemington.com/
URL:https://www.flemingtondiy.org/event/music-together-267/
END:VEVENT
BEGIN:VEVENT
DTSTART;TZID=America/New_York:20241001T113000
DTEND;TZID=America/New_York:20241001T180000
DTSTAMP:20260424T233753
CREATED:20240916T233511Z
LAST-MODIFIED:20240930T235056Z
UID:10002550-1727782200-1727805600@www.flemingtondiy.org
SUMMARY:Open Hours
DESCRIPTION:Visit the space\, see our current art shows\, hang out\, and learn how to get involved!
URL:https://www.flemingtondiy.org/event/open-hours-149/
END:VEVENT
BEGIN:VEVENT
DTSTART;TZID=America/New_York:20241001T173000
DTEND;TZID=America/New_York:20241001T190000
DTSTAMP:20260424T233753
CREATED:20240816T235023Z
LAST-MODIFIED:20240930T235056Z
UID:10002471-1727803800-1727809200@www.flemingtondiy.org
SUMMARY:Monthly Food Drive
DESCRIPTION:Did you know that Flemington has six Little Food Pantries (LFPs)? LFPs are small food pantries that allow community members in need to have open access to food\, water\, and hygiene items. These pantries depend on the support of donations from people like you! Come together with your community for a monthly food drive to stock four of the pantries. This drive will support the LFPs located at 10 New Jersey Avenue\, Flemington DIY (26 Stangl Road)\, Flemington Presbyterian (10 East Main Street)\, and Echelon Studio’s Personal Hygiene Pantry (27 Fulper Road). \nRecommended donations:Water bottlesDry goods like box mixes\, rice\, oatmeal\, etc.Granola and protein bars (without chocolate)Coffee and teaCrackersRamen and pot noodlesInstant soup packetsHygiene products (esp. menstrual hygiene products)Individual drink mix packetsShelf-stable milkPackaged or canned tuna and chickenCanned goods and can openersPeanut butter and jelly \nPlease no expired items\, open packages\, or frozen/refrigerated items. \nWant to get involved? Sign up here to volunteer! https://forms.gle/GY3tUPUXRWeBSLAz8Questions? Contact Jae at flemingtonqts@gmail.com.
URL:https://www.flemingtondiy.org/event/monthly-food-drive-2/
END:VEVENT
END:VCALENDAR