BEGIN:VCALENDAR
VERSION:2.0
PRODID:-//Flemington DIY - ECPv6.15.20//NONSGML v1.0//EN
CALSCALE:GREGORIAN
METHOD:PUBLISH
X-ORIGINAL-URL:https://www.flemingtondiy.org
X-WR-CALDESC:Events for Flemington DIY
REFRESH-INTERVAL;VALUE=DURATION:PT1H
X-Robots-Tag:noindex
X-PUBLISHED-TTL:PT1H
BEGIN:VTIMEZONE
TZID:America/New_York
BEGIN:DAYLIGHT
TZOFFSETFROM:-0500
TZOFFSETTO:-0400
TZNAME:EDT
DTSTART:20230312T070000
END:DAYLIGHT
BEGIN:STANDARD
TZOFFSETFROM:-0400
TZOFFSETTO:-0500
TZNAME:EST
DTSTART:20231105T060000
END:STANDARD
BEGIN:DAYLIGHT
TZOFFSETFROM:-0500
TZOFFSETTO:-0400
TZNAME:EDT
DTSTART:20240310T070000
END:DAYLIGHT
BEGIN:STANDARD
TZOFFSETFROM:-0400
TZOFFSETTO:-0500
TZNAME:EST
DTSTART:20241103T060000
END:STANDARD
BEGIN:DAYLIGHT
TZOFFSETFROM:-0500
TZOFFSETTO:-0400
TZNAME:EDT
DTSTART:20250309T070000
END:DAYLIGHT
BEGIN:STANDARD
TZOFFSETFROM:-0400
TZOFFSETTO:-0500
TZNAME:EST
DTSTART:20251102T060000
END:STANDARD
END:VTIMEZONE
BEGIN:VEVENT
DTSTART;TZID=America/New_York:20240727T090000
DTEND;TZID=America/New_York:20240727T120000
DTSTAMP:20260425T063533
CREATED:20240624T233514Z
LAST-MODIFIED:20240726T233546Z
UID:10002376-1722070800-1722081600@www.flemingtondiy.org
SUMMARY:Music Together
DESCRIPTION:Every week in our music classes at Music Together Flemington\, babies\, toddlers\, preschoolers\, and the grownups who love them come together for a time of musical play. Little ones love playing along in class\, and caregivers love being a part of their children’s growth into confident music-makers. And everyone loves our songs that’ll have you tapping along in no time \nLearn more and enroll today: https://www.musictogetherflemington.com/
URL:https://www.flemingtondiy.org/event/music-together-247/
END:VEVENT
BEGIN:VEVENT
DTSTART;TZID=America/New_York:20240727T190000
DTEND;TZID=America/New_York:20240727T220000
DTSTAMP:20260425T063533
CREATED:20240407T205144Z
LAST-MODIFIED:20240727T233600Z
UID:10002240-1722106800-1722117600@www.flemingtondiy.org
SUMMARY:Live Music
DESCRIPTION:One Neck Width \n(Philly death/Thrash Metal)\nKeefchamber\n(NJ Doom Sludge Stoner Black Metal)\nCHRISTPIPE\n(Reading/Philly Hardcore Punk/Thrash metal)\nGod Awful\n(Philly Hardcore Punk)\n$10 Donation\nAll Ages\nNo Drugs/Alcohol\nDoors at 6pm
URL:https://www.flemingtondiy.org/event/live-music-66/
END:VEVENT
END:VCALENDAR