BEGIN:VCALENDAR
VERSION:2.0
PRODID:-//Flemington DIY - ECPv6.15.20//NONSGML v1.0//EN
CALSCALE:GREGORIAN
METHOD:PUBLISH
X-ORIGINAL-URL:https://www.flemingtondiy.org
X-WR-CALDESC:Events for Flemington DIY
REFRESH-INTERVAL;VALUE=DURATION:PT1H
X-Robots-Tag:noindex
X-PUBLISHED-TTL:PT1H
BEGIN:VTIMEZONE
TZID:America/New_York
BEGIN:DAYLIGHT
TZOFFSETFROM:-0500
TZOFFSETTO:-0400
TZNAME:EDT
DTSTART:20230312T070000
END:DAYLIGHT
BEGIN:STANDARD
TZOFFSETFROM:-0400
TZOFFSETTO:-0500
TZNAME:EST
DTSTART:20231105T060000
END:STANDARD
BEGIN:DAYLIGHT
TZOFFSETFROM:-0500
TZOFFSETTO:-0400
TZNAME:EDT
DTSTART:20240310T070000
END:DAYLIGHT
BEGIN:STANDARD
TZOFFSETFROM:-0400
TZOFFSETTO:-0500
TZNAME:EST
DTSTART:20241103T060000
END:STANDARD
BEGIN:DAYLIGHT
TZOFFSETFROM:-0500
TZOFFSETTO:-0400
TZNAME:EDT
DTSTART:20250309T070000
END:DAYLIGHT
BEGIN:STANDARD
TZOFFSETFROM:-0400
TZOFFSETTO:-0500
TZNAME:EST
DTSTART:20251102T060000
END:STANDARD
END:VTIMEZONE
BEGIN:VEVENT
DTSTART;TZID=America/New_York:20240713T090000
DTEND;TZID=America/New_York:20240713T120000
DTSTAMP:20260425T063532
CREATED:20240624T233510Z
LAST-MODIFIED:20240712T235036Z
UID:10002370-1720861200-1720872000@www.flemingtondiy.org
SUMMARY:Music Together
DESCRIPTION:Every week in our music classes at Music Together Flemington\, babies\, toddlers\, preschoolers\, and the grownups who love them come together for a time of musical play. Little ones love playing along in class\, and caregivers love being a part of their children’s growth into confident music-makers. And everyone loves our songs that’ll have you tapping along in no time \nLearn more and enroll today: https://www.musictogetherflemington.com/
URL:https://www.flemingtondiy.org/event/music-together-241/
END:VEVENT
BEGIN:VEVENT
DTSTART;TZID=America/New_York:20240713T090000
DTEND;TZID=America/New_York:20240713T120000
DTSTAMP:20260425T063532
CREATED:20240710T235012Z
LAST-MODIFIED:20240712T235036Z
UID:10002412-1720861200-1720872000@www.flemingtondiy.org
SUMMARY:Music Together
DESCRIPTION:Sessions on July 13 will be held outside.\nEvery week in our music classes at Music Together Flemington\, babies\, toddlers\, preschoolers\, and the grownups who love them come together for a time of musical play. Little ones love playing along in class\, and caregivers love being a part of their children’s growth into confident music-makers. And everyone loves our songs that’ll have you tapping along in no time\nLearn more and enroll today: https://www.musictogetherflemington.com/
URL:https://www.flemingtondiy.org/event/music-together-255/
END:VEVENT
BEGIN:VEVENT
DTSTART;TZID=America/New_York:20240713T100000
DTEND;TZID=America/New_York:20240713T160000
DTSTAMP:20260425T063532
CREATED:20240607T233524Z
LAST-MODIFIED:20240712T235037Z
UID:10002354-1720864800-1720886400@www.flemingtondiy.org
SUMMARY:Intro to Stained Glass
DESCRIPTION:This Intro to Stained Glass workshop is for anyone interested in learning the art of stained glass. Each student will receive instruction on the basic design principles and learn how to create a stained glass piece from start to finish using the copper foil method. Choosing from a selection of patterns\, each student will work hands-on and leave the class with their very own stained glass creation at the end!\nLimited spots available!\nwww.flemingtondiy.org/glass
URL:https://www.flemingtondiy.org/event/intro-to-stained-glass/
END:VEVENT
BEGIN:VEVENT
DTSTART;TZID=America/New_York:20240713T190000
DTEND;TZID=America/New_York:20240713T210000
DTSTAMP:20260425T063532
CREATED:20240607T233525Z
LAST-MODIFIED:20240713T235039Z
UID:10002355-1720897200-1720904400@www.flemingtondiy.org
SUMMARY:This Is It? Art Show Opening Reception
DESCRIPTION:Some work by Michael Kays and Gabe Chiarello\nOpening Saturday\, July 13\, 7-9pm & on view through July \nThis Is It?
URL:https://www.flemingtondiy.org/event/this-is-it-art-show-opening-reception/
END:VEVENT
END:VCALENDAR