BEGIN:VCALENDAR
VERSION:2.0
PRODID:-//Flemington DIY - ECPv6.15.20//NONSGML v1.0//EN
CALSCALE:GREGORIAN
METHOD:PUBLISH
X-ORIGINAL-URL:https://www.flemingtondiy.org
X-WR-CALDESC:Events for Flemington DIY
REFRESH-INTERVAL;VALUE=DURATION:PT1H
X-Robots-Tag:noindex
X-PUBLISHED-TTL:PT1H
BEGIN:VTIMEZONE
TZID:America/New_York
BEGIN:DAYLIGHT
TZOFFSETFROM:-0500
TZOFFSETTO:-0400
TZNAME:EDT
DTSTART:20230312T070000
END:DAYLIGHT
BEGIN:STANDARD
TZOFFSETFROM:-0400
TZOFFSETTO:-0500
TZNAME:EST
DTSTART:20231105T060000
END:STANDARD
BEGIN:DAYLIGHT
TZOFFSETFROM:-0500
TZOFFSETTO:-0400
TZNAME:EDT
DTSTART:20240310T070000
END:DAYLIGHT
BEGIN:STANDARD
TZOFFSETFROM:-0400
TZOFFSETTO:-0500
TZNAME:EST
DTSTART:20241103T060000
END:STANDARD
BEGIN:DAYLIGHT
TZOFFSETFROM:-0500
TZOFFSETTO:-0400
TZNAME:EDT
DTSTART:20250309T070000
END:DAYLIGHT
BEGIN:STANDARD
TZOFFSETFROM:-0400
TZOFFSETTO:-0500
TZNAME:EST
DTSTART:20251102T060000
END:STANDARD
END:VTIMEZONE
BEGIN:VEVENT
DTSTART;TZID=America/New_York:20240711T083000
DTEND;TZID=America/New_York:20240711T153000
DTSTAMP:20260425T063534
CREATED:20240514T233521Z
LAST-MODIFIED:20240710T235042Z
UID:10002295-1720686600-1720711800@www.flemingtondiy.org
SUMMARY:Summer Art Club with Creative Whimsies
DESCRIPTION:Summer Art Clubs with Creative Whimsies \n \n\nLed by a certified teacher\nAll supplies included\nHelps support a nonprofit\nGet the kids out of the house!\nUnique and fun projects\n\nStarting at $25 per session. \n45-60 minute classes \nAt Flemington DIY\, 26 Stangl Road \n  \nLearn More \nhttps://www.cwhimsies.com/summer
URL:https://www.flemingtondiy.org/event/summer-art-club-with-creative-whimsies-6/
END:VEVENT
BEGIN:VEVENT
DTSTART;TZID=America/New_York:20240711T153000
DTEND;TZID=America/New_York:20240711T180000
DTSTAMP:20260425T063534
CREATED:20240520T235050Z
LAST-MODIFIED:20240710T235042Z
UID:10002321-1720711800-1720720800@www.flemingtondiy.org
SUMMARY:Open Hours
DESCRIPTION:Visit the space\, see our current art shows\, hang out\, and learn how to get involved!
URL:https://www.flemingtondiy.org/event/open-hours-128/
END:VEVENT
BEGIN:VEVENT
DTSTART;TZID=America/New_York:20240711T180000
DTEND;TZID=America/New_York:20240711T200000
DTSTAMP:20260425T063534
CREATED:20240515T233528Z
LAST-MODIFIED:20240711T235017Z
UID:10002312-1720720800-1720728000@www.flemingtondiy.org
SUMMARY:American Sign Language (ASL) Chat
DESCRIPTION:Come sign with us! Join us for an ASL Chat at Flemington DIY at 6pm. Deaf\, hard of hearing\, and hearing people who know or are learning American Sign Language (ASL) are welcome. Please note that this is a voice-off event so all are expected to use ASL to communicate.
URL:https://www.flemingtondiy.org/event/american-sign-language-asl-chat-15/
END:VEVENT
END:VCALENDAR