BEGIN:VCALENDAR
VERSION:2.0
PRODID:-//Flemington DIY - ECPv6.15.20//NONSGML v1.0//EN
CALSCALE:GREGORIAN
METHOD:PUBLISH
X-ORIGINAL-URL:https://www.flemingtondiy.org
X-WR-CALDESC:Events for Flemington DIY
REFRESH-INTERVAL;VALUE=DURATION:PT1H
X-Robots-Tag:noindex
X-PUBLISHED-TTL:PT1H
BEGIN:VTIMEZONE
TZID:America/New_York
BEGIN:DAYLIGHT
TZOFFSETFROM:-0500
TZOFFSETTO:-0400
TZNAME:EDT
DTSTART:20230312T070000
END:DAYLIGHT
BEGIN:STANDARD
TZOFFSETFROM:-0400
TZOFFSETTO:-0500
TZNAME:EST
DTSTART:20231105T060000
END:STANDARD
BEGIN:DAYLIGHT
TZOFFSETFROM:-0500
TZOFFSETTO:-0400
TZNAME:EDT
DTSTART:20240310T070000
END:DAYLIGHT
BEGIN:STANDARD
TZOFFSETFROM:-0400
TZOFFSETTO:-0500
TZNAME:EST
DTSTART:20241103T060000
END:STANDARD
BEGIN:DAYLIGHT
TZOFFSETFROM:-0500
TZOFFSETTO:-0400
TZNAME:EDT
DTSTART:20250309T070000
END:DAYLIGHT
BEGIN:STANDARD
TZOFFSETFROM:-0400
TZOFFSETTO:-0500
TZNAME:EST
DTSTART:20251102T060000
END:STANDARD
END:VTIMEZONE
BEGIN:VEVENT
DTSTART;TZID=America/New_York:20240611T100000
DTEND;TZID=America/New_York:20240611T153000
DTSTAMP:20260425T065835
CREATED:20240512T233635Z
LAST-MODIFIED:20240610T233550Z
UID:10002282-1718100000-1718119800@www.flemingtondiy.org
SUMMARY:Open Hours
DESCRIPTION:Visit the space\, see our current art show\, hang out\, and learn how to get involved!
URL:https://www.flemingtondiy.org/event/open-hours-121/
END:VEVENT
BEGIN:VEVENT
DTSTART;TZID=America/New_York:20240611T161500
DTEND;TZID=America/New_York:20240611T170000
DTSTAMP:20260425T065835
CREATED:20240223T161841Z
LAST-MODIFIED:20240610T233550Z
UID:10002125-1718122500-1718125200@www.flemingtondiy.org
SUMMARY:Youth Art Club
DESCRIPTION:Creative Whimsies is looking for kids grades 3-8 to join us for After School Art Enrichment classes taught by local artist & certified teacher\, Christine Brandt. \nKids will create unique projects\, and develop their creative thinking skills in a fun\, relaxed atmosphere outside of the school environment. \nLimited spots available! \nSign Up + More info: https://www.flemingtondiy.org/art-club/
URL:https://www.flemingtondiy.org/event/youth-art-club-26/
END:VEVENT
BEGIN:VEVENT
DTSTART;TZID=America/New_York:20240611T190000
DTEND;TZID=America/New_York:20240611T210000
DTSTAMP:20260425T065835
CREATED:20240103T045027Z
LAST-MODIFIED:20240611T233549Z
UID:10001994-1718132400-1718139600@www.flemingtondiy.org
SUMMARY:Songwriter Circle
DESCRIPTION:Hey\, songwriters: Do you have songs that are half finished? Lyrics you’re not entirely happy with? A songwriting circle is not a performance. It’s an opportunity to connect with other songwriters\, play your song idea for us – whether it’s fully formed or not – and receive gentle\, respectful\, and constructive feedback. All genres welcome! Please bring a few hard copies of your lyrics to share (they’ll be returned to you). We have a piano available. Donations at the door
URL:https://www.flemingtondiy.org/event/songwriter-circle-16/
END:VEVENT
END:VCALENDAR