BEGIN:VCALENDAR
VERSION:2.0
PRODID:-//Flemington DIY - ECPv6.15.20//NONSGML v1.0//EN
CALSCALE:GREGORIAN
METHOD:PUBLISH
X-WR-CALNAME:Flemington DIY
X-ORIGINAL-URL:https://www.flemingtondiy.org
X-WR-CALDESC:Events for Flemington DIY
REFRESH-INTERVAL;VALUE=DURATION:PT1H
X-Robots-Tag:noindex
X-PUBLISHED-TTL:PT1H
BEGIN:VTIMEZONE
TZID:America/New_York
BEGIN:DAYLIGHT
TZOFFSETFROM:-0500
TZOFFSETTO:-0400
TZNAME:EDT
DTSTART:20230312T070000
END:DAYLIGHT
BEGIN:STANDARD
TZOFFSETFROM:-0400
TZOFFSETTO:-0500
TZNAME:EST
DTSTART:20231105T060000
END:STANDARD
BEGIN:DAYLIGHT
TZOFFSETFROM:-0500
TZOFFSETTO:-0400
TZNAME:EDT
DTSTART:20240310T070000
END:DAYLIGHT
BEGIN:STANDARD
TZOFFSETFROM:-0400
TZOFFSETTO:-0500
TZNAME:EST
DTSTART:20241103T060000
END:STANDARD
BEGIN:DAYLIGHT
TZOFFSETFROM:-0500
TZOFFSETTO:-0400
TZNAME:EDT
DTSTART:20250309T070000
END:DAYLIGHT
BEGIN:STANDARD
TZOFFSETFROM:-0400
TZOFFSETTO:-0500
TZNAME:EST
DTSTART:20251102T060000
END:STANDARD
END:VTIMEZONE
BEGIN:VEVENT
DTSTART;TZID=America/New_York:20240607T091500
DTEND;TZID=America/New_York:20240607T113000
DTSTAMP:20260425T065842
CREATED:20240325T202121Z
LAST-MODIFIED:20240606T233547Z
UID:10002205-1717751700-1717759800@www.flemingtondiy.org
SUMMARY:Music Together
DESCRIPTION:Every week in our music classes at Music Together Flemington\, babies\, toddlers\, preschoolers\, and the grownups who love them come together for a time of musical play. Little ones love playing along in class\, and caregivers love being a part of their children’s growth into confident music-makers. And everyone loves our songs that’ll have you tapping along in no time \nLearn more and enroll today: https://www.musictogetherflemington.com/
URL:https://www.flemingtondiy.org/event/music-together-230/
END:VEVENT
BEGIN:VEVENT
DTSTART;TZID=America/New_York:20240607T150000
DTEND;TZID=America/New_York:20240607T180000
DTSTAMP:20260425T065842
CREATED:20240513T233513Z
LAST-MODIFIED:20240606T233548Z
UID:10002285-1717772400-1717783200@www.flemingtondiy.org
SUMMARY:QT Art Show Open Hours
DESCRIPTION:
URL:https://www.flemingtondiy.org/event/qt-art-show-open-hours-2/
END:VEVENT
BEGIN:VEVENT
DTSTART;TZID=America/New_York:20240607T190000
DTEND;TZID=America/New_York:20240607T220000
DTSTAMP:20260425T065842
CREATED:20240322T200515Z
LAST-MODIFIED:20240607T233537Z
UID:10002157-1717786800-1717797600@www.flemingtondiy.org
SUMMARY:Live Music
DESCRIPTION:Fed Ash\n(Hardcore punk)\nUnhinged\n(Grind/death metal)\nCathari\n(Noisecore)\nKeefchamber\n(Black Punk / Death)\nDisoviet\n(d-beat)\n$10 Donation\nDoors @ 6:30pm\nAll Ages\nNo Drugs/Alcohol
URL:https://www.flemingtondiy.org/event/live-music-61/
END:VEVENT
END:VCALENDAR