BEGIN:VCALENDAR
VERSION:2.0
PRODID:-//Flemington DIY - ECPv6.15.20//NONSGML v1.0//EN
CALSCALE:GREGORIAN
METHOD:PUBLISH
X-WR-CALNAME:Flemington DIY
X-ORIGINAL-URL:https://www.flemingtondiy.org
X-WR-CALDESC:Events for Flemington DIY
REFRESH-INTERVAL;VALUE=DURATION:PT1H
X-Robots-Tag:noindex
X-PUBLISHED-TTL:PT1H
BEGIN:VTIMEZONE
TZID:America/New_York
BEGIN:DAYLIGHT
TZOFFSETFROM:-0500
TZOFFSETTO:-0400
TZNAME:EDT
DTSTART:20230312T070000
END:DAYLIGHT
BEGIN:STANDARD
TZOFFSETFROM:-0400
TZOFFSETTO:-0500
TZNAME:EST
DTSTART:20231105T060000
END:STANDARD
BEGIN:DAYLIGHT
TZOFFSETFROM:-0500
TZOFFSETTO:-0400
TZNAME:EDT
DTSTART:20240310T070000
END:DAYLIGHT
BEGIN:STANDARD
TZOFFSETFROM:-0400
TZOFFSETTO:-0500
TZNAME:EST
DTSTART:20241103T060000
END:STANDARD
BEGIN:DAYLIGHT
TZOFFSETFROM:-0500
TZOFFSETTO:-0400
TZNAME:EDT
DTSTART:20250309T070000
END:DAYLIGHT
BEGIN:STANDARD
TZOFFSETFROM:-0400
TZOFFSETTO:-0500
TZNAME:EST
DTSTART:20251102T060000
END:STANDARD
END:VTIMEZONE
BEGIN:VEVENT
DTSTART;TZID=America/New_York:20240519T100000
DTEND;TZID=America/New_York:20240519T120000
DTSTAMP:20260425T101558
CREATED:20240408T210849Z
LAST-MODIFIED:20240518T233600Z
UID:10002241-1716112800-1716120000@www.flemingtondiy.org
SUMMARY:HC Mama's Resource Fair for Expecting Families
DESCRIPTION:If you’re a new or expecting parent this event was designed with you in mind 👶🏽\nWe’ve rounded up a dozen or more incredible local professionals who specialize in early parenthood and can help you navigate the unknown as you journey through this new beginning 🫶🏼\nThere will be light refreshments\, swag bags\, raffles\, and activity stations for you to enjoy all while you get to know other local families and engage with our vendors 🗣️\nSpread the word near and far\, we’re here to help you build your village 💗
URL:https://www.flemingtondiy.org/event/hc-mamas-resource-fair-for-expecting-families/
END:VEVENT
END:VCALENDAR